{"text_format":"1","workbook":"xlsx","n_sheets":16,"sheets":["Set Problem","L_SS","M_SS","Mt_SS","L_DS","M_DS","Direct Solution","A_gls","B_gls","perm xory","Indirect Solution","Indirect_LU","perm","New condition","New Direct Solution","New Indirect Solution"],"not_rendered":{"charts":0,"images":0,"macros":1,"external_links":0,"defined_names":0,"comments":0,"pivot_tables":0},"unopened":[],"bounds":{"document_bytes":16777216,"sheet_cells":100000,"rows_first":2000,"rows_last":500,"rows_between":2000,"halvings":0,"cell_chars":16384,"cell_head_chars":4096},"cells_cut":0,"cells_raw":0,"read":"whole","date_system":"1900"}

{"sheet":"Set Problem","index":0,"n_rows":126,"n_cols":28,"rows_kept":126,"cut":false,"hidden":false,"merged":[[4,25,4,26],[2,12,2,17],[1,2,1,23],[2,10,2,11],[2,25,2,26],[7,23,7,24],[7,19,7,21],[8,19,8,20],[7,1,7,3],[7,5,7,7],[8,1,8,2],[8,5,8,6],[8,10,8,11],[7,10,7,13],[7,15,7,17],[8,15,8,16]]}
[]
[null,null,"LIBEM2. The solution of two-dimensional Interior Laplace problems in Excel"]
[null,null,null,null,null,null,null,null,null,"by","Stephen Kirkup",null,"School of Engineering, University of Central Lancashire",null,null,null,null,null,null,null,null,null,null,null,null,"Guide"]
[null,null,null,null,null,null,null,null,null,"(version December 2024)"]
[null,null,null,null,null,null,null,null,null,null,null,null,null,null,null,null,null,null,null,null,null,null,null,null,null,"Source of this file",null,"www.spreadsheets.kirkup.info/LIBEM2 1.6.xlsm"]
[]
[]
[null,"Vertices",null,null,null,"Panels",null,null,null,null,"Boundary Condition",null,null,null,null,"Interior Points",null,null,null,"Incident field on S",null,null,null,"Incident field in D"]
[null,"Number of vertices",null,32,null,"Number of panels",null,32,null,null,"Number of panels",null,{"$f":"H9","v":32},null,null,"Number of points",null,5,null,"Number of panels",null,{"$f":"H9","v":32},null,"Number of points",{"$f":"R9","v":5}]
[null,"Index","x","y",null,"index","vertex 1","vertex 2",null,null,"index","alpha","beta","f",null,"index","x","y",null,"index","sphi","svel",null,"index","dphi"]
[null,1,0,0,null,1,1,2,null,null,{"$f":"IF(F11<>\"\",F11,\"\")","v":1},1,0,10,null,1,0.25,0.25,null,{"$f":"IF(F11<>\"\",F11,\"\")","v":1},0,0,null,{"$f":"IF(P11<>\"\",P11,\"\")","v":1},0]
[null,2,0,0.125,null,2,2,3,null,null,{"$f":"IF(F12<>\"\",F12,\"\")","v":2},1,0,10,null,2,0.75,0.25,null,{"$f":"IF(F12<>\"\",F12,\"\")","v":2},0,0,null,{"$f":"IF(P12<>\"\",P12,\"\")","v":2},0]
[null,3,0,0.25,null,3,3,4,null,null,3,1,0,10,null,3,0.25,0.75,null,3,0,0,null,{"$f":"IF(P13<>\"\",P13,\"\")","v":3},0]
[null,4,0,0.375,null,4,4,5,null,null,4,1,0,10,null,4,0.75,0.75,null,4,0,0,null,{"$f":"IF(P14<>\"\",P14,\"\")","v":4},0]
[null,5,0,0.5,null,5,5,6,null,null,5,1,0,10,null,5,0.5,0.5,null,5,0,0,null,{"$f":"IF(P15<>\"\",P15,\"\")","v":5},0]
[null,6,0,0.625,null,6,6,7,null,null,6,1,0,10,null,null,null,null,null,6,0,0]
[null,7,0,0.75,null,7,7,8,null,null,7,1,0,10,null,null,null,null,null,7,0,0]
[null,8,0,0.875,null,8,8,9,null,null,8,1,0,10,null,null,null,null,null,8,0,0]
[null,9,0,1,null,9,9,10,null,null,9,0,1,0,null,null,null,null,null,9,0,0]
[null,10,0.125,1,null,10,10,11,null,null,10,0,1,0,null,null,null,null,null,10,0,0]
[null,11,0.25,1,null,11,11,12,null,null,11,0,1,0,null,null,null,null,null,11,0,0]
[null,12,0.375,1,null,12,12,13,null,null,12,0,1,0,null,null,null,null,null,12,0,0]
[null,13,0.5,1,null,13,13,14,null,null,13,0,1,0,null,null,null,null,null,13,0,0]
[null,14,0.625,1,null,14,14,15,null,null,14,0,1,0,null,null,null,null,null,14,0,0]
[null,15,0.75,1,null,15,15,16,null,null,15,0,1,0,null,null,null,null,null,15,0,0]
[null,16,0.875,1,null,16,16,17,null,null,16,0,1,0,null,null,null,null,null,16,0,0]
[null,17,1,1,null,17,17,18,null,null,17,1,0,20,null,null,null,null,null,17,0,0]
[null,18,1,0.875,null,18,18,19,null,null,18,1,0,20,null,null,null,null,null,18,0,0]
[null,19,1,0.75,null,19,19,20,null,null,19,1,0,20,null,null,null,null,null,19,0,0]
[null,20,1,0.625,null,20,20,21,null,null,20,1,0,20,null,null,null,null,null,20,0,0]
[null,21,1,0.5,null,21,21,22,null,null,21,1,0,20,null,null,null,null,null,21,0,0]
[null,22,1,0.374999999999999,null,22,22,23,null,null,22,1,0,20,null,null,null,null,null,22,0,0]
[null,23,1,0.249999999999999,null,23,23,24,null,null,23,1,0,20,null,null,null,null,null,23,0,0]
[null,24,1,0.124999999999999,null,24,24,25,null,null,24,1,0,20,null,null,null,null,null,24,0,0]
[null,25,1,0,null,25,25,26,null,null,25,0,1,0,null,null,null,null,null,25,0,0]
[null,26,0.875,0,null,26,26,27,null,null,26,0,1,0,null,null,null,null,null,26,0,0]
[null,27,0.75,0,null,27,27,28,null,null,27,0,1,0,null,null,null,null,null,27,0,0]
[null,28,0.625,0,null,28,28,29,null,null,28,0,1,0,null,null,null,null,null,28,0,0]
[null,29,0.5,0,null,29,29,30,null,null,29,0,1,0,null,null,null,null,null,29,0,0]
[null,30,0.374999999999999,0,null,30,30,31,null,null,30,0,1,0,null,null,null,null,null,30,0,0]
[null,31,0.249999999999999,0,null,31,31,32,null,null,31,0,1,0,null,null,null,null,null,31,0,0]
[null,32,0.124999999999999,0,null,32,32,1,null,null,32,0,1,0,null,null,null,null,null,32,0,0]
[null,null,null,null,null,null,null,null,null,null,"",null,null,null,null,null,null,null,null,""]
[null,null,null,null,null,null,null,null,null,null,"",null,null,null,null,null,null,null,null,""]
[null,null,null,null,null,null,null,null,null,null,"",null,null,null,null,null,null,null,null,""]
[null,null,null,null,null,null,null,null,null,null,"",null,null,null,null,null,null,null,null,""]
[null,null,null,null,null,null,null,null,null,null,"",null,null,null,null,null,null,null,null,""]
[null,null,null,null,null,null,null,null,null,null,"",null,null,null,null,null,null,null,null,""]
[null,null,null,null,null,null,null,null,null,null,"",null,null,null,null,null,null,null,null,""]
[null,null,null,null,null,null,null,null,null,null,"",null,null,null,null,null,null,null,null,""]
[null,null,null,null,null,null,null,null,null,null,"",null,null,null,null,null,null,null,null,""]
[null,null,null,null,null,null,null,null,null,null,"",null,null,null,null,null,null,null,null,""]
[null,null,null,null,null,null,null,null,null,null,"",null,null,null,null,null,null,null,null,""]
[null,null,null,null,null,null,null,null,null,null,"",null,null,null,null,null,null,null,null,""]
[null,null,null,null,null,null,null,null,null,null,"",null,null,null,null,null,null,null,null,""]
[null,null,null,null,null,null,null,null,null,null,"",null,null,null,null,null,null,null,null,""]
[null,null,null,null,null,null,null,null,null,null,"",null,null,null,null,null,null,null,null,""]
[null,null,null,null,null,null,null,null,null,null,"",null,null,null,null,null,null,null,null,""]
[null,null,null,null,null,null,null,null,null,null,"",null,null,null,null,null,null,null,null,""]
[null,null,null,null,null,null,null,null,null,null,"",null,null,null,null,null,null,null,null,""]
[null,null,null,null,null,null,null,null,null,null,"",null,null,null,null,null,null,null,null,""]
[null,null,null,null,null,null,null,null,null,null,"",null,null,null,null,null,null,null,null,""]
[null,null,null,null,null,null,null,null,null,null,"",null,null,null,null,null,null,null,null,""]
[null,null,null,null,null,null,null,null,null,null,"",null,null,null,null,null,null,null,null,""]
[null,null,null,null,null,null,null,null,null,null,"",null,null,null,null,null,null,null,null,""]
[null,null,null,null,null,null,null,null,null,null,"",null,null,null,null,null,null,null,null,""]
[null,null,null,null,null,null,null,null,null,null,"",null,null,null,null,null,null,null,null,""]
[null,null,null,null,null,null,null,null,null,null,"",null,null,null,null,null,null,null,null,""]
[null,null,null,null,null,null,null,null,null,null,"",null,null,null,null,null,null,null,null,""]
[null,null,null,null,null,null,null,null,null,null,"",null,null,null,null,null,null,null,null,""]
[null,null,null,null,null,null,null,null,null,null,"",null,null,null,null,null,null,null,null,""]
[null,null,null,null,null,null,null,null,null,null,"",null,null,null,null,null,null,null,null,""]
[null,null,null,null,null,null,null,null,null,null,"",null,null,null,null,null,null,null,null,""]
[null,null,null,null,null,null,null,null,null,null,"",null,null,null,null,null,null,null,null,""]
[null,null,null,null,null,null,null,null,null,null,"",null,null,null,null,null,null,null,null,""]
[null,null,null,null,null,null,null,null,null,null,{"$f":"IF(F76<>\"\",F76,\"\")","v":""},null,null,null,null,null,null,null,null,{"$f":"IF(F76<>\"\",F76,\"\")","v":""}]
[null,null,null,null,null,null,null,null,null,null,"",null,null,null,null,null,null,null,null,""]
[null,null,null,null,null,null,null,null,null,null,"",null,null,null,null,null,null,null,null,""]
[null,null,null,null,null,null,null,null,null,null,"",null,null,null,null,null,null,null,null,""]
[null,null,null,null,null,null,null,null,null,null,"",null,null,null,null,null,null,null,null,""]
[null,null,null,null,null,null,null,null,null,null,"",null,null,null,null,null,null,null,null,""]
[null,null,null,null,null,null,null,null,null,null,"",null,null,null,null,null,null,null,null,""]
[null,null,null,null,null,null,null,null,null,null,"",null,null,null,null,null,null,null,null,""]
[null,null,null,null,null,null,null,null,null,null,"",null,null,null,null,null,null,null,null,""]
[null,null,null,null,null,null,null,null,null,null,"",null,null,null,null,null,null,null,null,""]
[null,null,null,null,null,null,null,null,null,null,"",null,null,null,null,null,null,null,null,""]
[null,null,null,null,null,null,null,null,null,null,"",null,null,null,null,null,null,null,null,""]
[null,null,null,null,null,null,null,null,null,null,"",null,null,null,null,null,null,null,null,""]
[null,null,null,null,null,null,null,null,null,null,"",null,null,null,null,null,null,null,null,""]
[null,null,null,null,null,null,null,null,null,null,"",null,null,null,null,null,null,null,null,""]
[null,null,null,null,null,null,null,null,null,null,"",null,null,null,null,null,null,null,null,""]
[null,null,null,null,null,null,null,null,null,null,"",null,null,null,null,null,null,null,null,""]
[null,null,null,null,null,null,null,null,null,null,"",null,null,null,null,null,null,null,null,""]
[null,null,null,null,null,null,null,null,null,null,"",null,null,null,null,null,null,null,null,""]
[null,null,null,null,null,null,null,null,null,null,"",null,null,null,null,null,null,null,null,""]
[null,null,null,null,null,null,null,null,null,null,"",null,null,null,null,null,null,null,null,""]
[null,null,null,null,null,null,null,null,null,null,"",null,null,null,null,null,null,null,null,""]
[null,null,null,null,null,null,null,null,null,null,"",null,null,null,null,null,null,null,null,""]
[null,null,null,null,null,null,null,null,null,null,"",null,null,null,null,null,null,null,null,""]
[null,null,null,null,null,null,null,null,null,null,"",null,null,null,null,null,null,null,null,""]
[null,null,null,null,null,null,null,null,null,null,"",null,null,null,null,null,null,null,null,""]
[null,null,null,null,null,null,null,null,null,null,"",null,null,null,null,null,null,null,null,""]
[null,null,null,null,null,null,null,null,null,null,"",null,null,null,null,null,null,null,null,""]
[null,null,null,null,null,null,null,null,null,null,"",null,null,null,null,null,null,null,null,""]
[null,null,null,null,null,null,null,null,null,null,"",null,null,null,null,null,null,null,null,""]
[null,null,null,null,null,null,null,null,null,null,"",null,null,null,null,null,null,null,null,""]
[null,null,null,null,null,null,null,null,null,null,"",null,null,null,null,null,null,null,null,""]
[null,null,null,null,null,null,null,null,null,null,"",null,null,null,null,null,null,null,null,""]
[null,null,null,null,null,null,null,null,null,null,"",null,null,null,null,null,null,null,null,""]
[null,null,null,null,null,null,null,null,null,null,"",null,null,null,null,null,null,null,null,""]
[null,null,null,null,null,null,null,null,null,null,"",null,null,null,null,null,null,null,null,""]
[null,null,null,null,null,null,null,null,null,null,"",null,null,null,null,null,null,null,null,""]
[null,null,null,null,null,null,null,null,null,null,"",null,null,null,null,null,null,null,null,""]
[null,null,null,null,null,null,null,null,null,null,"",null,null,null,null,null,null,null,null,""]
[null,null,null,null,null,null,null,null,null,null,"",null,null,null,null,null,null,null,null,""]
[null,null,null,null,null,null,null,null,null,null,"",null,null,null,null,null,null,null,null,""]
[null,null,null,null,null,null,null,null,null,null,"",null,null,null,null,null,null,null,null,""]
[null,null,null,null,null,null,null,null,null,null,"",null,null,null,null,null,null,null,null,""]
[null,null,null,null,null,null,null,null,null,null,"",null,null,null,null,null,null,null,null,""]
[null,null,null,null,null,null,null,null,null,null,"",null,null,null,null,null,null,null,null,""]
[null,null,null,null,null,null,null,null,null,null,"",null,null,null,null,null,null,null,null,""]
[null,null,null,null,null,null,null,null,null,null,"",null,null,null,null,null,null,null,null,""]
[null,null,null,null,null,null,null,null,null,null,"",null,null,null,null,null,null,null,null,""]
[null,null,null,null,null,null,null,null,null,null,"",null,null,null,null,null,null,null,null,""]
[null,null,null,null,null,null,null,null,null,null,"",null,null,null,null,null,null,null,null,""]
[null,null,null,null,null,null,null,null,null,null,null,null,null,null,null,null,null,null,null,""]

{"sheet":"L_SS","index":1,"n_rows":32,"n_cols":32,"rows_kept":32,"cut":false,"hidden":false,"merged":[]}
[7.5053267924649822E-2,4.2268972370350127E-2,2.7790688676669843E-2,1.9605859397973591E-2,1.3841777933988941E-2,9.3836823363092157E-3,5.7463270023424603E-3,2.6734655851962932E-3,1.2253185531399659E-3,8.8075041722214032E-4,2.2530679016778232E-4,-6.8369306094660505E-4,-1.7797588462277242E-3,-2.9995891167477729E-3,-4.2901640309046226E-3,-5.6109143345947207E-3,-5.6559996334041842E-3,-4.4416261475247873E-3,-3.2842027664430587E-3,-2.2258696470614453E-3,-1.3173679570554462E-3,-6.1379281494183032E-4,-1.6657048962124773E-4,-1.2936912397048784E-5,1.254401684110229E-3,4.0914760052526526E-3,7.3992143036710417E-3,1.1364036929000339E-2,1.6309287604578646E-2,2.2868778897076437E-2,3.2522514090032817E-2,4.8030881034831031E-2]
[4.2268972370350724E-2,7.5053267924649822E-2,4.2268972370350121E-2,2.7790688676669843E-2,1.9605859397973591E-2,1.3841777933988941E-2,9.3836823363092157E-3,5.7463270023424603E-3,4.0529261923279115E-3,3.5980212429596215E-3,2.7458622888795947E-3,1.589956659754266E-3,2.312321629857893E-4,-1.2423520582146494E-3,-2.764017301099402E-3,-4.287771798843403E-3,-4.4416261475247873E-3,-3.2842027664430587E-3,-2.2258696470614453E-3,-1.317367957055438E-3,-6.1379281494183791E-4,-1.6657048962124773E-4,-1.2936912397048887E-5,-1.6657048962125624E-4,9.0691003468163357E-4,3.6315092515251148E-3,6.7626420754401916E-3,1.0427972828445426E-2,1.4808336260051113E-2,2.0126944242917538E-2,2.6404773007911872E-2,3.1992334691106246E-2]
[2.7790688676670085E-2,4.2268972370350724E-2,7.5053267924649822E-2,4.2268972370350121E-2,2.7790688676669843E-2,1.9605859397973591E-2,1.3841777933988941E-2,9.3836823363092157E-3,7.3457487460266207E-3,6.7186939764488545E-3,5.5711091752366354E-3,4.0638856741199384E-3,2.3533120034127109E-3,5.5940983800341132E-4,-1.2385671792212124E-3,-2.9938282389324758E-3,-3.2842027664430587E-3,-2.2258696470614453E-3,-1.317367957055438E-3,-6.1379281494183498E-4,-1.6657048962125025E-4,-1.2936912397048887E-5,-1.6657048962125898E-4,-6.1379281494184648E-4,2.4652742790448313E-4,2.7712349845090958E-3,5.6009747387226975E-3,8.7872995741283249E-3,1.235996048439289E-2,1.6244889769819096E-2,2.0035183360746368E-2,2.2633322288896727E-2]
[1.9605859397973751E-2,2.7790688676670085E-2,4.2268972370350724E-2,7.5053267924649822E-2,4.2268972370350121E-2,2.7790688676669843E-2,1.9605859397973591E-2,1.3841777933988941E-2,1.1285136635113964E-2,1.0369027010718542E-2,8.7542493213266549E-3,6.7343096284476498E-3,4.5516055603403967E-3,2.3598127287860157E-3,2.4056919953252006E-4,-1.7695605616107404E-3,-2.2258696470614453E-3,-1.317367957055438E-3,-6.1379281494183498E-4,-1.6657048962124971E-4,-1.2936912397049683E-5,-1.6657048962125898E-4,-6.1379281494185287E-4,-1.3173679570554495E-3,-6.6814703755676066E-4,1.6067012611860458E-3,4.0804067620868207E-3,6.7468659387614309E-3,9.5512815836929655E-3,1.2330898352383447E-2,1.472948790260754E-2,1.6181958655920346E-2]
[1.3841777933989058E-2,1.9605859397973751E-2,2.7790688676670085E-2,4.2268972370350724E-2,7.5053267924649822E-2,4.2268972370350121E-2,2.7790688676669843E-2,1.9605859397973591E-2,1.6181958655920453E-2,1.4729487902607481E-2,1.2330898352383367E-2,9.5512815836928111E-3,6.7468659387613658E-3,4.0804067620867608E-3,1.6067012611859907E-3,-6.6814703755681141E-4,-1.317367957055438E-3,-6.1379281494183498E-4,-1.6657048962124971E-4,-1.293691239704958E-5,-1.6657048962125982E-4,-6.1379281494185287E-4,-1.3173679570554634E-3,-2.2258696470614536E-3,-1.7695605616106951E-3,2.4056919953256817E-4,2.359812728786066E-3,4.5516055603404479E-3,6.7343096284477608E-3,8.7542493213267122E-3,1.0369027010718582E-2,1.1285136635113886E-2]
[9.3836823363093111E-3,1.3841777933989058E-2,1.9605859397973751E-2,2.7790688676670085E-2,4.2268972370350724E-2,7.5053267924649822E-2,4.2268972370350121E-2,2.7790688676669843E-2,2.2633322288896869E-2,2.0035183360746268E-2,1.6244889769818971E-2,1.2359960484392687E-2,8.7872995741282451E-3,5.6009747387226264E-3,2.7712349845090338E-3,2.4652742790442735E-4,-6.1379281494183498E-4,-1.6657048962124971E-4,-1.293691239704958E-5,-1.6657048962125679E-4,-6.137928149418571E-4,-1.3173679570554634E-3,-2.2258696470614753E-3,-3.2842027664430631E-3,-2.9938282389324359E-3,-1.2385671792211708E-3,5.5940983800345327E-4,2.3533120034127525E-3,4.0638856741200156E-3,5.571109175236677E-3,6.7186939764488831E-3,7.3457487460265713E-3]
[5.7463270023425375E-3,9.3836823363093111E-3,1.3841777933989058E-2,1.9605859397973751E-2,2.7790688676670085E-2,4.2268972370350724E-2,7.5053267924649822E-2,4.2268972370350121E-2,3.1992334691106412E-2,2.6404773007911678E-2,2.0126944242917361E-2,1.4808336260050863E-2,1.0427972828445332E-2,6.7626420754401135E-3,3.6315092515250467E-3,9.0691003468157394E-4,-1.6657048962124971E-4,-1.293691239704958E-5,-1.6657048962125679E-4,-6.1379281494184864E-4,-1.3173679570554714E-3,-2.2258696470614753E-3,-3.2842027664430938E-3,-4.4416261475247847E-3,-4.2877717988433692E-3,-2.7640173010993669E-3,-1.2423520582146141E-3,2.3123216298582248E-4,1.5899566597543135E-3,2.7458622888796263E-3,3.5980212429596427E-3,4.0529261923278864E-3]
[2.6734655851963596E-3,5.7463270023425375E-3,9.3836823363093111E-3,1.3841777933989058E-2,1.9605859397973751E-2,2.7790688676670085E-2,4.2268972370350724E-2,7.5053267924649822E-2,4.8030881034831135E-2,3.2522514090032428E-2,2.286877889707619E-2,1.6309287604578362E-2,1.1364036929000237E-2,7.3992143036709567E-3,4.0914760052525815E-3,1.2544016841101672E-3,-1.293691239704958E-5,-1.6657048962125679E-4,-6.1379281494184864E-4,-1.3173679570554569E-3,-2.2258696470614887E-3,-3.2842027664430938E-3,-4.4416261475248246E-3,-5.655999633404173E-3,-5.6109143345946903E-3,-4.2901640309045913E-3,-2.9995891167477434E-3,-1.7797588462276968E-3,-6.8369306094658272E-4,2.2530679016780712E-4,8.8075041722215702E-4,1.2253185531399609E-3]
[1.254401684110229E-3,4.0914760052526526E-3,7.3992143036710417E-3,1.1364036929000341E-2,1.630928760457849E-2,2.2868778897076374E-2,3.252251409003272E-2,4.8030881034831344E-2,7.5053267924649822E-2,4.2268972370350127E-2,2.7790688676669843E-2,1.9605859397973591E-2,1.3841777933988941E-2,9.3836823363092157E-3,5.7463270023424603E-3,2.6734655851962932E-3,1.2253185531399659E-3,8.8075041722214032E-4,2.2530679016778232E-4,-6.8369306094660505E-4,-1.7797588462277441E-3,-2.9995891167477816E-3,-4.290164030904633E-3,-5.6109143345946817E-3,-5.6559996334041842E-3,-4.4416261475247873E-3,-3.2842027664430587E-3,-2.2258696470614453E-3,-1.3173679570554462E-3,-6.1379281494183032E-4,-1.6657048962124773E-4,-1.2936912397048784E-5]
[9.0691003468163357E-4,3.6315092515251152E-3,6.7626420754401916E-3,1.0427972828445426E-2,1.4808336260050974E-2,2.0126944242917492E-2,2.6404773007911823E-2,3.1992334691106482E-2,4.2268972370350724E-2,7.5053267924649822E-2,4.2268972370350121E-2,2.7790688676669843E-2,1.9605859397973591E-2,1.3841777933988941E-2,9.3836823363092157E-3,5.7463270023424603E-3,4.0529261923279115E-3,3.5980212429596215E-3,2.7458622888795947E-3,1.589956659754266E-3,2.31232162985785E-4,-1.2423520582146613E-3,-2.7640173010994138E-3,-4.2877717988433744E-3,-4.4416261475247873E-3,-3.2842027664430587E-3,-2.2258696470614453E-3,-1.317367957055438E-3,-6.1379281494183791E-4,-1.6657048962124773E-4,-1.2936912397048887E-5,-1.6657048962125624E-4]
[2.4652742790448313E-4,2.7712349845090958E-3,5.6009747387226975E-3,8.7872995741283249E-3,1.2359960484392777E-2,1.6244889769819065E-2,2.0035183360746341E-2,2.26333222888969E-2,2.7790688676670085E-2,4.2268972370350724E-2,7.5053267924649822E-2,4.2268972370350121E-2,2.7790688676669843E-2,1.9605859397973591E-2,1.3841777933988941E-2,9.3836823363092157E-3,7.3457487460266207E-3,6.7186939764488545E-3,5.5711091752366354E-3,4.0638856741199393E-3,2.3533120034127217E-3,5.5940983800339744E-4,-1.2385671792212271E-3,-2.993828238932458E-3,-3.2842027664430587E-3,-2.2258696470614453E-3,-1.317367957055438E-3,-6.1379281494183498E-4,-1.6657048962125025E-4,-1.2936912397048887E-5,-1.6657048962125898E-4,-6.1379281494184648E-4]
[-6.6814703755676066E-4,1.606701261186046E-3,4.0804067620868207E-3,6.7468659387614309E-3,9.551281583692877E-3,1.2330898352383428E-2,1.4729487902607528E-2,1.618195865592047E-2,1.9605859397973751E-2,2.7790688676670085E-2,4.2268972370350724E-2,7.5053267924649822E-2,4.2268972370350121E-2,2.7790688676669843E-2,1.9605859397973591E-2,1.3841777933988941E-2,1.1285136635113964E-2,1.0369027010718542E-2,8.7542493213266549E-3,6.7343096284476498E-3,4.5516055603404227E-3,2.3598127287859992E-3,2.4056919953250276E-4,-1.7695605616107344E-3,-2.2258696470614453E-3,-1.317367957055438E-3,-6.1379281494183498E-4,-1.6657048962124971E-4,-1.2936912397049683E-5,-1.6657048962125898E-4,-6.1379281494185287E-4,-1.3173679570554495E-3]
[-1.7695605616106951E-3,2.4056919953256839E-4,2.3598127287860664E-3,4.5516055603404479E-3,6.7343096284476992E-3,8.7542493213266983E-3,1.0369027010718571E-2,1.1285136635113975E-2,1.3841777933989058E-2,1.9605859397973751E-2,2.7790688676670085E-2,4.2268972370350724E-2,7.5053267924649822E-2,4.2268972370350121E-2,2.7790688676669843E-2,1.9605859397973591E-2,1.618195865592045E-2,1.4729487902607481E-2,1.2330898352383367E-2,9.5512815836928111E-3,6.7468659387614092E-3,4.0804067620867392E-3,1.6067012611859718E-3,-6.6814703755681455E-4,-1.317367957055438E-3,-6.1379281494183498E-4,-1.6657048962124971E-4,-1.293691239704958E-5,-1.6657048962125982E-4,-6.1379281494185287E-4,-1.3173679570554634E-3,-2.2258696470614536E-3]
[-2.9938282389324359E-3,-1.2385671792211706E-3,5.5940983800345327E-4,2.3533120034127525E-3,4.0638856741199766E-3,5.5711091752366666E-3,6.7186939764488762E-3,7.3457487460266285E-3,9.3836823363093111E-3,1.3841777933989058E-2,1.9605859397973751E-2,2.7790688676670085E-2,4.2268972370350724E-2,7.5053267924649822E-2,4.2268972370350121E-2,2.7790688676669843E-2,2.2633322288896869E-2,2.0035183360746268E-2,1.6244889769818971E-2,1.2359960484392687E-2,8.7872995741283006E-3,5.6009747387226029E-3,2.7712349845090117E-3,2.4652742790441705E-4,-6.1379281494183498E-4,-1.6657048962124971E-4,-1.293691239704958E-5,-1.6657048962125679E-4,-6.137928149418571E-4,-1.3173679570554634E-3,-2.2258696470614753E-3,-3.2842027664430631E-3]
[-4.2877717988433692E-3,-2.7640173010993665E-3,-1.2423520582146141E-3,2.3123216298582273E-4,1.5899566597542953E-3,2.7458622888796181E-3,3.5980212429596366E-3,4.0529261923279167E-3,5.7463270023425375E-3,9.3836823363093111E-3,1.3841777933989058E-2,1.9605859397973751E-2,2.7790688676670085E-2,4.2268972370350724E-2,7.5053267924649822E-2,4.2268972370350121E-2,3.1992334691106405E-2,2.6404773007911678E-2,2.0126944242917361E-2,1.4808336260050863E-2,1.0427972828445398E-2,6.7626420754400857E-3,3.6315092515250237E-3,9.069100346815567E-4,-1.6657048962124971E-4,-1.293691239704958E-5,-1.6657048962125679E-4,-6.1379281494184864E-4,-1.3173679570554714E-3,-2.2258696470614753E-3,-3.2842027664430938E-3,-4.4416261475247847E-3]
[-5.6109143345946903E-3,-4.2901640309045913E-3,-2.9995891167477434E-3,-1.7797588462276966E-3,-6.8369306094658163E-4,2.2530679016780067E-4,8.8075041722215214E-4,1.2253185531399696E-3,2.6734655851963596E-3,5.7463270023425375E-3,9.3836823363093111E-3,1.3841777933989058E-2,1.9605859397973751E-2,2.7790688676670085E-2,4.2268972370350724E-2,7.5053267924649822E-2,4.8030881034831135E-2,3.2522514090032428E-2,2.286877889707619E-2,1.6309287604578362E-2,1.136403692900031E-2,7.399214303670929E-3,4.0914760052525572E-3,1.2544016841101462E-3,-1.293691239704958E-5,-1.6657048962125679E-4,-6.1379281494184864E-4,-1.3173679570554569E-3,-2.2258696470614887E-3,-3.2842027664430938E-3,-4.4416261475248246E-3,-5.655999633404173E-3]
[-5.6559996334041842E-3,-4.4416261475247873E-3,-3.2842027664430587E-3,-2.2258696470614453E-3,-1.317367957055438E-3,-6.1379281494183498E-4,-1.6657048962124971E-4,-1.293691239704958E-5,1.254401684110229E-3,4.0914760052526526E-3,7.3992143036710417E-3,1.1364036929000341E-2,1.630928760457849E-2,2.2868778897076374E-2,3.252251409003272E-2,4.8030881034831344E-2,7.5053267924649822E-2,4.2268972370350121E-2,2.7790688676669843E-2,1.9605859397973591E-2,1.3841777933989028E-2,9.3836823363091845E-3,5.7463270023424343E-3,2.6734655851962602E-3,1.2253185531399659E-3,8.8075041722214032E-4,2.2530679016778232E-4,-6.8369306094660505E-4,-1.7797588462277441E-3,-2.9995891167477816E-3,-4.290164030904633E-3,-5.6109143345946817E-3]
[-4.4416261475247873E-3,-3.2842027664430587E-3,-2.2258696470614453E-3,-1.3173679570554378E-3,-6.1379281494183498E-4,-1.6657048962124971E-4,-1.293691239704958E-5,-1.6657048962125679E-4,9.0691003468163357E-4,3.6315092515251152E-3,6.7626420754401916E-3,1.0427972828445426E-2,1.4808336260050974E-2,2.0126944242917492E-2,2.6404773007911823E-2,3.1992334691106482E-2,4.2268972370350724E-2,7.5053267924649822E-2,4.2268972370350121E-2,2.7790688676669843E-2,1.9605859397973723E-2,1.38417779339889E-2,9.3836823363091845E-3,5.7463270023423996E-3,4.0529261923279115E-3,3.5980212429596215E-3,2.7458622888795947E-3,1.589956659754266E-3,2.31232162985785E-4,-1.2423520582146613E-3,-2.7640173010994138E-3,-4.2877717988433744E-3]
[-3.2842027664430587E-3,-2.2258696470614453E-3,-1.3173679570554378E-3,-6.1379281494183498E-4,-1.6657048962124971E-4,-1.293691239704958E-5,-1.6657048962125679E-4,-6.1379281494184864E-4,2.4652742790448313E-4,2.7712349845090958E-3,5.6009747387226975E-3,8.7872995741283249E-3,1.2359960484392777E-2,1.6244889769819065E-2,2.0035183360746341E-2,2.26333222888969E-2,2.7790688676670085E-2,4.2268972370350724E-2,7.5053267924649822E-2,4.2268972370350121E-2,2.7790688676670026E-2,1.9605859397973539E-2,1.38417779339889E-2,9.3836823363091255E-3,7.3457487460266207E-3,6.7186939764488545E-3,5.5711091752366354E-3,4.0638856741199393E-3,2.3533120034127217E-3,5.5940983800339744E-4,-1.2385671792212271E-3,-2.993828238932458E-3]
[-2.2258696470614453E-3,-1.3173679570554378E-3,-6.1379281494183498E-4,-1.6657048962124971E-4,-1.293691239704958E-5,-1.6657048962125679E-4,-6.1379281494184864E-4,-1.3173679570554569E-3,-6.6814703755676066E-4,1.606701261186046E-3,4.0804067620868207E-3,6.7468659387614309E-3,9.551281583692877E-3,1.2330898352383428E-2,1.4729487902607528E-2,1.618195865592047E-2,1.9605859397973751E-2,2.7790688676670085E-2,4.2268972370350724E-2,7.5053267924649822E-2,4.2268972370350391E-2,2.7790688676669756E-2,1.9605859397973539E-2,1.3841777933988808E-2,1.1285136635113964E-2,1.0369027010718542E-2,8.7542493213266549E-3,6.7343096284476498E-3,4.5516055603404227E-3,2.3598127287859992E-3,2.4056919953250276E-4,-1.7695605616107344E-3]
[-1.3173679570554356E-3,-6.1379281494183433E-4,-1.6657048962124822E-4,-1.293691239704958E-5,-1.6657048962125849E-4,-6.1379281494185092E-4,-1.3173679570554606E-3,-2.2258696470614718E-3,-1.7695605616106992E-3,2.4056919953256248E-4,2.3598127287860608E-3,4.5516055603404392E-3,6.7343096284476879E-3,8.7542493213266844E-3,1.0369027010718556E-2,1.1285136635113961E-2,1.3841777933989037E-2,1.9605859397973727E-2,2.7790688676670047E-2,4.2268972370350641E-2,7.5053267924650266E-2,4.2268972370350044E-2,2.7790688676669797E-2,1.9605859397973435E-2,1.6181958655920477E-2,1.4729487902607499E-2,1.2330898352383383E-2,9.5512815836928215E-3,6.746865938761417E-3,4.0804067620867461E-3,1.6067012611859772E-3,-6.6814703755681032E-4]
[-6.1379281494183032E-4,-1.6657048962124773E-4,-1.2936912397048887E-5,-1.6657048962125898E-4,-6.1379281494185287E-4,-1.3173679570554634E-3,-2.2258696470614753E-3,-3.2842027664430938E-3,-2.9938282389324459E-3,-1.2385671792211833E-3,5.5940983800343918E-4,2.3533120034127343E-3,4.0638856741199558E-3,5.5711091752366441E-3,6.7186939764488484E-3,7.3457487460266008E-3,9.3836823363092781E-3,1.3841777933989016E-2,1.9605859397973699E-2,2.7790688676670002E-2,4.2268972370350995E-2,7.5053267924649822E-2,4.2268972370350127E-2,2.7790688676669655E-2,2.2633322288896928E-2,2.0035183360746313E-2,1.6244889769819002E-2,1.2359960484392711E-2,8.7872995741283162E-3,5.6009747387226151E-3,2.7712349845090212E-3,2.465274279044228E-4]
[-1.6657048962124773E-4,-1.2936912397048887E-5,-1.6657048962125898E-4,-6.1379281494185287E-4,-1.3173679570554634E-3,-2.2258696470614753E-3,-3.2842027664430938E-3,-4.4416261475248246E-3,-4.2877717988433796E-3,-2.7640173010993786E-3,-1.2423520582146282E-3,2.3123216298580606E-4,1.5899566597542764E-3,2.7458622888795955E-3,3.5980212429596128E-3,4.0529261923278933E-3,5.7463270023425115E-3,9.3836823363092781E-3,1.3841777933989016E-2,1.9605859397973699E-2,2.7790688676670273E-2,4.2268972370350724E-2,7.5053267924649822E-2,4.2268972370349857E-2,3.1992334691106503E-2,2.6404773007911733E-2,2.0126944242917385E-2,1.4808336260050877E-2,1.042797282844541E-2,6.7626420754400935E-3,3.6315092515250284E-3,9.069100346815606E-4]
[-1.293691239704958E-5,-1.6657048962125849E-4,-6.1379281494185092E-4,-1.3173679570554606E-3,-2.2258696470614718E-3,-3.2842027664430886E-3,-4.4416261475248194E-3,-5.6559996334042172E-3,-5.6109143345946955E-3,-4.2901640309045991E-3,-2.999589116747749E-3,-1.7797588462277049E-3,-6.836930609465889E-4,2.253067901677917E-4,8.8075041722214238E-4,1.2253185531399598E-3,2.6734655851963491E-3,5.7463270023425262E-3,9.3836823363092955E-3,1.3841777933989037E-2,1.9605859397973911E-2,2.7790688676670127E-2,4.2268972370350821E-2,7.5053267924649378E-2,4.8030881034831233E-2,3.2522514090032442E-2,2.2868778897076197E-2,1.6309287604578365E-2,1.1364036929000312E-2,7.3992143036709307E-3,4.0914760052525581E-3,1.2544016841101475E-3]
[1.2253185531399659E-3,8.8075041722214032E-4,2.2530679016778232E-4,-6.8369306094660505E-4,-1.7797588462277242E-3,-2.9995891167477729E-3,-4.2901640309046226E-3,-5.6109143345947207E-3,-5.6559996334041842E-3,-4.4416261475247873E-3,-3.2842027664430587E-3,-2.2258696470614453E-3,-1.317367957055438E-3,-6.1379281494183498E-4,-1.6657048962124971E-4,-1.293691239704958E-5,1.254401684110229E-3,4.0914760052526526E-3,7.3992143036710417E-3,1.1364036929000339E-2,1.6309287604578646E-2,2.2868778897076437E-2,3.2522514090032817E-2,4.8030881034831031E-2,7.5053267924649822E-2,4.2268972370350121E-2,2.7790688676669843E-2,1.9605859397973591E-2,1.3841777933989028E-2,9.3836823363091845E-3,5.7463270023424343E-3,2.6734655851962602E-3]
[4.0529261923279115E-3,3.5980212429596215E-3,2.7458622888795947E-3,1.589956659754266E-3,2.312321629857893E-4,-1.2423520582146494E-3,-2.764017301099402E-3,-4.287771798843403E-3,-4.4416261475247873E-3,-3.2842027664430587E-3,-2.2258696470614453E-3,-1.3173679570554378E-3,-6.1379281494183498E-4,-1.6657048962124971E-4,-1.293691239704958E-5,-1.6657048962125679E-4,9.0691003468163357E-4,3.6315092515251148E-3,6.7626420754401916E-3,1.0427972828445426E-2,1.4808336260051113E-2,2.0126944242917538E-2,2.6404773007911872E-2,3.1992334691106246E-2,4.2268972370350724E-2,7.5053267924649822E-2,4.2268972370350121E-2,2.7790688676669843E-2,1.9605859397973723E-2,1.38417779339889E-2,9.3836823363091845E-3,5.7463270023423996E-3]
[7.3457487460266207E-3,6.7186939764488545E-3,5.5711091752366354E-3,4.0638856741199384E-3,2.3533120034127109E-3,5.5940983800341132E-4,-1.2385671792212124E-3,-2.9938282389324758E-3,-3.2842027664430587E-3,-2.2258696470614453E-3,-1.3173679570554378E-3,-6.1379281494183498E-4,-1.6657048962124971E-4,-1.293691239704958E-5,-1.6657048962125679E-4,-6.1379281494184864E-4,2.4652742790448313E-4,2.7712349845090958E-3,5.6009747387226975E-3,8.7872995741283249E-3,1.235996048439289E-2,1.6244889769819096E-2,2.0035183360746368E-2,2.2633322288896727E-2,2.7790688676670085E-2,4.2268972370350724E-2,7.5053267924649822E-2,4.2268972370350121E-2,2.7790688676670026E-2,1.9605859397973539E-2,1.38417779339889E-2,9.3836823363091255E-3]
[1.1285136635113964E-2,1.0369027010718542E-2,8.7542493213266549E-3,6.7343096284476498E-3,4.5516055603403967E-3,2.3598127287860157E-3,2.4056919953252006E-4,-1.7695605616107404E-3,-2.2258696470614453E-3,-1.3173679570554378E-3,-6.1379281494183498E-4,-1.6657048962124971E-4,-1.293691239704958E-5,-1.6657048962125679E-4,-6.1379281494184864E-4,-1.3173679570554569E-3,-6.6814703755676066E-4,1.6067012611860458E-3,4.0804067620868207E-3,6.7468659387614309E-3,9.5512815836929655E-3,1.2330898352383447E-2,1.472948790260754E-2,1.6181958655920346E-2,1.9605859397973751E-2,2.7790688676670085E-2,4.2268972370350724E-2,7.5053267924649822E-2,4.2268972370350391E-2,2.7790688676669756E-2,1.9605859397973539E-2,1.3841777933988808E-2]
[1.6181958655920477E-2,1.4729487902607499E-2,1.2330898352383383E-2,9.5512815836928215E-3,6.7468659387613763E-3,4.0804067620867661E-3,1.6067012611859965E-3,-6.6814703755680729E-4,-1.3173679570554356E-3,-6.1379281494183433E-4,-1.6657048962124822E-4,-1.293691239704958E-5,-1.6657048962125849E-4,-6.1379281494185092E-4,-1.3173679570554606E-3,-2.2258696470614718E-3,-1.7695605616106992E-3,2.4056919953256248E-4,2.3598127287860603E-3,4.5516055603404392E-3,6.7343096284477521E-3,8.7542493213267E-3,1.0369027010718568E-2,1.1285136635113872E-2,1.3841777933989037E-2,1.9605859397973727E-2,2.7790688676670047E-2,4.2268972370350641E-2,7.5053267924650266E-2,4.2268972370350044E-2,2.7790688676669797E-2,1.9605859397973435E-2]
[2.2633322288896928E-2,2.0035183360746313E-2,1.6244889769819002E-2,1.2359960484392711E-2,8.7872995741282607E-3,5.6009747387226394E-3,2.7712349845090416E-3,2.4652742790443445E-4,-6.1379281494183032E-4,-1.6657048962124773E-4,-1.2936912397048887E-5,-1.6657048962125898E-4,-6.1379281494185287E-4,-1.3173679570554634E-3,-2.2258696470614753E-3,-3.2842027664430938E-3,-2.9938282389324459E-3,-1.2385671792211833E-3,5.5940983800343918E-4,2.3533120034127343E-3,4.0638856741199948E-3,5.5711091752366554E-3,6.7186939764488562E-3,7.3457487460265418E-3,9.3836823363092781E-3,1.3841777933989016E-2,1.9605859397973699E-2,2.7790688676670002E-2,4.2268972370350995E-2,7.5053267924649822E-2,4.2268972370350127E-2,2.7790688676669655E-2]
[3.1992334691106503E-2,2.640477300791173E-2,2.0126944242917385E-2,1.4808336260050877E-2,1.0427972828445342E-2,6.7626420754401204E-3,3.6315092515250519E-3,9.0691003468157806E-4,-1.6657048962124773E-4,-1.2936912397048887E-5,-1.6657048962125898E-4,-6.1379281494185287E-4,-1.3173679570554634E-3,-2.2258696470614753E-3,-3.2842027664430938E-3,-4.4416261475248246E-3,-4.2877717988433796E-3,-2.7640173010993786E-3,-1.2423520582146284E-3,2.3123216298580584E-4,1.589956659754294E-3,2.7458622888796042E-3,3.5980212429596193E-3,4.0529261923278621E-3,5.7463270023425115E-3,9.3836823363092781E-3,1.3841777933989016E-2,1.9605859397973699E-2,2.7790688676670273E-2,4.2268972370350724E-2,7.5053267924649822E-2,4.2268972370349857E-2]
[4.8030881034831233E-2,3.2522514090032442E-2,2.2868778897076197E-2,1.6309287604578365E-2,1.1364036929000237E-2,7.3992143036709602E-3,4.0914760052525824E-3,1.2544016841101679E-3,-1.293691239704958E-5,-1.6657048962125849E-4,-6.1379281494185092E-4,-1.3173679570554606E-3,-2.2258696470614718E-3,-3.2842027664430886E-3,-4.4416261475248194E-3,-5.6559996334042172E-3,-5.6109143345946955E-3,-4.2901640309045991E-3,-2.999589116747749E-3,-1.7797588462277051E-3,-6.8369306094659128E-4,2.2530679016779818E-4,8.8075041722214726E-4,1.2253185531399509E-3,2.6734655851963491E-3,5.7463270023425262E-3,9.3836823363092955E-3,1.3841777933989037E-2,1.9605859397973911E-2,2.7790688676670127E-2,4.2268972370350821E-2,7.5053267924649378E-2]

{"sheet":"M_SS","index":2,"n_rows":32,"n_cols":34,"rows_kept":32,"cut":false,"hidden":false,"merged":[]}
[0,0,0,0,0,0,0,0,-2.1096231579428658E-2,-2.0379927248746894E-2,-1.9083311967269048E-2,-1.7419659581954218E-2,-1.5604390528135998E-2,-1.3804835355867186E-2,-1.2125715930637748E-2,-1.0618178546883397E-2,-1.1273696799381821E-2,-1.2737044162674585E-2,-1.4307692902441925E-2,-1.591215503371288E-2,-1.7431536373327589E-2,-1.8706581555857631E-2,-1.9564780281001264E-2,-1.9868524305548203E-2,-1.414673347160343E-3,-1.8834025298654614E-3,-2.6304206854828845E-3,-3.9289533650075596E-3,-6.4925162753466823E-3,-1.2705336833063569E-2,-3.4802243636567094E-2,-0.17620818647384029,null,{"$f":"SUM(A1:AF1)","v":-0.49999999529920292}]
[0,0,0,0,0,0,0,0,-2.4294895173773642E-2,-2.3212685295834215E-2,-2.1312254443840131E-2,-1.8978782437276579E-2,-1.6558582729391248E-2,-1.4279994245933132E-2,-1.2254740109171269E-2,-1.0514013103084675E-2,-1.2737044162674585E-2,-1.4307692902441925E-2,-1.591215503371288E-2,-1.7431536373327446E-2,-1.8706581555857773E-2,-1.9564780281001264E-2,-1.9868524305548363E-2,-1.9564780281001084E-2,-4.0975050023820533E-3,-5.3930177525420408E-3,-7.3972243501894139E-3,-1.0713336071087149E-2,-1.6691683215269457E-2,-2.8624573524361974E-2,-5.400009674495608E-2,-9.3583520905524034E-2]
[0,0,0,0,0,0,0,0,-2.8624573524360868E-2,-2.6884055703159982E-2,-2.3964869844634713E-2,-2.0602538108725546E-2,-1.7350876724979158E-2,-1.4488510877520559E-2,-1.2092279140648442E-2,-1.0135287776950122E-2,-1.4307692902441925E-2,-1.591215503371288E-2,-1.7431536373327446E-2,-1.870658155585762E-2,-1.9564780281001413E-2,-1.9868524305548363E-2,-1.956478028100124E-2,-1.8706581555857443E-2,-6.3883317272024351E-3,-8.2390024721896403E-3,-1.0958850636219731E-2,-1.5112033419465664E-2,-2.1667188567180116E-2,-3.2040612926803561E-2,-4.6828885465957787E-2,-6.0559470795443576E-2]
[0,0,0,0,0,0,0,0,-3.4802243636545022E-2,-3.1760225737308245E-2,-2.7021051531681328E-2,-2.2065199473870624E-2,-1.7720133798932124E-2,-1.4214763472151625E-2,-1.1485198260383325E-2,-9.3818686925489191E-3,-1.591215503371288E-2,-1.7431536373327446E-2,-1.870658155585762E-2,-1.9564780281001257E-2,-1.9868524305548523E-2,-1.956478028100124E-2,-1.8706581555857589E-2,-1.7431536373327269E-2,-8.1546484622841836E-3,-1.0253849962368621E-2,-1.3154397319531204E-2,-1.7205291575426079E-2,-2.2813278303580955E-2,-3.0156703744629015E-2,-3.8331903877846185E-2,-4.4292766391468577E-2]
[0,0,0,0,0,0,0,0,-4.4292766391468841E-2,-3.8331903877845956E-2,-3.0156703744628765E-2,-2.2813278303580591E-2,-1.7205291575425961E-2,-1.3154397319531124E-2,-1.0253849962368562E-2,-8.154648462284142E-3,-1.7431536373327446E-2,-1.870658155585762E-2,-1.9564780281001257E-2,-1.9868524305548363E-2,-1.9564780281001396E-2,-1.8706581555857589E-2,-1.7431536373327405E-2,-1.5912155033712714E-2,-9.3818686925489624E-3,-1.148519826038338E-2,-1.4214763472151695E-2,-1.7720133798932218E-2,-2.2065199473870926E-2,-2.7021051531681481E-2,-3.176022573730837E-2,-3.4802243636544793E-2]
[0,0,0,0,0,0,0,0,-6.0559470795443833E-2,-4.6828885465957308E-2,-3.2040612926803165E-2,-2.166718856717972E-2,-1.5112033419465544E-2,-1.0958850636219651E-2,-8.2390024721895883E-3,-6.3883317272023987E-3,-1.870658155585762E-2,-1.9564780281001257E-2,-1.9868524305548363E-2,-1.9564780281001243E-2,-1.8706581555857738E-2,-1.7431536373327405E-2,-1.5912155033712835E-2,-1.4307692902441769E-2,-1.0135287776950164E-2,-1.2092279140648492E-2,-1.4488510877520622E-2,-1.7350876724979231E-2,-2.0602538108725806E-2,-2.3964869844634813E-2,-2.6884055703160055E-2,-2.8624573524360663E-2]
[0,0,0,0,0,0,0,0,-9.3583520905524076E-2,-5.4000096744954984E-2,-2.8624573524361426E-2,-1.6691683215269093E-2,-1.0713336071087045E-2,-7.3972243501893549E-3,-5.3930177525420026E-3,-4.0975050023820282E-3,-1.9564780281001257E-2,-1.9868524305548363E-2,-1.9564780281001243E-2,-1.8706581555857596E-2,-1.7431536373327547E-2,-1.5912155033712835E-2,-1.4307692902441878E-2,-1.2737044162674441E-2,-1.0514013103084714E-2,-1.2254740109171314E-2,-1.4279994245933181E-2,-1.6558582729391303E-2,-1.8978782437276798E-2,-2.13122544438402E-2,-2.3212685295834264E-2,-2.4294895173773461E-2]
[0,0,0,0,0,0,0,0,-0.17620818647383901,-3.480224363656538E-2,-1.2705336833063224E-2,-6.4925162753465219E-3,-3.9289533650075171E-3,-2.6304206854828619E-3,-1.8834025298654475E-3,-1.4146733471603337E-3,-1.9868524305548363E-2,-1.9564780281001243E-2,-1.8706581555857596E-2,-1.7431536373327415E-2,-1.5912155033712971E-2,-1.4307692902441878E-2,-1.2737044162674536E-2,-1.1273696799381693E-2,-1.061817854688343E-2,-1.2125715930637783E-2,-1.3804835355867228E-2,-1.5604390528136036E-2,-1.7419659581954409E-2,-1.908331196726909E-2,-2.0379927248746928E-2,-2.1096231579428498E-2]
[-1.414673347160343E-3,-1.8834025298654614E-3,-2.6304206854828845E-3,-3.9289533650075596E-3,-6.492516275346613E-3,-1.2705336833063491E-2,-3.4802243636566733E-2,-0.17620818647384084,0,0,0,0,0,0,0,0,-2.1096231579428658E-2,-2.0379927248746894E-2,-1.9083311967269048E-2,-1.7419659581954218E-2,-1.5604390528136112E-2,-1.3804835355867174E-2,-1.2125715930637732E-2,-1.0618178546883305E-2,-1.1273696799381821E-2,-1.2737044162674585E-2,-1.4307692902441925E-2,-1.591215503371288E-2,-1.7431536373327589E-2,-1.8706581555857631E-2,-1.9564780281001264E-2,-1.9868524305548203E-2]
[-4.0975050023820533E-3,-5.3930177525420408E-3,-7.3972243501894139E-3,-1.0713336071087149E-2,-1.6691683215269294E-2,-2.8624573524361843E-2,-5.4000096744955803E-2,-9.3583520905524631E-2,0,0,0,0,0,0,0,0,-2.4294895173773642E-2,-2.3212685295834215E-2,-2.1312254443840131E-2,-1.8978782437276579E-2,-1.6558582729391369E-2,-1.4279994245933115E-2,-1.2254740109171257E-2,-1.0514013103084587E-2,-1.2737044162674585E-2,-1.4307692902441925E-2,-1.591215503371288E-2,-1.7431536373327446E-2,-1.8706581555857773E-2,-1.9564780281001264E-2,-1.9868524305548363E-2,-1.9564780281001084E-2]
[-6.3883317272024351E-3,-8.2390024721896403E-3,-1.0958850636219731E-2,-1.5112033419465664E-2,-2.1667188567179911E-2,-3.2040612926803456E-2,-4.6828885465957655E-2,-6.055947079544402E-2,0,0,0,0,0,0,0,0,-2.8624573524360868E-2,-2.6884055703159982E-2,-2.3964869844634713E-2,-2.0602538108725546E-2,-1.7350876724979286E-2,-1.4488510877520538E-2,-1.2092279140648423E-2,-1.0135287776950037E-2,-1.4307692902441925E-2,-1.591215503371288E-2,-1.7431536373327446E-2,-1.870658155585762E-2,-1.9564780281001413E-2,-1.9868524305548363E-2,-1.956478028100124E-2,-1.8706581555857443E-2]
[-8.1546484622841836E-3,-1.0253849962368621E-2,-1.3154397319531204E-2,-1.7205291575426079E-2,-2.2813278303580743E-2,-3.0156703744628949E-2,-3.833190387784613E-2,-4.4292766391468917E-2,0,0,0,0,0,0,0,0,-3.4802243636545022E-2,-3.1760225737308252E-2,-2.7021051531681328E-2,-2.2065199473870624E-2,-1.7720133798932249E-2,-1.4214763472151601E-2,-1.1485198260383305E-2,-9.3818686925488358E-3,-1.591215503371288E-2,-1.7431536373327446E-2,-1.870658155585762E-2,-1.9564780281001257E-2,-1.9868524305548523E-2,-1.956478028100124E-2,-1.8706581555857589E-2,-1.7431536373327269E-2]
[-9.3818686925489624E-3,-1.148519826038338E-2,-1.4214763472151695E-2,-1.7720133798932218E-2,-2.2065199473870731E-2,-2.7021051531681446E-2,-3.1760225737308349E-2,-3.4802243636545056E-2,0,0,0,0,0,0,0,0,-4.4292766391468841E-2,-3.8331903877845956E-2,-3.0156703744628768E-2,-2.2813278303580591E-2,-1.7205291575426083E-2,-1.3154397319531094E-2,-1.0253849962368545E-2,-8.1546484622840691E-3,-1.7431536373327446E-2,-1.870658155585762E-2,-1.9564780281001257E-2,-1.9868524305548363E-2,-1.9564780281001396E-2,-1.8706581555857589E-2,-1.7431536373327405E-2,-1.5912155033712714E-2]
[-1.0135287776950164E-2,-1.2092279140648492E-2,-1.4488510877520622E-2,-1.7350876724979231E-2,-2.0602538108725629E-2,-2.3964869844634789E-2,-2.6884055703160034E-2,-2.8624573524360888E-2,0,0,0,0,0,0,0,0,-6.0559470795443833E-2,-4.6828885465957301E-2,-3.2040612926803165E-2,-2.166718856717972E-2,-1.5112033419465643E-2,-1.0958850636219623E-2,-8.2390024721895692E-3,-6.3883317272023414E-3,-1.870658155585762E-2,-1.9564780281001257E-2,-1.9868524305548363E-2,-1.9564780281001243E-2,-1.8706581555857738E-2,-1.7431536373327405E-2,-1.5912155033712835E-2,-1.4307692902441769E-2]
[-1.0514013103084714E-2,-1.2254740109171314E-2,-1.4279994245933181E-2,-1.6558582729391303E-2,-1.8978782437276631E-2,-2.1312254443840179E-2,-2.321268529583425E-2,-2.4294895173773652E-2,0,0,0,0,0,0,0,0,-9.3583520905524076E-2,-5.4000096744954984E-2,-2.8624573524361426E-2,-1.6691683215269097E-2,-1.0713336071087112E-2,-7.3972243501893341E-3,-5.3930177525419896E-3,-4.0975050023819909E-3,-1.9564780281001257E-2,-1.9868524305548363E-2,-1.9564780281001243E-2,-1.8706581555857596E-2,-1.7431536373327547E-2,-1.5912155033712835E-2,-1.4307692902441878E-2,-1.2737044162674441E-2]
[-1.061817854688343E-2,-1.2125715930637783E-2,-1.3804835355867228E-2,-1.5604390528136038E-2,-1.741965958195426E-2,-1.9083311967269083E-2,-2.0379927248746914E-2,-2.1096231579428665E-2,0,0,0,0,0,0,0,0,-0.17620818647383901,-3.4802243636565387E-2,-1.2705336833063224E-2,-6.4925162753465219E-3,-3.9289533650075413E-3,-2.6304206854828541E-3,-1.8834025298654431E-3,-1.4146733471603211E-3,-1.9868524305548363E-2,-1.9564780281001243E-2,-1.8706581555857596E-2,-1.7431536373327415E-2,-1.5912155033712971E-2,-1.4307692902441878E-2,-1.2737044162674536E-2,-1.1273696799381693E-2]
[-1.1273696799381821E-2,-1.2737044162674585E-2,-1.4307692902441925E-2,-1.591215503371288E-2,-1.7431536373327446E-2,-1.870658155585762E-2,-1.9564780281001257E-2,-1.9868524305548363E-2,-1.414673347160343E-3,-1.8834025298654614E-3,-2.6304206854828845E-3,-3.9289533650075596E-3,-6.492516275346613E-3,-1.2705336833063491E-2,-3.4802243636566733E-2,-0.17620818647384084,0,0,0,0,0,0,0,0,-2.1096231579428658E-2,-2.0379927248746894E-2,-1.9083311967269048E-2,-1.7419659581954218E-2,-1.5604390528136112E-2,-1.3804835355867174E-2,-1.2125715930637732E-2,-1.0618178546883305E-2]
[-1.2737044162674585E-2,-1.4307692902441925E-2,-1.591215503371288E-2,-1.7431536373327446E-2,-1.870658155585762E-2,-1.9564780281001257E-2,-1.9868524305548363E-2,-1.9564780281001243E-2,-4.0975050023820533E-3,-5.3930177525420408E-3,-7.3972243501894139E-3,-1.0713336071087149E-2,-1.6691683215269294E-2,-2.8624573524361843E-2,-5.4000096744955803E-2,-9.3583520905524631E-2,0,0,0,0,0,0,0,0,-2.4294895173773642E-2,-2.3212685295834215E-2,-2.1312254443840131E-2,-1.8978782437276579E-2,-1.6558582729391369E-2,-1.4279994245933115E-2,-1.2254740109171257E-2,-1.0514013103084587E-2]
[-1.4307692902441925E-2,-1.591215503371288E-2,-1.7431536373327446E-2,-1.870658155585762E-2,-1.9564780281001257E-2,-1.9868524305548363E-2,-1.9564780281001243E-2,-1.8706581555857596E-2,-6.3883317272024351E-3,-8.2390024721896403E-3,-1.0958850636219731E-2,-1.5112033419465664E-2,-2.1667188567179911E-2,-3.2040612926803456E-2,-4.6828885465957655E-2,-6.055947079544402E-2,0,0,0,0,0,0,0,0,-2.8624573524360868E-2,-2.6884055703159982E-2,-2.3964869844634713E-2,-2.0602538108725546E-2,-1.7350876724979286E-2,-1.4488510877520538E-2,-1.2092279140648423E-2,-1.0135287776950037E-2]
[-1.591215503371288E-2,-1.7431536373327446E-2,-1.870658155585762E-2,-1.9564780281001257E-2,-1.9868524305548363E-2,-1.9564780281001243E-2,-1.8706581555857596E-2,-1.7431536373327415E-2,-8.1546484622841836E-3,-1.0253849962368621E-2,-1.3154397319531204E-2,-1.7205291575426079E-2,-2.2813278303580743E-2,-3.0156703744628949E-2,-3.833190387784613E-2,-4.4292766391468917E-2,0,0,0,0,0,0,0,0,-3.4802243636545022E-2,-3.1760225737308252E-2,-2.7021051531681328E-2,-2.2065199473870624E-2,-1.7720133798932249E-2,-1.4214763472151601E-2,-1.1485198260383305E-2,-9.3818686925488358E-3]
[-1.743153637332745E-2,-1.870658155585762E-2,-1.9564780281001261E-2,-1.9868524305548363E-2,-1.956478028100124E-2,-1.8706581555857592E-2,-1.7431536373327412E-2,-1.5912155033712842E-2,-9.3818686925489642E-3,-1.1485198260383382E-2,-1.4214763472151701E-2,-1.7720133798932218E-2,-2.2065199473870728E-2,-2.7021051531681432E-2,-3.1760225737308322E-2,-3.4802243636545029E-2,0,0,0,0,0,0,0,0,-4.4292766391468896E-2,-3.8331903877845991E-2,-3.0156703744628782E-2,-2.2813278303580591E-2,-1.7205291575426079E-2,-1.3154397319531089E-2,-1.0253849962368538E-2,-8.1546484622840639E-3]
[-1.8706581555857631E-2,-1.9564780281001264E-2,-1.9868524305548363E-2,-1.956478028100124E-2,-1.8706581555857589E-2,-1.7431536373327405E-2,-1.5912155033712835E-2,-1.4307692902441878E-2,-1.0135287776950169E-2,-1.2092279140648494E-2,-1.448851087752062E-2,-1.7350876724979224E-2,-2.0602538108725608E-2,-2.3964869844634765E-2,-2.6884055703160003E-2,-2.8624573524360847E-2,0,0,0,0,0,0,0,0,-6.0559470795444006E-2,-4.6828885465957377E-2,-3.2040612926803165E-2,-2.1667188567179696E-2,-1.5112033419465619E-2,-1.09588506362196E-2,-8.2390024721895484E-3,-6.388331727202325E-3]
[-1.9564780281001264E-2,-1.9868524305548363E-2,-1.956478028100124E-2,-1.8706581555857589E-2,-1.7431536373327405E-2,-1.5912155033712835E-2,-1.4307692902441878E-2,-1.2737044162674536E-2,-1.0514013103084715E-2,-1.2254740109171314E-2,-1.4279994245933179E-2,-1.6558582729391296E-2,-1.8978782437276621E-2,-2.1312254443840158E-2,-2.3212685295834222E-2,-2.4294895173773624E-2,0,0,0,0,0,0,0,0,-9.358352090552445E-2,-5.4000096744955005E-2,-2.8624573524361357E-2,-1.6691683215269034E-2,-1.0713336071087067E-2,-7.3972243501893003E-3,-5.3930177525419636E-3,-4.09750500238197E-3]
[-1.9868524305548363E-2,-1.956478028100124E-2,-1.8706581555857592E-2,-1.7431536373327412E-2,-1.5912155033712842E-2,-1.4307692902441885E-2,-1.2737044162674543E-2,-1.1273696799381781E-2,-1.061817854688343E-2,-1.2125715930637781E-2,-1.3804835355867228E-2,-1.5604390528136032E-2,-1.7419659581954256E-2,-1.9083311967269073E-2,-2.0379927248746908E-2,-2.1096231579428654E-2,0,0,0,0,0,0,0,0,-0.17620818647383946,-3.4802243636565172E-2,-1.2705336833063132E-2,-6.4925162753464724E-3,-3.9289533650075101E-3,-2.6304206854828333E-3,-1.883402529865428E-3,-1.4146733471603096E-3]
[-2.1096231579428658E-2,-2.0379927248746894E-2,-1.9083311967269048E-2,-1.7419659581954218E-2,-1.5604390528135998E-2,-1.3804835355867186E-2,-1.2125715930637748E-2,-1.0618178546883397E-2,-1.1273696799381821E-2,-1.2737044162674585E-2,-1.4307692902441925E-2,-1.591215503371288E-2,-1.7431536373327446E-2,-1.870658155585762E-2,-1.9564780281001257E-2,-1.9868524305548363E-2,-1.414673347160343E-3,-1.8834025298654614E-3,-2.6304206854828845E-3,-3.9289533650075596E-3,-6.4925162753466823E-3,-1.2705336833063569E-2,-3.4802243636567094E-2,-0.17620818647384029,0,0,0,0,0,0,0,0]
[-2.4294895173773642E-2,-2.3212685295834215E-2,-2.1312254443840131E-2,-1.8978782437276579E-2,-1.6558582729391248E-2,-1.4279994245933132E-2,-1.2254740109171269E-2,-1.0514013103084675E-2,-1.2737044162674585E-2,-1.4307692902441925E-2,-1.591215503371288E-2,-1.7431536373327446E-2,-1.870658155585762E-2,-1.9564780281001257E-2,-1.9868524305548363E-2,-1.9564780281001243E-2,-4.0975050023820533E-3,-5.3930177525420408E-3,-7.3972243501894139E-3,-1.0713336071087149E-2,-1.6691683215269457E-2,-2.8624573524361974E-2,-5.400009674495608E-2,-9.3583520905524034E-2,0,0,0,0,0,0,0,0]
[-2.8624573524360868E-2,-2.6884055703159982E-2,-2.3964869844634713E-2,-2.0602538108725546E-2,-1.7350876724979158E-2,-1.4488510877520559E-2,-1.2092279140648442E-2,-1.0135287776950122E-2,-1.4307692902441925E-2,-1.591215503371288E-2,-1.7431536373327446E-2,-1.870658155585762E-2,-1.9564780281001257E-2,-1.9868524305548363E-2,-1.9564780281001243E-2,-1.8706581555857596E-2,-6.3883317272024351E-3,-8.2390024721896403E-3,-1.0958850636219731E-2,-1.5112033419465664E-2,-2.1667188567180116E-2,-3.2040612926803561E-2,-4.6828885465957787E-2,-6.0559470795443576E-2,0,0,0,0,0,0,0,0]
[-3.4802243636545022E-2,-3.1760225737308245E-2,-2.7021051531681328E-2,-2.2065199473870624E-2,-1.7720133798932124E-2,-1.4214763472151625E-2,-1.1485198260383325E-2,-9.3818686925489191E-3,-1.591215503371288E-2,-1.7431536373327446E-2,-1.870658155585762E-2,-1.9564780281001257E-2,-1.9868524305548363E-2,-1.9564780281001243E-2,-1.8706581555857596E-2,-1.7431536373327415E-2,-8.1546484622841836E-3,-1.0253849962368621E-2,-1.3154397319531204E-2,-1.7205291575426079E-2,-2.2813278303580955E-2,-3.0156703744629015E-2,-3.8331903877846185E-2,-4.4292766391468577E-2,0,0,0,0,0,0,0,0]
[-4.4292766391468896E-2,-3.8331903877845991E-2,-3.0156703744628782E-2,-2.2813278303580591E-2,-1.7205291575425961E-2,-1.3154397319531115E-2,-1.0253849962368557E-2,-8.1546484622841368E-3,-1.743153637332745E-2,-1.870658155585762E-2,-1.9564780281001261E-2,-1.9868524305548363E-2,-1.956478028100124E-2,-1.8706581555857592E-2,-1.7431536373327412E-2,-1.5912155033712842E-2,-9.3818686925489642E-3,-1.1485198260383382E-2,-1.42147634721517E-2,-1.7720133798932218E-2,-2.2065199473870922E-2,-2.7021051531681474E-2,-3.1760225737308356E-2,-3.4802243636544751E-2,0,0,0,0,0,0,0,0]
[-6.055947079544402E-2,-4.6828885465957377E-2,-3.2040612926803165E-2,-2.1667188567179699E-2,-1.5112033419465517E-2,-1.0958850636219626E-2,-8.2390024721895692E-3,-6.3883317272023839E-3,-1.8706581555857631E-2,-1.9564780281001264E-2,-1.9868524305548363E-2,-1.956478028100124E-2,-1.8706581555857589E-2,-1.7431536373327405E-2,-1.5912155033712835E-2,-1.4307692902441878E-2,-1.0135287776950169E-2,-1.2092279140648494E-2,-1.448851087752062E-2,-1.7350876724979224E-2,-2.0602538108725796E-2,-2.3964869844634789E-2,-2.688405570316002E-2,-2.8624573524360621E-2,0,0,0,0,0,0,0,0]
[-9.358352090552445E-2,-5.4000096744954998E-2,-2.8624573524361357E-2,-1.6691683215269031E-2,-1.0713336071086996E-2,-7.3972243501893211E-3,-5.3930177525419766E-3,-4.0975050023820082E-3,-1.9564780281001264E-2,-1.9868524305548363E-2,-1.956478028100124E-2,-1.8706581555857589E-2,-1.7431536373327405E-2,-1.5912155033712835E-2,-1.4307692902441878E-2,-1.2737044162674536E-2,-1.0514013103084715E-2,-1.2254740109171314E-2,-1.4279994245933179E-2,-1.6558582729391296E-2,-1.8978782437276784E-2,-2.1312254443840179E-2,-2.3212685295834236E-2,-2.429489517377343E-2,0,0,0,0,0,0,0,0]
[-0.17620818647383951,-3.4802243636565179E-2,-1.2705336833063132E-2,-6.4925162753464716E-3,-3.9289533650074858E-3,-2.6304206854828411E-3,-1.8834025298654329E-3,-1.4146733471603226E-3,-1.9868524305548363E-2,-1.956478028100124E-2,-1.8706581555857592E-2,-1.7431536373327412E-2,-1.5912155033712842E-2,-1.4307692902441885E-2,-1.2737044162674543E-2,-1.1273696799381781E-2,-1.061817854688343E-2,-1.2125715930637781E-2,-1.3804835355867228E-2,-1.5604390528136032E-2,-1.7419659581954398E-2,-1.9083311967269083E-2,-2.0379927248746914E-2,-2.1096231579428484E-2,0,0,0,0,0,0,0,0]

{"sheet":"Mt_SS","index":3,"n_rows":32,"n_cols":32,"rows_kept":32,"cut":false,"hidden":false,"merged":[]}
[0,0,0,0,0,0,0,0,-1.402282480009853E-3,-4.064413783727917E-3,-6.3441924704155479E-3,-8.1094441599018612E-3,-9.342275333118254E-3,-1.0104067881441579E-2,-1.0491190629954794E-2,-1.0602459573425899E-2,-1.1273696799381821E-2,-1.2737044162674585E-2,-1.4307692902441925E-2,-1.591215503371288E-2,-1.7431536373327589E-2,-1.8706581555857631E-2,-1.9564780281001264E-2,-1.9868524305548203E-2,-2.1157449856964248E-2,-2.4388106615870361E-2,-2.8776266169187381E-2,-3.5072437418181973E-2,-4.4839466743705661E-2,-6.1887763177990579E-2,-9.7384954588550857E-2,-0.12807501310130098]
[0,0,0,0,0,0,0,0,-1.8615462087346419E-3,-5.3368019007762942E-3,-8.1689580237927027E-3,-1.0188182280812801E-2,-1.1433128183568184E-2,-1.2055335274392337E-2,-1.2230592886284551E-2,-1.2111039854902778E-2,-1.2737044162674585E-2,-1.4307692902441925E-2,-1.591215503371288E-2,-1.7431536373327446E-2,-1.8706581555857773E-2,-1.9564780281001264E-2,-1.9868524305548363E-2,-1.9564780281001084E-2,-2.0429116307819788E-2,-2.3282144600428434E-2,-2.6983927943041497E-2,-3.190168851321519E-2,-3.8499338132319857E-2,-4.677457660135375E-2,-5.203781485321423E-2,-2.9262608227184062E-2]
[0,0,0,0,0,0,0,0,-2.5881133625336211E-3,-7.2946430866135227E-3,-1.0843614572733445E-2,-1.3059460425475244E-2,-1.4149421650537761E-2,-1.4448652681074628E-2,-1.4258050585138123E-2,-1.3794230561107446E-2,-1.4307692902441925E-2,-1.591215503371288E-2,-1.7431536373327446E-2,-1.870658155585762E-2,-1.9564780281001413E-2,-1.9868524305548363E-2,-1.956478028100124E-2,-1.8706581555857443E-2,-1.911386948444966E-2,-2.1347769760048745E-2,-2.3999369975311449E-2,-2.7030666052627234E-2,-3.0061385037245217E-2,-3.1616272483255221E-2,-2.7555787374460895E-2,-1.1810888734152354E-2]
[0,0,0,0,0,0,0,0,-3.8358013858685218E-3,-1.0508978770864484E-2,-1.4917828070440311E-2,-1.7074126986015251E-2,-1.7647361808025425E-2,-1.7316326059174842E-2,-1.6545517426122803E-2,-1.5602390712642213E-2,-1.591215503371288E-2,-1.7431536373327446E-2,-1.870658155585762E-2,-1.9564780281001257E-2,-1.9868524305548523E-2,-1.956478028100124E-2,-1.8706581555857589E-2,-1.7431536373327269E-2,-1.7431728920398303E-2,-1.8984639953824746E-2,-2.0590183983899609E-2,-2.2007825148592168E-2,-2.2658615678322773E-2,-2.1347769760048443E-2,-1.6241392412091889E-2,-6.2445727449621288E-3]
[0,0,0,0,0,0,0,0,-6.2445727449624948E-3,-1.6241392412092125E-2,-2.1347769760048534E-2,-2.2658615678322599E-2,-2.200782514859214E-2,-2.0590183983899567E-2,-1.8984639953824708E-2,-1.7431728920398272E-2,-1.7431536373327446E-2,-1.870658155585762E-2,-1.9564780281001257E-2,-1.9868524305548363E-2,-1.9564780281001396E-2,-1.8706581555857589E-2,-1.7431536373327405E-2,-1.5912155033712714E-2,-1.5602390712642236E-2,-1.6545517426122824E-2,-1.7316326059174856E-2,-1.7647361808025425E-2,-1.7074126986015348E-2,-1.491782807044021E-2,-1.0508978770864305E-2,-3.8358013858682902E-3]
[0,0,0,0,0,0,0,0,-1.181088873415301E-2,-2.7555787374461196E-2,-3.1616272483255242E-2,-3.0061385037244918E-2,-2.7030666052627165E-2,-2.399936997531138E-2,-2.134776976004869E-2,-1.9113869484449611E-2,-1.870658155585762E-2,-1.9564780281001257E-2,-1.9868524305548363E-2,-1.9564780281001243E-2,-1.8706581555857738E-2,-1.7431536373327405E-2,-1.5912155033712835E-2,-1.4307692902441769E-2,-1.3794230561107458E-2,-1.425805058513813E-2,-1.444865268107463E-2,-1.4149421650537746E-2,-1.3059460425475303E-2,-1.0843614572733357E-2,-7.2946430866133926E-3,-2.5881133625334637E-3]
[0,0,0,0,0,0,0,0,-2.9262608227185505E-2,-5.2037814853214376E-2,-4.6774576601353493E-2,-3.8499338132319344E-2,-3.1901688513215051E-2,-2.6983927943041396E-2,-2.3282144600428354E-2,-2.0429116307819725E-2,-1.9564780281001257E-2,-1.9868524305548363E-2,-1.9564780281001243E-2,-1.8706581555857596E-2,-1.7431536373327547E-2,-1.5912155033712835E-2,-1.4307692902441878E-2,-1.2737044162674441E-2,-1.2111039854902781E-2,-1.2230592886284551E-2,-1.2055335274392329E-2,-1.1433128183568161E-2,-1.0188182280812839E-2,-8.1689580237926263E-3,-5.3368019007761936E-3,-1.8615462087345281E-3]
[0,0,0,0,0,0,0,0,-0.1280750131013085,-9.7384954588549164E-2,-6.1887763177989816E-2,-4.4839466743704939E-2,-3.50724374181818E-2,-2.877626616918726E-2,-2.4388106615870275E-2,-2.1157449856964185E-2,-1.9868524305548363E-2,-1.9564780281001243E-2,-1.8706581555857596E-2,-1.7431536373327415E-2,-1.5912155033712971E-2,-1.4307692902441878E-2,-1.2737044162674536E-2,-1.1273696799381693E-2,-1.0602459573425897E-2,-1.0491190629954785E-2,-1.0104067881441563E-2,-9.3422753331182332E-3,-8.1094441599018838E-3,-6.3441924704154854E-3,-4.0644137837278389E-3,-1.4022824800097667E-3]
[-2.1157449856964248E-2,-2.4388106615870361E-2,-2.8776266169187381E-2,-3.507243741818198E-2,-4.4839466743705252E-2,-6.1887763177990392E-2,-9.738495458855044E-2,-0.12807501310130201,0,0,0,0,0,0,0,0,-1.4022824800098532E-3,-4.0644137837279161E-3,-6.3441924704155488E-3,-8.1094441599018612E-3,-9.3422753331183338E-3,-1.0104067881441584E-2,-1.0491190629954796E-2,-1.0602459573425812E-2,-1.1273696799381821E-2,-1.2737044162674585E-2,-1.4307692902441925E-2,-1.591215503371288E-2,-1.7431536373327589E-2,-1.8706581555857631E-2,-1.9564780281001264E-2,-1.9868524305548203E-2]
[-2.0429116307819788E-2,-2.3282144600428434E-2,-2.6983927943041497E-2,-3.190168851321519E-2,-3.8499338132319524E-2,-4.6774576601353673E-2,-5.2037814853214251E-2,-2.9262608227184447E-2,0,0,0,0,0,0,0,0,-1.8615462087346419E-3,-5.3368019007762942E-3,-8.1689580237927027E-3,-1.0188182280812801E-2,-1.1433128183568279E-2,-1.2055335274392343E-2,-1.2230592886284553E-2,-1.2111039854902679E-2,-1.2737044162674585E-2,-1.4307692902441925E-2,-1.591215503371288E-2,-1.7431536373327446E-2,-1.8706581555857773E-2,-1.9564780281001264E-2,-1.9868524305548363E-2,-1.9564780281001084E-2]
[-1.911386948444966E-2,-2.1347769760048745E-2,-2.3999369975311449E-2,-2.7030666052627238E-2,-3.0061385037244974E-2,-3.1616272483255228E-2,-2.7555787374460967E-2,-1.1810888734152526E-2,0,0,0,0,0,0,0,0,-2.5881133625336211E-3,-7.2946430866135219E-3,-1.0843614572733445E-2,-1.3059460425475242E-2,-1.4149421650537876E-2,-1.444865268107463E-2,-1.4258050585138118E-2,-1.3794230561107335E-2,-1.4307692902441925E-2,-1.591215503371288E-2,-1.7431536373327446E-2,-1.870658155585762E-2,-1.9564780281001413E-2,-1.9868524305548363E-2,-1.956478028100124E-2,-1.8706581555857443E-2]
[-1.7431728920398303E-2,-1.8984639953824746E-2,-2.0590183983899609E-2,-2.2007825148592168E-2,-2.2658615678322599E-2,-2.1347769760048464E-2,-1.6241392412091948E-2,-6.2445727449622242E-3,0,0,0,0,0,0,0,0,-3.8358013858685214E-3,-1.0508978770864486E-2,-1.4917828070440311E-2,-1.7074126986015251E-2,-1.764736180802557E-2,-1.7316326059174839E-2,-1.6545517426122792E-2,-1.5602390712642087E-2,-1.591215503371288E-2,-1.7431536373327446E-2,-1.870658155585762E-2,-1.9564780281001257E-2,-1.9868524305548523E-2,-1.956478028100124E-2,-1.8706581555857589E-2,-1.7431536373327269E-2]
[-1.5602390712642236E-2,-1.6545517426122824E-2,-1.7316326059174856E-2,-1.7647361808025425E-2,-1.7074126986015219E-2,-1.4917828070440238E-2,-1.0508978770864355E-2,-3.8358013858683505E-3,0,0,0,0,0,0,0,0,-6.2445727449624948E-3,-1.6241392412092125E-2,-2.134776976004853E-2,-2.2658615678322599E-2,-2.200782514859231E-2,-2.0590183983899557E-2,-1.8984639953824697E-2,-1.7431728920398126E-2,-1.7431536373327446E-2,-1.870658155585762E-2,-1.9564780281001257E-2,-1.9868524305548363E-2,-1.9564780281001396E-2,-1.8706581555857589E-2,-1.7431536373327405E-2,-1.5912155033712714E-2]
[-1.3794230561107458E-2,-1.425805058513813E-2,-1.444865268107463E-2,-1.4149421650537746E-2,-1.3059460425475204E-2,-1.084361457273338E-2,-7.2946430866134247E-3,-2.5881133625335045E-3,0,0,0,0,0,0,0,0,-1.1810888734153011E-2,-2.7555787374461193E-2,-3.1616272483255242E-2,-3.0061385037244918E-2,-2.7030666052627363E-2,-2.3999369975311362E-2,-2.1347769760048672E-2,-1.9113869484449458E-2,-1.870658155585762E-2,-1.9564780281001257E-2,-1.9868524305548363E-2,-1.9564780281001243E-2,-1.8706581555857738E-2,-1.7431536373327405E-2,-1.5912155033712835E-2,-1.4307692902441769E-2]
[-1.2111039854902781E-2,-1.2230592886284551E-2,-1.2055335274392329E-2,-1.1433128183568163E-2,-1.0188182280812762E-2,-8.1689580237926454E-3,-5.3368019007762196E-3,-1.8615462087345571E-3,0,0,0,0,0,0,0,0,-2.9262608227185505E-2,-5.2037814853214376E-2,-4.6774576601353493E-2,-3.8499338132319344E-2,-3.1901688513215287E-2,-2.6983927943041365E-2,-2.328214460042833E-2,-2.0429116307819555E-2,-1.9564780281001257E-2,-1.9868524305548363E-2,-1.9564780281001243E-2,-1.8706581555857596E-2,-1.7431536373327547E-2,-1.5912155033712835E-2,-1.4307692902441878E-2,-1.2737044162674441E-2]
[-1.0602459573425897E-2,-1.0491190629954787E-2,-1.0104067881441563E-2,-9.3422753331182332E-3,-8.1094441599018265E-3,-6.3441924704155011E-3,-4.064413783727858E-3,-1.4022824800097888E-3,0,0,0,0,0,0,0,0,-0.1280750131013085,-9.7384954588549164E-2,-6.1887763177989816E-2,-4.4839466743704939E-2,-3.5072437418182043E-2,-2.8776266169187218E-2,-2.4388106615870247E-2,-2.1157449856964005E-2,-1.9868524305548363E-2,-1.9564780281001243E-2,-1.8706581555857596E-2,-1.7431536373327415E-2,-1.5912155033712971E-2,-1.4307692902441878E-2,-1.2737044162674536E-2,-1.1273696799381693E-2]
[-1.1273696799381821E-2,-1.2737044162674585E-2,-1.4307692902441925E-2,-1.591215503371288E-2,-1.7431536373327446E-2,-1.870658155585762E-2,-1.9564780281001257E-2,-1.9868524305548363E-2,-2.1157449856964248E-2,-2.4388106615870361E-2,-2.8776266169187381E-2,-3.507243741818198E-2,-4.4839466743705252E-2,-6.1887763177990392E-2,-9.738495458855044E-2,-0.12807501310130201,0,0,0,0,0,0,0,0,-1.4022824800098532E-3,-4.0644137837279161E-3,-6.3441924704155488E-3,-8.1094441599018612E-3,-9.3422753331183338E-3,-1.0104067881441584E-2,-1.0491190629954796E-2,-1.0602459573425812E-2]
[-1.2737044162674585E-2,-1.4307692902441925E-2,-1.591215503371288E-2,-1.7431536373327446E-2,-1.870658155585762E-2,-1.9564780281001257E-2,-1.9868524305548363E-2,-1.9564780281001243E-2,-2.0429116307819788E-2,-2.3282144600428434E-2,-2.6983927943041497E-2,-3.190168851321519E-2,-3.8499338132319524E-2,-4.6774576601353673E-2,-5.2037814853214251E-2,-2.9262608227184447E-2,0,0,0,0,0,0,0,0,-1.8615462087346419E-3,-5.3368019007762942E-3,-8.1689580237927027E-3,-1.0188182280812801E-2,-1.1433128183568279E-2,-1.2055335274392343E-2,-1.2230592886284553E-2,-1.2111039854902679E-2]
[-1.4307692902441925E-2,-1.591215503371288E-2,-1.7431536373327446E-2,-1.870658155585762E-2,-1.9564780281001257E-2,-1.9868524305548363E-2,-1.9564780281001243E-2,-1.8706581555857596E-2,-1.911386948444966E-2,-2.1347769760048745E-2,-2.3999369975311449E-2,-2.7030666052627238E-2,-3.0061385037244974E-2,-3.1616272483255228E-2,-2.7555787374460967E-2,-1.1810888734152526E-2,0,0,0,0,0,0,0,0,-2.5881133625336211E-3,-7.2946430866135219E-3,-1.0843614572733445E-2,-1.3059460425475242E-2,-1.4149421650537876E-2,-1.444865268107463E-2,-1.4258050585138118E-2,-1.3794230561107335E-2]
[-1.591215503371288E-2,-1.7431536373327446E-2,-1.870658155585762E-2,-1.9564780281001257E-2,-1.9868524305548363E-2,-1.9564780281001243E-2,-1.8706581555857596E-2,-1.7431536373327415E-2,-1.7431728920398303E-2,-1.8984639953824746E-2,-2.0590183983899609E-2,-2.2007825148592168E-2,-2.2658615678322599E-2,-2.1347769760048464E-2,-1.6241392412091948E-2,-6.2445727449622242E-3,0,0,0,0,0,0,0,0,-3.8358013858685214E-3,-1.0508978770864486E-2,-1.4917828070440311E-2,-1.7074126986015251E-2,-1.764736180802557E-2,-1.7316326059174839E-2,-1.6545517426122792E-2,-1.5602390712642087E-2]
[-1.743153637332745E-2,-1.870658155585762E-2,-1.9564780281001261E-2,-1.9868524305548363E-2,-1.956478028100124E-2,-1.8706581555857592E-2,-1.7431536373327412E-2,-1.5912155033712842E-2,-1.5602390712642229E-2,-1.654551742612281E-2,-1.7316326059174849E-2,-1.7647361808025414E-2,-1.7074126986015202E-2,-1.4917828070440217E-2,-1.050897877086434E-2,-3.8358013858683449E-3,0,0,0,0,0,0,0,0,-6.2445727449625095E-3,-1.6241392412092159E-2,-2.1347769760048572E-2,-2.2658615678322627E-2,-2.2007825148592331E-2,-2.0590183983899571E-2,-1.8984639953824708E-2,-1.7431728920398137E-2]
[-1.8706581555857631E-2,-1.9564780281001264E-2,-1.9868524305548363E-2,-1.956478028100124E-2,-1.8706581555857589E-2,-1.7431536373327405E-2,-1.5912155033712835E-2,-1.4307692902441878E-2,-1.3794230561107446E-2,-1.4258050585138113E-2,-1.4448652681074609E-2,-1.414942165053772E-2,-1.3059460425475178E-2,-1.0843614572733353E-2,-7.2946430866134048E-3,-2.5881133625334971E-3,0,0,0,0,0,0,0,0,-1.1810888734153081E-2,-2.7555787374461321E-2,-3.1616272483255353E-2,-3.0061385037244981E-2,-2.7030666052627404E-2,-2.399936997531139E-2,-2.134776976004869E-2,-1.9113869484449465E-2]
[-1.9564780281001264E-2,-1.9868524305548363E-2,-1.956478028100124E-2,-1.8706581555857589E-2,-1.7431536373327405E-2,-1.5912155033712835E-2,-1.4307692902441878E-2,-1.2737044162674536E-2,-1.2111039854902769E-2,-1.2230592886284536E-2,-1.2055335274392313E-2,-1.1433128183568142E-2,-1.0188182280812743E-2,-8.1689580237926281E-3,-5.3368019007762066E-3,-1.8615462087345526E-3,0,0,0,0,0,0,0,0,-2.9262608227185762E-2,-5.2037814853214653E-2,-4.6774576601353618E-2,-3.8499338132319413E-2,-3.1901688513215322E-2,-2.6983927943041379E-2,-2.328214460042834E-2,-2.0429116307819562E-2]
[-1.9868524305548363E-2,-1.956478028100124E-2,-1.8706581555857592E-2,-1.7431536373327412E-2,-1.5912155033712842E-2,-1.4307692902441885E-2,-1.2737044162674543E-2,-1.1273696799381781E-2,-1.0602459573425892E-2,-1.049119062995478E-2,-1.010406788144156E-2,-9.3422753331182246E-3,-8.1094441599018196E-3,-6.344192470415495E-3,-4.0644137837278554E-3,-1.4022824800097877E-3,0,0,0,0,0,0,0,0,-0.12807501310130948,-9.7384954588549344E-2,-6.1887763177989857E-2,-4.4839466743704953E-2,-3.5072437418182043E-2,-2.8776266169187222E-2,-2.4388106615870247E-2,-2.1157449856964005E-2]
[-1.402282480009853E-3,-4.064413783727917E-3,-6.3441924704155479E-3,-8.1094441599018612E-3,-9.342275333118254E-3,-1.0104067881441579E-2,-1.0491190629954794E-2,-1.0602459573425899E-2,-1.1273696799381821E-2,-1.2737044162674585E-2,-1.4307692902441925E-2,-1.591215503371288E-2,-1.7431536373327446E-2,-1.870658155585762E-2,-1.9564780281001257E-2,-1.9868524305548363E-2,-2.1157449856964248E-2,-2.4388106615870361E-2,-2.8776266169187381E-2,-3.5072437418181973E-2,-4.4839466743705661E-2,-6.1887763177990579E-2,-9.7384954588550857E-2,-0.12807501310130098,0,0,0,0,0,0,0,0]
[-1.8615462087346419E-3,-5.3368019007762942E-3,-8.1689580237927027E-3,-1.0188182280812801E-2,-1.1433128183568184E-2,-1.2055335274392337E-2,-1.2230592886284551E-2,-1.2111039854902778E-2,-1.2737044162674585E-2,-1.4307692902441925E-2,-1.591215503371288E-2,-1.7431536373327446E-2,-1.870658155585762E-2,-1.9564780281001257E-2,-1.9868524305548363E-2,-1.9564780281001243E-2,-2.0429116307819788E-2,-2.3282144600428434E-2,-2.6983927943041497E-2,-3.190168851321519E-2,-3.8499338132319857E-2,-4.677457660135375E-2,-5.203781485321423E-2,-2.9262608227184062E-2,0,0,0,0,0,0,0,0]
[-2.5881133625336211E-3,-7.2946430866135227E-3,-1.0843614572733445E-2,-1.3059460425475244E-2,-1.4149421650537761E-2,-1.4448652681074628E-2,-1.4258050585138123E-2,-1.3794230561107446E-2,-1.4307692902441925E-2,-1.591215503371288E-2,-1.7431536373327446E-2,-1.870658155585762E-2,-1.9564780281001257E-2,-1.9868524305548363E-2,-1.9564780281001243E-2,-1.8706581555857596E-2,-1.911386948444966E-2,-2.1347769760048745E-2,-2.3999369975311449E-2,-2.7030666052627234E-2,-3.0061385037245217E-2,-3.1616272483255221E-2,-2.7555787374460895E-2,-1.1810888734152354E-2,0,0,0,0,0,0,0,0]
[-3.8358013858685218E-3,-1.0508978770864484E-2,-1.4917828070440311E-2,-1.7074126986015251E-2,-1.7647361808025425E-2,-1.7316326059174842E-2,-1.6545517426122803E-2,-1.5602390712642213E-2,-1.591215503371288E-2,-1.7431536373327446E-2,-1.870658155585762E-2,-1.9564780281001257E-2,-1.9868524305548363E-2,-1.9564780281001243E-2,-1.8706581555857596E-2,-1.7431536373327415E-2,-1.7431728920398303E-2,-1.8984639953824746E-2,-2.0590183983899609E-2,-2.2007825148592168E-2,-2.2658615678322773E-2,-2.1347769760048443E-2,-1.6241392412091889E-2,-6.2445727449621288E-3,0,0,0,0,0,0,0,0]
[-6.2445727449625095E-3,-1.6241392412092159E-2,-2.1347769760048572E-2,-2.2658615678322627E-2,-2.2007825148592161E-2,-2.0590183983899585E-2,-1.8984639953824718E-2,-1.7431728920398279E-2,-1.743153637332745E-2,-1.870658155585762E-2,-1.9564780281001261E-2,-1.9868524305548363E-2,-1.956478028100124E-2,-1.8706581555857592E-2,-1.7431536373327412E-2,-1.5912155033712842E-2,-1.5602390712642229E-2,-1.654551742612281E-2,-1.7316326059174849E-2,-1.7647361808025414E-2,-1.707412698601533E-2,-1.4917828070440195E-2,-1.0508978770864293E-2,-3.835801385868285E-3,0,0,0,0,0,0,0,0]
[-1.1810888734153081E-2,-2.7555787374461321E-2,-3.1616272483255346E-2,-3.0061385037244981E-2,-2.7030666052627203E-2,-2.3999369975311411E-2,-2.1347769760048707E-2,-1.9113869484449632E-2,-1.8706581555857631E-2,-1.9564780281001264E-2,-1.9868524305548363E-2,-1.956478028100124E-2,-1.8706581555857589E-2,-1.7431536373327405E-2,-1.5912155033712835E-2,-1.4307692902441878E-2,-1.3794230561107446E-2,-1.4258050585138113E-2,-1.4448652681074609E-2,-1.414942165053772E-2,-1.3059460425475275E-2,-1.0843614572733329E-2,-7.2946430866133727E-3,-2.5881133625334563E-3,0,0,0,0,0,0,0,0]
[-2.9262608227185759E-2,-5.2037814853214653E-2,-4.6774576601353618E-2,-3.8499338132319413E-2,-3.1901688513215093E-2,-2.6983927943041417E-2,-2.3282144600428368E-2,-2.0429116307819739E-2,-1.9564780281001264E-2,-1.9868524305548363E-2,-1.956478028100124E-2,-1.8706581555857589E-2,-1.7431536373327405E-2,-1.5912155033712835E-2,-1.4307692902441878E-2,-1.2737044162674536E-2,-1.2111039854902769E-2,-1.2230592886284536E-2,-1.2055335274392311E-2,-1.1433128183568142E-2,-1.0188182280812816E-2,-8.1689580237926072E-3,-5.3368019007761815E-3,-1.8615462087345233E-3,0,0,0,0,0,0,0,0]
[-0.12807501310130953,-9.7384954588549344E-2,-6.1887763177989857E-2,-4.4839466743704953E-2,-3.5072437418181807E-2,-2.877626616918727E-2,-2.4388106615870278E-2,-2.1157449856964189E-2,-1.9868524305548363E-2,-1.956478028100124E-2,-1.8706581555857592E-2,-1.7431536373327412E-2,-1.5912155033712842E-2,-1.4307692902441885E-2,-1.2737044162674543E-2,-1.1273696799381781E-2,-1.0602459573425892E-2,-1.049119062995478E-2,-1.010406788144156E-2,-9.3422753331182246E-3,-8.1094441599018768E-3,-6.3441924704154802E-3,-4.0644137837278355E-3,-1.4022824800097651E-3,0,0,0,0,0,0,0,0]

{"sheet":"L_DS","index":4,"n_rows":5,"n_cols":32,"rows_kept":5,"cut":false,"hidden":false,"merged":[]}
[2.3101695053011614E-2,2.6806215748603184E-2,2.6806215748603136E-2,2.3101695053011514E-2,1.8236528978790939E-2,1.3661284207355727E-2,9.6763032257133914E-3,6.2375032237753586E-3,5.1011105327226601E-3,5.6319069673663553E-3,5.6319069673663501E-3,5.1011105327226419E-3,4.117038639559879E-3,2.8014825484105272E-3,1.2798103065875255E-3,-3.4479880212441902E-4,-3.4479880212438059E-4,1.2798103065875626E-3,2.8014825484105597E-3,4.1170386395599059E-3,5.1011105327227052E-3,5.6319069673663579E-3,5.6319069673663475E-3,5.1011105327226003E-3,6.2375032237754332E-3,9.6763032257134781E-3,1.3661284207355826E-2,1.8236528978791054E-2,2.3101695053011816E-2,2.6806215748603198E-2,2.6806215748603118E-2,2.3101695053011309E-2]
[5.1011105327226601E-3,5.6319069673663553E-3,5.6319069673663501E-3,5.1011105327226419E-3,4.117038639559879E-3,2.8014825484105272E-3,1.2798103065875255E-3,-3.4479880212441902E-4,-3.4479880212438059E-4,1.2798103065875626E-3,2.8014825484105597E-3,4.1170386395599059E-3,5.1011105327226601E-3,5.6319069673663553E-3,5.6319069673663501E-3,5.1011105327226419E-3,6.2375032237754332E-3,9.6763032257134781E-3,1.3661284207355826E-2,1.8236528978791054E-2,2.3101695053011816E-2,2.6806215748603198E-2,2.6806215748603118E-2,2.3101695053011309E-2,2.3101695053011614E-2,2.6806215748603184E-2,2.6806215748603136E-2,2.3101695053011514E-2,1.8236528978791067E-2,1.3661284207355696E-2,9.6763032257133601E-3,6.237503223775297E-3]
[6.2375032237754332E-3,9.6763032257134781E-3,1.3661284207355826E-2,1.8236528978791054E-2,2.3101695053011614E-2,2.6806215748603184E-2,2.6806215748603136E-2,2.3101695053011514E-2,2.3101695053011614E-2,2.6806215748603184E-2,2.6806215748603136E-2,2.3101695053011514E-2,1.8236528978790939E-2,1.3661284207355727E-2,9.6763032257133914E-3,6.2375032237753586E-3,5.1011105327226601E-3,5.6319069673663553E-3,5.6319069673663501E-3,5.1011105327226419E-3,4.1170386395599085E-3,2.8014825484105159E-3,1.2798103065875127E-3,-3.4479880212442412E-4,-3.4479880212438059E-4,1.2798103065875626E-3,2.8014825484105597E-3,4.1170386395599059E-3,5.1011105327227052E-3,5.6319069673663579E-3,5.6319069673663475E-3,5.1011105327226003E-3]
[-3.4479880212438059E-4,1.2798103065875626E-3,2.8014825484105597E-3,4.1170386395599059E-3,5.1011105327226601E-3,5.6319069673663553E-3,5.6319069673663501E-3,5.1011105327226419E-3,6.2375032237754332E-3,9.6763032257134781E-3,1.3661284207355826E-2,1.8236528978791054E-2,2.3101695053011614E-2,2.6806215748603184E-2,2.6806215748603136E-2,2.3101695053011514E-2,2.3101695053011614E-2,2.6806215748603184E-2,2.6806215748603136E-2,2.3101695053011514E-2,1.8236528978791067E-2,1.3661284207355696E-2,9.6763032257133601E-3,6.237503223775297E-3,5.1011105327226601E-3,5.6319069673663553E-3,5.6319069673663501E-3,5.1011105327226419E-3,4.1170386395599085E-3,2.8014825484105159E-3,1.2798103065875127E-3,-3.4479880212442412E-4]
[8.130733755758849E-3,1.0493206331172471E-2,1.244671544112195E-2,1.3586266036992775E-2,1.3586266036992763E-2,1.2446715441121914E-2,1.0493206331172419E-2,8.1307337557587917E-3,8.130733755758849E-3,1.0493206331172471E-2,1.244671544112195E-2,1.3586266036992775E-2,1.3586266036992763E-2,1.2446715441121914E-2,1.0493206331172419E-2,8.1307337557587917E-3,8.130733755758849E-3,1.0493206331172471E-2,1.244671544112195E-2,1.3586266036992775E-2,1.3586266036992865E-2,1.24467154411219E-2,1.0493206331172402E-2,8.1307337557587189E-3,8.130733755758849E-3,1.0493206331172471E-2,1.244671544112195E-2,1.3586266036992775E-2,1.3586266036992865E-2,1.24467154411219E-2,1.0493206331172402E-2,8.1307337557587189E-3]

{"sheet":"M_DS","index":5,"n_rows":5,"n_cols":32,"rows_kept":5,"cut":false,"hidden":false,"merged":[]}
[-5.1208191174803415E-2,-7.3791808825243638E-2,-7.3791808825243305E-2,-5.1208191174802895E-2,-3.1416479094512798E-2,-1.9791712080290444E-2,-1.3232338029800041E-2,-9.3512796206419273E-3,-2.492396281916609E-2,-2.6284228355636645E-2,-2.6284228355636624E-2,-2.4923962819166048E-2,-2.2583617650441798E-2,-1.979171208029026E-2,-1.6987509906354791E-2,-1.4428969188157717E-2,-1.442896918815777E-2,-1.6987509906354854E-2,-1.9791712080290326E-2,-2.2583617650441864E-2,-2.4923962819166295E-2,-2.6284228355636648E-2,-2.6284228355636614E-2,-2.4923962819165844E-2,-9.3512796206419984E-3,-1.3232338029800157E-2,-1.9791712080290649E-2,-3.1416479094513158E-2,-5.1208191174803921E-2,-7.3791808825243749E-2,-7.3791808825243194E-2,-5.1208191174802388E-2]
[-2.492396281916609E-2,-2.6284228355636645E-2,-2.6284228355636624E-2,-2.4923962819166048E-2,-2.2583617650441798E-2,-1.979171208029026E-2,-1.6987509906354791E-2,-1.4428969188157717E-2,-1.442896918815777E-2,-1.6987509906354854E-2,-1.9791712080290326E-2,-2.2583617650441864E-2,-2.492396281916609E-2,-2.6284228355636645E-2,-2.6284228355636624E-2,-2.4923962819166048E-2,-9.3512796206419984E-3,-1.3232338029800157E-2,-1.9791712080290649E-2,-3.1416479094513158E-2,-5.1208191174803921E-2,-7.3791808825243749E-2,-7.3791808825243194E-2,-5.1208191174802388E-2,-5.1208191174803415E-2,-7.3791808825243624E-2,-7.3791808825243305E-2,-5.1208191174802895E-2,-3.1416479094512992E-2,-1.9791712080290371E-2,-1.3232338029799997E-2,-9.3512796206418371E-3]
[-9.3512796206419984E-3,-1.3232338029800157E-2,-1.9791712080290649E-2,-3.1416479094513158E-2,-5.1208191174803415E-2,-7.3791808825243624E-2,-7.3791808825243305E-2,-5.1208191174802895E-2,-5.1208191174803415E-2,-7.3791808825243638E-2,-7.3791808825243305E-2,-5.1208191174802895E-2,-3.1416479094512798E-2,-1.9791712080290444E-2,-1.3232338029800041E-2,-9.3512796206419273E-3,-2.492396281916609E-2,-2.6284228355636645E-2,-2.6284228355636624E-2,-2.4923962819166048E-2,-2.2583617650441971E-2,-1.9791712080290239E-2,-1.6987509906354774E-2,-1.4428969188157585E-2,-1.442896918815777E-2,-1.6987509906354854E-2,-1.9791712080290326E-2,-2.2583617650441864E-2,-2.4923962819166295E-2,-2.6284228355636648E-2,-2.6284228355636614E-2,-2.4923962819165844E-2]
[-1.442896918815777E-2,-1.6987509906354854E-2,-1.9791712080290326E-2,-2.2583617650441864E-2,-2.492396281916609E-2,-2.6284228355636645E-2,-2.6284228355636624E-2,-2.4923962819166048E-2,-9.3512796206419984E-3,-1.3232338029800157E-2,-1.9791712080290649E-2,-3.1416479094513158E-2,-5.1208191174803415E-2,-7.3791808825243624E-2,-7.3791808825243305E-2,-5.1208191174802895E-2,-5.1208191174803415E-2,-7.3791808825243624E-2,-7.3791808825243305E-2,-5.1208191174802895E-2,-3.1416479094512992E-2,-1.9791712080290371E-2,-1.3232338029799997E-2,-9.3512796206418371E-3,-2.492396281916609E-2,-2.6284228355636645E-2,-2.6284228355636624E-2,-2.4923962819166048E-2,-2.2583617650441971E-2,-1.9791712080290239E-2,-1.6987509906354774E-2,-1.4428969188157585E-2]
[-2.2583617650441978E-2,-2.8624573524361051E-2,-3.4802243636545167E-2,-3.8989565188699275E-2,-3.8989565188699234E-2,-3.4802243636545042E-2,-2.8624573524360909E-2,-2.2583617650441846E-2,-2.2583617650441978E-2,-2.8624573524361051E-2,-3.4802243636545167E-2,-3.8989565188699275E-2,-3.8989565188699234E-2,-3.4802243636545042E-2,-2.8624573524360909E-2,-2.2583617650441846E-2,-2.2583617650441978E-2,-2.8624573524361051E-2,-3.4802243636545167E-2,-3.8989565188699275E-2,-3.8989565188699525E-2,-3.4802243636545001E-2,-2.8624573524360864E-2,-2.2583617650441652E-2,-2.2583617650441978E-2,-2.8624573524361051E-2,-3.4802243636545167E-2,-3.8989565188699275E-2,-3.8989565188699525E-2,-3.4802243636545001E-2,-2.8624573524360864E-2,-2.2583617650441652E-2]

{"sheet":"Direct Solution","index":6,"n_rows":125,"n_cols":7,"rows_kept":125,"cut":false,"hidden":false,"merged":[[1,1,2,6],[7,1,7,3],[7,5,7,6],[8,1,8,2]]}
[]
[null,"Direct Solution"]
[]
[]
[]
[]
[]
[null,"Solution on S",null,null,null,"Solution in D"]
[null,"Number of panels",null,{"$f":"'Set Problem'!H9","v":32},null,"Number of points",{"$f":"'Set Problem'!R9","v":5}]
[null,"index","phi_S","vel_S",null,"index","phi_D"]
[null,{"$f":"'Set Problem'!B11","v":1},10,-10.504016744643133,null,{"$f":"'Set Problem'!X11","v":1},12.495675883227705]
[null,{"$f":"'Set Problem'!B12","v":2},10,-9.8287744500709326,null,{"$f":"'Set Problem'!X12","v":2},17.504324160921705]
[null,{"$f":"'Set Problem'!B13","v":3},10,-9.9562517708042702,null,{"$f":"'Set Problem'!X13","v":3},12.495675883227708]
[null,{"$f":"'Set Problem'!B14","v":4},10,-9.9686646507906147,null,{"$f":"'Set Problem'!X14","v":4},17.50432416092168]
[null,{"$f":"'Set Problem'!B15","v":5},10,-9.9686646507906254,null,{"$f":"'Set Problem'!X15","v":5},15.000000020765048]
[null,{"$f":"'Set Problem'!B16","v":6},10,-9.9562517708042169]
[null,{"$f":"'Set Problem'!B17","v":7},10,-9.8287744500708634]
[null,{"$f":"'Set Problem'!B18","v":8},10,-10.504016744642637]
[null,{"$f":"'Set Problem'!B19","v":9},10.590357113176127,0]
[null,{"$f":"'Set Problem'!B20","v":10},11.856033332956178,0]
[null,{"$f":"'Set Problem'!B21","v":11},13.115020390708732,0]
[null,{"$f":"'Set Problem'!B22","v":12},14.371850437519935,0]
[null,{"$f":"'Set Problem'!B23","v":13},15.628149628814631,0]
[null,{"$f":"'Set Problem'!B24","v":14},16.884979685008467,0]
[null,{"$f":"'Set Problem'!B25","v":15},18.143966768794279,0]
[null,{"$f":"'Set Problem'!B26","v":16},19.409642777355291,0]
[null,{"$f":"'Set Problem'!B27","v":17},20,10.504019917673752]
[null,{"$f":"'Set Problem'!B28","v":18},20,9.828772947652423]
[null,{"$f":"'Set Problem'!B29","v":19},20,9.9562515397375453]
[null,{"$f":"'Set Problem'!B30","v":20},20,9.9686644711954653]
[null,{"$f":"'Set Problem'!B31","v":21},20,9.9686644711953747]
[null,{"$f":"'Set Problem'!B32","v":22},20,9.9562515397376465]
[null,{"$f":"'Set Problem'!B33","v":23},20,9.8287729476523644]
[null,{"$f":"'Set Problem'!B34","v":24},20,10.504019917674082]
[null,{"$f":"'Set Problem'!B35","v":25},19.40964277735549,0]
[null,{"$f":"'Set Problem'!B36","v":26},18.143966768794385,0]
[null,{"$f":"'Set Problem'!B37","v":27},16.884979685008517,0]
[null,{"$f":"'Set Problem'!B38","v":28},15.62814962881466,0]
[null,{"$f":"'Set Problem'!B39","v":29},14.37185043751993,0]
[null,{"$f":"'Set Problem'!B40","v":30},13.115020390708708,0]
[null,{"$f":"'Set Problem'!B41","v":31},11.856033332956121,0]
[null,{"$f":"'Set Problem'!B42","v":32},10.590357113176029,0]
[null,{"$f":"'Set Problem'!B43","v":0}]
[null,{"$f":"'Set Problem'!B44","v":0}]
[null,{"$f":"'Set Problem'!B45","v":0}]
[null,{"$f":"'Set Problem'!B46","v":0}]
[null,{"$f":"'Set Problem'!B47","v":0}]
[null,{"$f":"'Set Problem'!B48","v":0}]
[null,{"$f":"'Set Problem'!B49","v":0}]
[null,{"$f":"'Set Problem'!B50","v":0}]
[null,{"$f":"'Set Problem'!B51","v":0}]
[null,{"$f":"'Set Problem'!B52","v":0}]
[null,{"$f":"'Set Problem'!B53","v":0}]
[null,{"$f":"'Set Problem'!B54","v":0}]
[null,{"$f":"'Set Problem'!B55","v":0}]
[null,{"$f":"'Set Problem'!B56","v":0}]
[null,{"$f":"'Set Problem'!B57","v":0}]
[null,{"$f":"'Set Problem'!B58","v":0}]
[null,{"$f":"'Set Problem'!B59","v":0}]
[null,{"$f":"'Set Problem'!B60","v":0}]
[null,{"$f":"'Set Problem'!B61","v":0}]
[null,{"$f":"'Set Problem'!B62","v":0}]
[null,{"$f":"'Set Problem'!B63","v":0}]
[null,{"$f":"'Set Problem'!B64","v":0}]
[null,{"$f":"'Set Problem'!B65","v":0}]
[null,{"$f":"'Set Problem'!B66","v":0}]
[null,{"$f":"'Set Problem'!B67","v":0}]
[null,{"$f":"'Set Problem'!B68","v":0}]
[null,{"$f":"'Set Problem'!B69","v":0}]
[null,{"$f":"'Set Problem'!B70","v":0}]
[null,{"$f":"'Set Problem'!B71","v":0}]
[null,{"$f":"'Set Problem'!B72","v":0}]
[null,{"$f":"'Set Problem'!B73","v":0}]
[null,{"$f":"'Set Problem'!B74","v":0}]
[null,{"$f":"'Set Problem'!B75","v":0}]
[null,{"$f":"'Set Problem'!B76","v":0}]
[null,{"$f":"'Set Problem'!B77","v":0}]
[null,{"$f":"'Set Problem'!B78","v":0}]
[null,{"$f":"'Set Problem'!B79","v":0}]
[null,{"$f":"'Set Problem'!B80","v":0}]
[null,{"$f":"'Set Problem'!B81","v":0}]
[null,{"$f":"'Set Problem'!B82","v":0}]
[null,{"$f":"'Set Problem'!B83","v":0}]
[null,{"$f":"'Set Problem'!B84","v":0}]
[null,{"$f":"'Set Problem'!B85","v":0}]
[null,{"$f":"'Set Problem'!B86","v":0}]
[null,{"$f":"'Set Problem'!B87","v":0}]
[null,{"$f":"'Set Problem'!B88","v":0}]
[null,{"$f":"'Set Problem'!B89","v":0}]
[null,{"$f":"'Set Problem'!B90","v":0}]
[null,{"$f":"'Set Problem'!B91","v":0}]
[null,{"$f":"'Set Problem'!B92","v":0}]
[null,{"$f":"'Set Problem'!B93","v":0}]
[null,{"$f":"'Set Problem'!B94","v":0}]
[null,{"$f":"'Set Problem'!B95","v":0}]
[null,{"$f":"'Set Problem'!B96","v":0}]
[null,{"$f":"'Set Problem'!B97","v":0}]
[null,{"$f":"'Set Problem'!B98","v":0}]
[null,{"$f":"'Set Problem'!B99","v":0}]
[null,{"$f":"'Set Problem'!B100","v":0}]
[null,{"$f":"'Set Problem'!B101","v":0}]
[null,{"$f":"'Set Problem'!B102","v":0}]
[null,{"$f":"'Set Problem'!B103","v":0}]
[null,{"$f":"'Set Problem'!B104","v":0}]
[null,{"$f":"'Set Problem'!B105","v":0}]
[null,{"$f":"'Set Problem'!B106","v":0}]
[null,{"$f":"'Set Problem'!B107","v":0}]
[null,{"$f":"'Set Problem'!B108","v":0}]
[null,{"$f":"'Set Problem'!B109","v":0}]
[null,{"$f":"'Set Problem'!B110","v":0}]
[null,{"$f":"'Set Problem'!B111","v":0}]
[null,{"$f":"'Set Problem'!B112","v":0}]
[null,{"$f":"'Set Problem'!B113","v":0}]
[null,{"$f":"'Set Problem'!B114","v":0}]
[null,{"$f":"'Set Problem'!B115","v":0}]
[null,{"$f":"'Set Problem'!B116","v":0}]
[null,{"$f":"'Set Problem'!B117","v":0}]
[null,{"$f":"'Set Problem'!B118","v":0}]
[null,{"$f":"'Set Problem'!B119","v":0}]
[null,{"$f":"'Set Problem'!B120","v":0}]
[null,{"$f":"'Set Problem'!B121","v":0}]
[null,{"$f":"'Set Problem'!B122","v":0}]
[null,{"$f":"'Set Problem'!B123","v":0}]
[null,{"$f":"'Set Problem'!B124","v":0}]
[null,{"$f":"'Set Problem'!B125","v":0}]

{"sheet":"A_gls","index":7,"n_rows":32,"n_cols":32,"rows_kept":32,"cut":false,"hidden":false,"merged":[]}
[-7.5053267924649822E-2,-4.2268972370350127E-2,-2.7790688676669843E-2,-1.9605859397973591E-2,-1.3841777933988941E-2,-9.3836823363092157E-3,-5.7463270023424603E-3,-2.6734655851962932E-3,-2.1096231579428658E-2,-2.0379927248746894E-2,-1.9083311967269048E-2,-1.7419659581954218E-2,-1.5604390528135998E-2,-1.3804835355867186E-2,-1.2125715930637748E-2,-1.0618178546883397E-2,5.6559996334041842E-3,4.4416261475247873E-3,3.2842027664430587E-3,2.2258696470614453E-3,1.3173679570554462E-3,6.1379281494183032E-4,1.6657048962124773E-4,1.2936912397048784E-5,-1.414673347160343E-3,-1.8834025298654614E-3,-2.6304206854828845E-3,-3.9289533650075596E-3,-6.4925162753466823E-3,-1.2705336833063569E-2,-3.4802243636567094E-2,-0.17620818647384029]
[0.5631863013984536,-5.1247961711478912E-2,-2.6617637201220547E-2,-1.6748937236586985E-2,-1.1810359678551631E-2,-8.5570165855049542E-3,-6.147429685233902E-3,-4.2406678074997078E-3,-1.2413786537109959E-2,-1.173498944584289E-2,-1.0564794558561028E-2,-9.1682687856956512E-3,-7.7704037422732727E-3,-6.505300080447687E-3,-5.4257030023870884E-3,-4.5340003996770083E-3,1.2562446332768751E-3,7.8273976422391133E-4,3.7625163798580977E-4,6.3788663131821325E-5,-1.2813077237305577E-4,-1.7910921565078715E-4,-8.0873305574871121E-5,1.5928459777684654E-4,-3.3007803523078492E-3,-4.3323112477026207E-3,-5.9158074532103229E-3,-8.5006033570815334E-3,-1.3035186987387695E-2,-2.1469101865327363E-2,-3.4399949870909996E-2,5.6545159108070953E-3]
[0.37027952872845876,0.51938918763395836,-5.0938031855735831E-2,-2.6310107087108965E-2,-1.6531188547400648E-2,-1.1686852031831726E-2,-8.5211221693914409E-3,-6.1911957517882263E-3,-1.4365484332212684E-2,-1.3242759210804294E-2,-1.1411470019525496E-2,-9.3904950914971141E-3,-7.5370266668389491E-3,-5.9980804236772454E-3,-4.7843232856037733E-3,-3.8486828443352224E-3,5.3742200815062565E-4,1.7467984009891368E-4,-9.4126128151194232E-5,-2.435322909073507E-4,-2.5467415890545984E-4,-1.2131061184190833E-4,1.4689756770803992E-4,5.2627184327434773E-4,-4.1501175211678867E-3,-5.2914614515033459E-3,-6.9122532771197127E-3,-9.2421009470414969E-3,-1.2492807520446857E-2,-1.6185267414857374E-2,-1.6075365075415887E-2,1.7499190248089977E-3]
[0.26122592580055504,0.32682152962262562,0.51651204666925132,-5.086830860543412E-2,-2.6254703268787344E-2,-1.6506410459386143E-2,-1.1694395182227171E-2,-8.5596306828455253E-3,-1.7814322593012598E-2,-1.5761168509690032E-2,-1.2689031642623038E-2,-9.6680413049649652E-3,-7.2113621303415507E-3,-5.3844296571245766E-3,-4.0732497237151574E-3,-3.1384251724832536E-3,6.0223172515096266E-5,-1.8894039415313663E-4,-3.1847594999211213E-4,-3.0994451609444803E-4,-1.5777558573602533E-4,1.2742703352201277E-4,5.2083705866549348E-4,9.9010511737274327E-4,-4.5627473290009478E-3,-5.6128602198864917E-3,-6.9635879126485369E-3,-8.6271104276679309E-3,-1.0404399397612334E-2,-1.1461290058216715E-2,-9.6948916121365573E-3,-1.0144915424578071E-3]
[0.18442605254558128,0.23045520805379582,0.32453528228612677,0.516130848234716,-5.0862908353135096E-2,-2.6254104386290528E-2,-1.6512966190252172E-2,-1.1708367805706775E-2,-2.3684621974952261E-2,-1.9436357039140428E-2,-1.3949906611900133E-2,-9.4502426248670064E-3,-6.3686678866730628E-3,-4.3835867756500634E-3,-3.112158981724315E-3,-2.2826242825236317E-3,-2.2074928709637977E-4,-3.449170228617363E-4,-3.3090870008388874E-4,-1.7326512295210613E-4,1.1722551830484235E-4,5.154706313171114E-4,9.8879217716191714E-4,1.5049582029681018E-3,-4.6584498382089843E-3,-5.5252098343201187E-3,-6.5289241265225079E-3,-7.5844184613373701E-3,-8.4393952952653423E-3,-8.5619743872267368E-3,-7.1932819452277044E-3,-3.6522761039858437E-3]
[0.12502696545778813,0.16697281803479855,0.22943273632814959,0.32449300776678675,0.5161738727957137,-5.0862021468089741E-2,-2.6250737332133421E-2,-1.650680029061552E-2,-3.4547189508822643E-2,-2.4136169604583521E-2,-1.3954406664777499E-2,-7.7887425935756326E-3,-4.5070004064640835E-3,-2.7606069348438522E-3,-1.7911794937696263E-3,-1.2240763849387243E-3,-3.3201754825460165E-4,-3.2017909494625439E-4,-1.647555304039745E-4,1.2350982699283299E-4,5.1959956676349707E-4,9.9094464661947596E-4,1.5054477058271884E-3,2.0371428247651429E-3,-4.5699523464567248E-3,-5.2460874868623013E-3,-5.9562654981604561E-3,-6.6055257399964887E-3,-7.0156673737530352E-3,-6.9395975428435432E-3,-6.2418564842543142E-3,-5.7250329341013081E-3]
[7.6563315112562411E-2,0.11995461828986365,0.16728408733036015,0.22989549884460059,0.32465635027405265,0.51611667358922242,-5.0852477972381266E-2,-2.6231455380524515E-2,-5.8460939479999106E-2,-2.6426134879748632E-2,-9.3390596745676104E-3,-3.3766993687263727E-3,-1.2740655357843366E-3,-4.7074549933156639E-4,-1.4219190009107617E-4,-2.499846828332708E-6,-2.7788367403039512E-4,-1.2957729981994182E-4,1.5141459469085542E-4,5.4022117856308068E-4,1.0045185992306361E-3,1.5125651769393083E-3,2.0388346614831172E-3,2.5658735008071967E-3,-4.3955295535379286E-3,-4.9139235436219501E-3,-5.4179799813421168E-3,-5.8371405377704369E-3,-6.0754843114298306E-3,-6.0603957784116369E-3,-5.9468417066438732E-3,-7.4010845485484415E-3]
[3.5620908444391808E-2,8.274802871915804E-2,0.12154367819555198,0.1682704009138464,0.23019461892381721,0.32454078336174652,0.51583435904090813,-5.0830877424219156E-2,-0.12286564044419422,-2.9047085219759475E-3,4.9281998485463351E-3,4.0998216695060808E-3,2.9853568326819475E-3,2.1825240700526728E-3,1.6354648433484699E-3,1.2586225877208397E-3,-6.6030244593271624E-5,2.0429704471394667E-4,5.8224139976935103E-4,1.0356924479612811E-3,1.5332682258637352E-3,2.0499685772696081E-3,2.5689941436346951E-3,3.0806530008848001E-3,-4.1996064893092258E-3,-4.6033017623366597E-3,-4.9789550557005936E-3,-5.2853707319936612E-3,-5.487062867142619E-3,-5.609134436226319E-3,-5.9593123073716867E-3,-8.812943959643816E-3]
[1.6713485219185833E-2,6.605168375998903E-2,0.10162534938629515,0.14264844961215142,0.1941035010095653,0.26558975162211312,0.37970861814349116,0.57521951255878534,0.61181910979861465,2.6597902125022169E-2,1.1111734281689689E-2,6.0569660795554581E-3,3.7684266109463665E-3,2.5454246382982612E-3,1.821331147124411E-3,1.3608928043263857E-3,-1.1915081555654778E-3,-9.1381473607010568E-4,-5.3447574068760237E-4,-8.8808887854279254E-5,3.9044770856948145E-4,8.785565736817505E-4,1.3598386032998878E-3,1.8259596661576206E-3,-3.7567346197793453E-3,-4.1014593032357386E-3,-4.4067192912270025E-3,-4.6319506393204118E-3,-4.7436854688490959E-3,-4.7637287815862628E-3,-4.9543189462123455E-3,-7.2210195999919905E-3]
[1.208355158621649E-2,6.0895103710878327E-2,9.4348915774827707E-2,0.13149259825489973,0.17517453814971518,0.22846737227313896,0.28964597082462712,0.3260227918693186,0.12052663522775178,0.51859733341484815,9.0099626669894496E-3,5.2723546950255822E-3,3.4079558328820921E-3,2.3534842744625368E-3,1.706783031625198E-3,1.2860822262498392E-3,-3.896245436831129E-3,-3.4763572490056241E-3,-2.8313550661899661E-3,-2.0382997928045442E-3,-1.1717145322960249E-3,-2.8849825654277627E-4,5.7543892837739466E-4,1.4013853364834789E-3,-6.5721936891988122E-3,-7.1989745024973462E-3,-7.7241130877773491E-3,-8.0501590757180389E-3,-8.0859596648249852E-3,-7.8262116490154833E-3,-7.6130831712188478E-3,-9.9765876173399347E-3]
[3.284699450422143E-3,5.1365830489306541E-2,8.1323394082595979E-2,0.11250521390358466,0.14567948122795796,0.17974851660062194,0.20781213704613322,0.21278929530517204,8.4719401284256743E-2,2.8049126808694858E-2,0.507199453854974,4.3245409077964717E-3,2.8272175480130138E-3,1.9596180326687225E-3,1.4205678086116758E-3,1.0677353818904015E-3,-7.105468883786918E-3,-6.5002570551111749E-3,-5.5105802666858099E-3,-4.2847102515772752E-3,-2.9582978274260794E-3,-1.6267904422381714E-3,-3.447119604464287E-4,8.6324734633116572E-4,-9.4728932863882634E-3,-1.0323649650437982E-2,-1.0976318273174489E-2,-1.1286699071738543E-2,-1.1138047970378586E-2,-1.0547544509147114E-2,-9.9784052266230962E-3,-1.2580355069716206E-2]
[-8.9023044036876699E-3,3.8694075897535658E-2,6.474264784194253E-2,8.9838501535509069E-2,0.1138070633303301,0.13479364866776519,0.14793305731308859,0.14624663840121685,6.0135777509311893E-2,2.0721262840573951E-2,1.0631236964502732E-2,0.50318206272295829,2.0544797837882423E-3,1.3996584409957382E-3,9.9516284185691855E-4,7.3327606403943721E-4,-1.0975030027040845E-2,-1.0086312451017168E-2,-8.6031533546488351E-3,-6.8085347740494996E-3,-4.9282241976248663E-3,-3.0963684635979993E-3,-1.3750669628209162E-3,2.1648775684533512E-4,-1.2245033873703636E-2,-1.3192168265570632E-2,-1.3810670843691482E-2,-1.3942065224465377E-2,-1.3499817655431231E-2,-1.2582168073158199E-2,-1.1800551135680168E-2,-1.4895350299553411E-2]
[-2.3577395235971018E-2,2.4140696059128205E-2,4.6575739259579897E-2,6.6527019638768933E-2,8.373396340689461E-2,9.6891813340675384E-2,0.10333928533865648,0.1002833244583356,4.1433380213245496E-2,1.4181159031264377E-2,7.0655115791064494E-3,4.0117949531202598E-3,0.50122002454478021,7.7514501241355573E-4,5.100327065082331E-4,3.4581551334221527E-4,-1.5823121975370821E-2,-1.4412868103061605E-2,-1.2131595363567851E-2,-9.5353533432982265E-3,-6.9669712473704008E-3,-4.5738946324007509E-3,-2.3958443090215361E-3,-4.257624012781446E-4,-1.4815213017017817E-2,-1.5688262017401557E-2,-1.6090693544593197E-2,-1.5901462448721822E-2,-1.5120551413479847E-2,-1.3960074106330569E-2,-1.3177600360301439E-2,-1.7118744669085941E-2]
[-3.9889378860066528E-2,8.732364346603308E-3,2.8181855266575063E-2,4.4185705522560702E-2,5.6759064270577086E-2,6.5310665799783951E-2,6.8544349436136867E-2,6.5354443488754105E-2,2.6309197990183601E-2,8.368964248111321E-3,3.6805535708120691E-3,1.7214927662579237E-3,7.6393938064942836E-4,0.50013494840759365,5.4573279648667778E-6,-6.1427359627298976E-5,-2.2257819417089413E-2,-1.9719966951249761E-2,-1.6037216917328321E-2,-1.2299948669673691E-2,-8.9049039634308408E-3,-5.9146554535668078E-3,-3.2882541760367954E-3,-9.6465212130544429E-4,-1.7055892334255054E-2,-1.7670200290036641E-2,-1.7705901672626628E-2,-1.7131273051693457E-2,-1.6059426754098598E-2,-1.4805152427573421E-2,-1.4244393806106601E-2,-1.9367426652759687E-2]
[-5.712971489993085E-2,-6.8139873042012602E-3,1.0339902927637647E-2,2.3460430391137609E-2,3.2918518791302649E-2,3.8691386880029884E-2,4.0243325668861914E-2,3.7181991832939305E-2,1.3589071329169991E-2,3.1742290304330022E-3,5.2364684994423837E-4,-4.7528095956984569E-4,-8.6895721995253541E-4,-9.9471927029848198E-4,0.49950199339377221,-4.7082678844000977E-4,-3.1642694004048115E-2,-2.613178070439454E-2,-1.995023202567876E-2,-1.4744109556159592E-2,-1.0485939917741969E-2,-6.9444347184171463E-3,-3.9307807353291275E-3,-1.3108605407582453E-3,-1.8813715097808079E-2,-1.9018964016575331E-2,-1.8619990654497404E-2,-1.7697412757370017E-2,-1.645980012526049E-2,-1.5282994876479685E-2,-1.5131986974358344E-2,-2.169710485203985E-2]
[-7.4759094303898946E-2,-2.2053051508730388E-2,-6.5762705144908435E-3,4.488944270794909E-3,1.184395227841196E-2,1.5873098854140479E-2,1.6463162079547684E-2,1.3544035998141853E-2,2.5988698138294406E-3,-1.5042891942260799E-3,-2.4040277369595342E-3,-2.5529775264759654E-3,-2.4345377302798649E-3,-2.2188984471265415E-3,-1.9795990824988991E-3,0.49912705409551045,-4.7762136782888924E-2,-3.2337477008874786E-2,-2.2760685600212768E-2,-1.6274728554490654E-2,-1.1396233374739283E-2,-7.4856880063790751E-3,-4.2140644366231656E-3,-1.390814092285554E-3,-1.9962243671467459E-2,-1.9692486504726197E-2,-1.8896517464512111E-2,-1.7746973149545105E-2,-1.6500897699479274E-2,-1.55526398762322E-2,-1.5943091961576047E-2,-2.4122874831013288E-2]
[-7.5359804973216607E-2,-2.451306532637252E-2,-1.0550505949517204E-2,-1.1839035770233655E-3,4.3400838497819156E-3,6.5278087396291942E-3,5.4645060596913552E-3,1.2990183907746783E-3,-4.3706696224652258E-3,-6.4769452671620108E-3,-8.2013899083849245E-3,-1.0683776852108114E-2,-1.556834769956336E-2,-2.7729604169559243E-2,-7.1733634815354691E-2,-0.35491320496654211,-9.4876539261209661E-2,-5.6219733790320886E-2,-3.783493916379041E-2,-2.688860126407568E-2,-1.8994956312441753E-2,-1.2797170485381173E-2,-7.6761125444395773E-3,-3.2942930841592536E-3,-3.0658959286475752E-2,-2.9977288578622252E-2,-2.8495081244715153E-2,-2.652168706937641E-2,-2.4461082231217186E-2,-2.2886507462091327E-2,-2.3283438213191957E-2,-3.4916201731356268E-2]
[-5.9179650271644194E-2,-1.5273578462119066E-2,-3.4292616682489768E-3,3.7143046296009845E-3,6.7813075191654549E-3,6.2950524911231662E-3,2.5481019802087224E-3,-4.0191524338434011E-3,-8.9657757885124676E-3,-1.1930886436412781E-2,-1.6259409726598662E-2,-2.2963515000004008E-2,-3.4871891235499934E-2,-5.8669078755275467E-2,-0.10943254627815845,-0.18880115885827525,0.59732422927972317,-5.2201796343699446E-2,-2.7633165157803667E-2,-1.7584720797248189E-2,-1.2420725344328348E-2,-8.9432482291821689E-3,-6.3227806598711691E-3,-4.2198086881445581E-3,-1.3950617368128325E-2,-1.3393428668950233E-2,-1.2292244348485349E-2,-1.090024997765595E-2,-9.4562839701500569E-3,-8.1681680949176882E-3,-7.4015303378974565E-3,-9.337678728364383E-3]
[-4.3758291374337677E-2,-7.341787369107405E-3,1.8478556144016643E-3,6.2607929912199172E-3,6.5058941928061425E-3,3.2392643007188365E-3,-2.9775263807810797E-3,-1.1454482575819869E-2,-1.4023692783346239E-2,-1.6637421197246097E-2,-2.2280399948156997E-2,-3.0746498302964307E-2,-4.3944454682471878E-2,-6.4764489086695062E-2,-9.4457410869034877E-2,-0.1221008620274395,0.41179031475968925,0.53187678134001715,-5.1294521152789534E-2,-2.6664579736080048E-2,-1.6782485205896501E-2,-1.1810957551352814E-2,-8.5159319378534798E-3,-6.061617893317708E-3,-1.5365229105309837E-2,-1.4347450614265209E-2,-1.2585851958934444E-2,-1.0579883160399598E-2,-8.6817050341766525E-3,-7.0694156582175724E-3,-5.9305691266978338E-3,-6.5442517847498364E-3]
[-2.9657198262121251E-2,-1.2447063454145342E-3,4.7809521105383864E-3,6.0930768997760794E-3,3.4065123006563219E-3,-2.4283310695844039E-3,-1.0623300969846245E-2,-2.037526205415878E-2,-1.9198825305702747E-2,-2.0314778652820609E-2,-2.6006392439726859E-2,-3.4247478788035968E-2,-4.561319818434393E-2,-6.0451879835964326E-2,-7.6973176630053375E-2,-8.9084364882514422E-2,0.30423003459314685,0.34280692893579673,0.5217510437926649,-5.098656994111847E-2,-2.6332570148323034E-2,-1.6497864958405141E-2,-1.1588907273634147E-2,-8.3575865760396779E-3,-1.8606247330818827E-2,-1.6652040427829279E-2,-1.3653448539005467E-2,-1.0657624962359079E-2,-8.1620387520095535E-3,-6.2353844712842062E-3,-4.8450059228378542E-3,-4.573768038232489E-3]
[-1.7552439666957808E-2,2.5002120688117661E-3,4.9996858855233667E-3,3.1016479623852161E-3,-2.3047348667315061E-3,-1.0215865428972074E-2,-1.9753582112089097E-2,-3.0164110941220693E-2,-2.4292322700620241E-2,-2.3049389580469967E-2,-2.7917667225950422E-2,-3.4939684219835274E-2,-4.376251224375001E-2,-5.3842591636832172E-2,-6.3505775586571708E-2,-6.9778021296433429E-2,0.22865083327490793,0.2475127312606929,0.33153814345951355,0.51783034502157854,-5.0856834360327938E-2,-2.6176868310847878E-2,-1.6346869684149268E-2,-1.1451219475629991E-2,-2.4442613128817861E-2,-2.0298072479866765E-2,-1.4896859256953325E-2,-1.043990153905924E-2,-7.3374369521002607E-3,-5.2534566781186082E-3,-3.8187831264046967E-3,-3.0434025110762011E-3]
[-8.1780957966820483E-3,3.4949529633812541E-3,2.3815331574938187E-3,-2.5050377536712251E-3,-1.0134509567134112E-2,-1.9482997687010738E-2,-2.9744178400919172E-2,-4.0329199123619458E-2,-2.922743487463737E-2,-2.510402770030614E-2,-2.8694017246550015E-2,-3.4206882340709531E-2,-4.0752294236464676E-2,-4.7605658356075858E-2,-5.3605091726474416E-2,-5.7253649352675191E-2,0.17085062285719663,0.18453664371028466,0.23717035829841546,0.32669977190839566,0.51571966743709374,-5.0770043389050834E-2,-2.6057190183287532E-2,-1.6211640486662859E-2,-3.5389134735571683E-2,-2.5091881151943315E-2,-1.5010383609939171E-2,-8.9102277248140384E-3,-5.6370368564268893E-3,-3.8179259183736894E-3,-2.663425109325112E-3,-1.771304443656016E-3]
[-2.2193635830551331E-3,1.5780784810560606E-3,-2.8838485186093313E-3,-1.0238930150114248E-2,-1.9440338926292971E-2,-2.9598660500973244E-2,-4.0093123143191904E-2,-5.0540031449677163E-2,-3.3999548434976809E-2,-2.6755364713320781E-2,-2.8902299664902816E-2,-3.2948886588476313E-2,-3.7678909378637694E-2,-4.2386718926410785E-2,-4.6290533704012274E-2,-4.8579420230986402E-2,0.12435709726150082,0.13792669939980609,0.1754723415502524,0.23225744635697376,0.32371891519708851,0.51397803347064563,-5.0684423800921932E-2,-2.5927078318150353E-2,-5.9500867491854945E-2,-2.7576886637569197E-2,-1.0593871790214093E-2,-4.7185486975269281E-3,-2.6628101318095822E-3,-1.8368159622604505E-3,-1.3629873384427022E-3,-7.5820303835537209E-4]
[-1.723697415819078E-4,-3.1081157661177897E-3,-1.0331609292735027E-2,-1.9464085685502595E-2,-2.9588520430632505E-2,-4.0052337008336519E-2,-5.0457197035723732E-2,-6.0605937906100978E-2,-3.8632672949671709E-2,-2.8216466989187554E-2,-2.8916718005429502E-2,-3.1652069157535628E-2,-3.4971700006112195E-2,-3.8212916902080833E-2,-4.082131674388656E-2,-4.2313757287966741E-2,8.5638900615011046E-2,0.10116236892558764,0.13010692784258479,0.17069947108530692,0.22879636766267619,0.3209996766065733,0.51208419169661479,-5.058290715575639E-2,-0.12428837495259043,-4.3400370547768061E-3,3.4238529204649367E-3,2.4901171292306028E-3,1.2807349396311771E-3,4.2787549796217917E-4,-7.2908303564490603E-5,-9.4802614180150482E-5]
[1.6325985357095067E-2,3.7204951548666363E-3,-6.4280924202097089E-3,-1.7633151148094245E-2,-2.9106922610309699E-2,-4.0388936116543747E-2,-5.1226321447442692E-2,-6.15448792872582E-2,-3.9114110847468034E-2,-2.8454453328373847E-2,-2.8997818865508011E-2,-3.144479086426355E-2,-3.427927458471261E-2,-3.6840950103919502E-2,-3.8656083407729205E-2,-3.9392161308931646E-2,6.9149807676794434E-2,8.512042571879741E-2,0.11055744641609723,0.1451955185318044,0.19259824128550837,0.26167770345693464,0.37501543024507461,0.57202687621747128,0.61056694195550165,2.5743721097705039E-2,1.0272362222536994E-2,5.2033835130496364E-3,2.9490181893866018E-3,1.8778264750922962E-3,1.6132096722798624E-3,3.0863367992043007E-3]
[5.4000662521409074E-2,2.5668703435807693E-2,1.1031177147255178E-2,-3.714054920429974E-3,-1.7777919602354905E-2,-3.0859868720306771E-2,-4.2849892308593547E-2,-5.382427736113006E-2,-3.5618807920697305E-2,-2.7478136487919167E-2,-2.8986414192946622E-2,-3.186572697607646E-2,-3.4673486055949547E-2,-3.6766809663342968E-2,-3.7763472918430498E-2,-3.7515192436818577E-2,6.681153341769952E-2,8.0671180458035868E-2,0.10360136936267537,0.13418501964828627,0.17383394835811194,0.22485865506370786,0.28530861279352504,0.32238527105156828,0.11871929235101193,0.51800341718738041,8.491244245473293E-3,4.8756003489639202E-3,3.2941723572585471E-3,2.856827835734758E-3,3.7072976110198311E-3,9.0990515193810195E-3]
[9.7873802822302541E-2,5.0376031025514717E-2,2.9648532126307806E-2,1.0245762724097213E-2,-6.9897580127886534E-3,-2.2063305266796351E-2,-3.5170798527705729E-2,-4.6659903646591103E-2,-3.2241428664189865E-2,-2.6317151762929852E-2,-2.8532661673798438E-2,-3.1539789554636335E-2,-3.4000127259650535E-2,-3.5375511764555195E-2,-3.5471234173557395E-2,-3.4365588242665168E-2,5.9874139246941488E-2,7.1595747319001452E-2,9.0750026583743135E-2,0.11523622316932643,0.14439821531640143,0.17631643952779277,0.20373738891045859,0.20931597682473599,8.3299337669242551E-2,2.7499977955374694E-2,0.50710629417022479,4.5250015015176632E-3,3.6048265550126693E-3,3.8988549399068535E-3,6.0844858347444079E-3,1.6205406363620202E-2]
[0.15036169572847574,7.8313215089560476E-2,4.8904156842582258E-2,2.3354474875617547E-2,2.434317641917442E-3,-1.4592541567216779E-2,-2.8550247629424794E-2,-4.0232234267447479E-2,-2.8943292138571011E-2,-2.4756876162875925E-2,-2.7304383539248703E-2,-3.0089917251411202E-2,-3.1943583777205201E-2,-3.2518131487221817E-2,-3.18436837628851E-2,-3.0179934026955714E-2,4.9082385657377263E-2,5.9061553717897709E-2,7.4131536293115419E-2,9.2439884805671668E-2,0.11243466617357187,0.13141622027709024,0.14411432128138288,0.14324471205433356,5.9400856853733745E-2,2.1011397547553247E-2,1.1558483144739853E-2,0.50414674207273735,3.9369886692941017E-3,5.0755629828005151E-3,8.8594576467188411E-3,2.4815664315222856E-2]
[0.21560631673182373,0.10958544047887783,6.7182509914303482E-2,3.3834735316898568E-2,9.227156971512546E-3,-9.1697432742876388E-3,-2.3316745318748566E-2,-3.4622088282748494E-2,-2.5612250266065784E-2,-2.2524385620639506E-2,-2.4951526567978374E-2,-2.7205366461975515E-2,-2.8346225709853293E-2,-2.8242910517766229E-2,-2.7098018688081309E-2,-2.5248315110854593E-2,3.552152972465418E-2,4.4374119539912181E-2,5.5713019716808213E-2,6.8801002636463743E-2,8.2077782664657789E-2,9.3405424276887472E-2,9.9709408743024822E-2,9.7875698415205201E-2,4.156381115139262E-2,1.5508583893162118E-2,9.3344386297606347E-3,7.7138650089352999E-3,0.50437289402789942,6.452078771202587E-3,1.2163492823181824E-2,3.5656113139206219E-2]
[0.30156344839800697,0.14221846194657409,8.0072085377562913E-2,3.8507997125053782E-2,1.1772258813137683E-2,-6.4145333877082085E-3,-1.9557859812666133E-2,-2.9648689512289963E-2,-2.20194987085656E-2,-1.9332918584985086E-2,-2.1198326195541749E-2,-2.2734832437461622E-2,-2.3242108032325164E-2,-2.2740624777224556E-2,-2.149186422256329E-2,-1.9804274595001555E-2,2.0493231871659998E-2,2.8756644103985571E-2,3.695433275575765E-2,4.5963093241732492E-2,5.4599220187804463E-2,6.1478560726883118E-2,6.4913531734840227E-2,6.3476215439053893E-2,2.7372461138313528E-2,1.0841910579925283E-2,7.4157987008254787E-3,7.3633734746450588E-3,9.7554005542953917E-3,0.50798388096301839,1.6076149199575018E-2,5.0025947428882646E-2]
[0.42626171485597936,0.16365779398886141,7.704761456310398E-2,3.308315035869646E-2,8.8987927305287078E-3,-6.2491198817600079E-3,-1.6721422340632602E-2,-2.457779454667857E-2,-1.7728953932496586E-2,-1.4922285718705868E-2,-1.59087694721433E-2,-1.6699408336125158E-2,-1.6782014260046094E-2,-1.6210496801318117E-2,-1.5190498403481368E-2,-1.3933876096836688E-2,5.5509286712671678E-3,1.3363599031379767E-2,1.8913008388776409E-2,2.4714362787348437E-2,3.0058009977726046E-2,3.4194053872679264E-2,3.6248875792380057E-2,3.5526860021345689E-2,1.5502737848570361E-2,6.7561688710563207E-3,5.6460432068414692E-3,6.9525834315611375E-3,1.0662038606410297E-2,1.8772771779426357E-2,0.52048220634477638,7.0793431932885426E-2]
[0.63995722455486048,0.10677848765820069,4.4009078797043383E-2,1.6042728717562862E-2,1.888986216147092E-3,-6.8494208163710647E-3,-1.290690071960187E-2,-1.7500992706881619E-2,-1.1802540137016839E-2,-8.9479753169291031E-3,-8.9746965096016238E-3,-9.1144138105885338E-3,-9.0037913669575361E-3,-8.6342588575478354E-3,-8.0845160405235046E-3,-7.4412354901746049E-3,-7.0339823779229623E-3,-3.8884282944675577E-4,2.6549747752503635E-3,5.6266797357530443E-3,8.2793764577197108E-3,1.0364068682449512E-2,1.1533673008291239E-2,1.1478949773114824E-2,5.0548704607548617E-3,2.8630670141248527E-3,3.552687146925046E-3,5.7377752014625824E-3,1.0198107106629328E-2,1.997291312189688E-2,4.843080128023354E-2,0.60553395888977946]

{"sheet":"B_gls","index":8,"n_rows":32,"n_cols":32,"rows_kept":32,"cut":false,"hidden":false,"merged":[]}
[-0.5,0,0,0,0,0,0,0,1.2253185531399659E-3,8.8075041722214032E-4,2.2530679016778232E-4,-6.8369306094660505E-4,-1.7797588462277242E-3,-2.9995891167477729E-3,-4.2901640309046226E-3,-5.6109143345947207E-3,1.1273696799381821E-2,1.2737044162674585E-2,1.4307692902441925E-2,1.591215503371288E-2,1.7431536373327589E-2,1.8706581555857631E-2,1.9564780281001264E-2,1.9868524305548203E-2,1.254401684110229E-3,4.0914760052526526E-3,7.3992143036710417E-3,1.1364036929000339E-2,1.6309287604578646E-2,2.2868778897076437E-2,3.2522514090032817E-2,4.8030881034831031E-2]
[0,-0.5,0,0,0,0,0,0,4.0529261923279115E-3,3.5980212429596215E-3,2.7458622888795947E-3,1.589956659754266E-3,2.312321629857893E-4,-1.2423520582146494E-3,-2.764017301099402E-3,-4.287771798843403E-3,1.2737044162674585E-2,1.4307692902441925E-2,1.591215503371288E-2,1.7431536373327446E-2,1.8706581555857773E-2,1.9564780281001264E-2,1.9868524305548363E-2,1.9564780281001084E-2,9.0691003468163357E-4,3.6315092515251148E-3,6.7626420754401916E-3,1.0427972828445426E-2,1.4808336260051113E-2,2.0126944242917538E-2,2.6404773007911872E-2,3.1992334691106246E-2]
[0,0,-0.5,0,0,0,0,0,7.3457487460266207E-3,6.7186939764488545E-3,5.5711091752366354E-3,4.0638856741199384E-3,2.3533120034127109E-3,5.5940983800341132E-4,-1.2385671792212124E-3,-2.9938282389324758E-3,1.4307692902441925E-2,1.591215503371288E-2,1.7431536373327446E-2,1.870658155585762E-2,1.9564780281001413E-2,1.9868524305548363E-2,1.956478028100124E-2,1.8706581555857443E-2,2.4652742790448313E-4,2.7712349845090958E-3,5.6009747387226975E-3,8.7872995741283249E-3,1.235996048439289E-2,1.6244889769819096E-2,2.0035183360746368E-2,2.2633322288896727E-2]
[0,0,0,-0.5,0,0,0,0,1.1285136635113964E-2,1.0369027010718542E-2,8.7542493213266549E-3,6.7343096284476498E-3,4.5516055603403967E-3,2.3598127287860157E-3,2.4056919953252006E-4,-1.7695605616107404E-3,1.591215503371288E-2,1.7431536373327446E-2,1.870658155585762E-2,1.9564780281001257E-2,1.9868524305548523E-2,1.956478028100124E-2,1.8706581555857589E-2,1.7431536373327269E-2,-6.6814703755676066E-4,1.6067012611860458E-3,4.0804067620868207E-3,6.7468659387614309E-3,9.5512815836929655E-3,1.2330898352383447E-2,1.472948790260754E-2,1.6181958655920346E-2]
[0,0,0,0,-0.5,0,0,0,1.6181958655920453E-2,1.4729487902607481E-2,1.2330898352383367E-2,9.5512815836928111E-3,6.7468659387613658E-3,4.0804067620867608E-3,1.6067012611859907E-3,-6.6814703755681141E-4,1.7431536373327446E-2,1.870658155585762E-2,1.9564780281001257E-2,1.9868524305548363E-2,1.9564780281001396E-2,1.8706581555857589E-2,1.7431536373327405E-2,1.5912155033712714E-2,-1.7695605616106951E-3,2.4056919953256817E-4,2.359812728786066E-3,4.5516055603404479E-3,6.7343096284477608E-3,8.7542493213267122E-3,1.0369027010718582E-2,1.1285136635113886E-2]
[0,0,0,0,0,-0.5,0,0,2.2633322288896869E-2,2.0035183360746268E-2,1.6244889769818971E-2,1.2359960484392687E-2,8.7872995741282451E-3,5.6009747387226264E-3,2.7712349845090338E-3,2.4652742790442735E-4,1.870658155585762E-2,1.9564780281001257E-2,1.9868524305548363E-2,1.9564780281001243E-2,1.8706581555857738E-2,1.7431536373327405E-2,1.5912155033712835E-2,1.4307692902441769E-2,-2.9938282389324359E-3,-1.2385671792211708E-3,5.5940983800345327E-4,2.3533120034127525E-3,4.0638856741200156E-3,5.571109175236677E-3,6.7186939764488831E-3,7.3457487460265713E-3]
[0,0,0,0,0,0,-0.5,0,3.1992334691106412E-2,2.6404773007911678E-2,2.0126944242917361E-2,1.4808336260050863E-2,1.0427972828445332E-2,6.7626420754401135E-3,3.6315092515250467E-3,9.0691003468157394E-4,1.9564780281001257E-2,1.9868524305548363E-2,1.9564780281001243E-2,1.8706581555857596E-2,1.7431536373327547E-2,1.5912155033712835E-2,1.4307692902441878E-2,1.2737044162674441E-2,-4.2877717988433692E-3,-2.7640173010993669E-3,-1.2423520582146141E-3,2.3123216298582248E-4,1.5899566597543135E-3,2.7458622888796263E-3,3.5980212429596427E-3,4.0529261923278864E-3]
[0,0,0,0,0,0,0,-0.5,4.8030881034831135E-2,3.2522514090032428E-2,2.286877889707619E-2,1.6309287604578362E-2,1.1364036929000237E-2,7.3992143036709567E-3,4.0914760052525815E-3,1.2544016841101672E-3,1.9868524305548363E-2,1.9564780281001243E-2,1.8706581555857596E-2,1.7431536373327415E-2,1.5912155033712971E-2,1.4307692902441878E-2,1.2737044162674536E-2,1.1273696799381693E-2,-5.6109143345946903E-3,-4.2901640309045913E-3,-2.9995891167477434E-3,-1.7797588462276968E-3,-6.8369306094658272E-4,2.2530679016780712E-4,8.8075041722215702E-4,1.2253185531399609E-3]
[1.414673347160343E-3,1.8834025298654614E-3,2.6304206854828845E-3,3.9289533650075596E-3,6.492516275346613E-3,1.2705336833063491E-2,3.4802243636566733E-2,0.17620818647384084,7.5053267924649822E-2,4.2268972370350127E-2,2.7790688676669843E-2,1.9605859397973591E-2,1.3841777933988941E-2,9.3836823363092157E-3,5.7463270023424603E-3,2.6734655851962932E-3,2.1096231579428658E-2,2.0379927248746894E-2,1.9083311967269048E-2,1.7419659581954218E-2,1.5604390528136112E-2,1.3804835355867174E-2,1.2125715930637732E-2,1.0618178546883305E-2,-5.6559996334041842E-3,-4.4416261475247873E-3,-3.2842027664430587E-3,-2.2258696470614453E-3,-1.3173679570554462E-3,-6.1379281494183032E-4,-1.6657048962124773E-4,-1.2936912397048784E-5]
[4.0975050023820533E-3,5.3930177525420408E-3,7.3972243501894139E-3,1.0713336071087149E-2,1.6691683215269294E-2,2.8624573524361843E-2,5.4000096744955803E-2,9.3583520905524631E-2,4.2268972370350724E-2,7.5053267924649822E-2,4.2268972370350121E-2,2.7790688676669843E-2,1.9605859397973591E-2,1.3841777933988941E-2,9.3836823363092157E-3,5.7463270023424603E-3,2.4294895173773642E-2,2.3212685295834215E-2,2.1312254443840131E-2,1.8978782437276579E-2,1.6558582729391369E-2,1.4279994245933115E-2,1.2254740109171257E-2,1.0514013103084587E-2,-4.4416261475247873E-3,-3.2842027664430587E-3,-2.2258696470614453E-3,-1.317367957055438E-3,-6.1379281494183791E-4,-1.6657048962124773E-4,-1.2936912397048887E-5,-1.6657048962125624E-4]
[6.3883317272024351E-3,8.2390024721896403E-3,1.0958850636219731E-2,1.5112033419465664E-2,2.1667188567179911E-2,3.2040612926803456E-2,4.6828885465957655E-2,6.055947079544402E-2,2.7790688676670085E-2,4.2268972370350724E-2,7.5053267924649822E-2,4.2268972370350121E-2,2.7790688676669843E-2,1.9605859397973591E-2,1.3841777933988941E-2,9.3836823363092157E-3,2.8624573524360868E-2,2.6884055703159982E-2,2.3964869844634713E-2,2.0602538108725546E-2,1.7350876724979286E-2,1.4488510877520538E-2,1.2092279140648423E-2,1.0135287776950037E-2,-3.2842027664430587E-3,-2.2258696470614453E-3,-1.317367957055438E-3,-6.1379281494183498E-4,-1.6657048962125025E-4,-1.2936912397048887E-5,-1.6657048962125898E-4,-6.1379281494184648E-4]
[8.1546484622841836E-3,1.0253849962368621E-2,1.3154397319531204E-2,1.7205291575426079E-2,2.2813278303580743E-2,3.0156703744628949E-2,3.833190387784613E-2,4.4292766391468917E-2,1.9605859397973751E-2,2.7790688676670085E-2,4.2268972370350724E-2,7.5053267924649822E-2,4.2268972370350121E-2,2.7790688676669843E-2,1.9605859397973591E-2,1.3841777933988941E-2,3.4802243636545022E-2,3.1760225737308252E-2,2.7021051531681328E-2,2.2065199473870624E-2,1.7720133798932249E-2,1.4214763472151601E-2,1.1485198260383305E-2,9.3818686925488358E-3,-2.2258696470614453E-3,-1.317367957055438E-3,-6.1379281494183498E-4,-1.6657048962124971E-4,-1.2936912397049683E-5,-1.6657048962125898E-4,-6.1379281494185287E-4,-1.3173679570554495E-3]
[9.3818686925489624E-3,1.148519826038338E-2,1.4214763472151695E-2,1.7720133798932218E-2,2.2065199473870731E-2,2.7021051531681446E-2,3.1760225737308349E-2,3.4802243636545056E-2,1.3841777933989058E-2,1.9605859397973751E-2,2.7790688676670085E-2,4.2268972370350724E-2,7.5053267924649822E-2,4.2268972370350121E-2,2.7790688676669843E-2,1.9605859397973591E-2,4.4292766391468841E-2,3.8331903877845956E-2,3.0156703744628768E-2,2.2813278303580591E-2,1.7205291575426083E-2,1.3154397319531094E-2,1.0253849962368545E-2,8.1546484622840691E-3,-1.317367957055438E-3,-6.1379281494183498E-4,-1.6657048962124971E-4,-1.293691239704958E-5,-1.6657048962125982E-4,-6.1379281494185287E-4,-1.3173679570554634E-3,-2.2258696470614536E-3]
[1.0135287776950164E-2,1.2092279140648492E-2,1.4488510877520622E-2,1.7350876724979231E-2,2.0602538108725629E-2,2.3964869844634789E-2,2.6884055703160034E-2,2.8624573524360888E-2,9.3836823363093111E-3,1.3841777933989058E-2,1.9605859397973751E-2,2.7790688676670085E-2,4.2268972370350724E-2,7.5053267924649822E-2,4.2268972370350121E-2,2.7790688676669843E-2,6.0559470795443833E-2,4.6828885465957301E-2,3.2040612926803165E-2,2.166718856717972E-2,1.5112033419465643E-2,1.0958850636219623E-2,8.2390024721895692E-3,6.3883317272023414E-3,-6.1379281494183498E-4,-1.6657048962124971E-4,-1.293691239704958E-5,-1.6657048962125679E-4,-6.137928149418571E-4,-1.3173679570554634E-3,-2.2258696470614753E-3,-3.2842027664430631E-3]
[1.0514013103084714E-2,1.2254740109171314E-2,1.4279994245933181E-2,1.6558582729391303E-2,1.8978782437276631E-2,2.1312254443840179E-2,2.321268529583425E-2,2.4294895173773652E-2,5.7463270023425375E-3,9.3836823363093111E-3,1.3841777933989058E-2,1.9605859397973751E-2,2.7790688676670085E-2,4.2268972370350724E-2,7.5053267924649822E-2,4.2268972370350121E-2,9.3583520905524076E-2,5.4000096744954984E-2,2.8624573524361426E-2,1.6691683215269097E-2,1.0713336071087112E-2,7.3972243501893341E-3,5.3930177525419896E-3,4.0975050023819909E-3,-1.6657048962124971E-4,-1.293691239704958E-5,-1.6657048962125679E-4,-6.1379281494184864E-4,-1.3173679570554714E-3,-2.2258696470614753E-3,-3.2842027664430938E-3,-4.4416261475247847E-3]
[1.061817854688343E-2,1.2125715930637783E-2,1.3804835355867228E-2,1.5604390528136038E-2,1.741965958195426E-2,1.9083311967269083E-2,2.0379927248746914E-2,2.1096231579428665E-2,2.6734655851963596E-3,5.7463270023425375E-3,9.3836823363093111E-3,1.3841777933989058E-2,1.9605859397973751E-2,2.7790688676670085E-2,4.2268972370350724E-2,7.5053267924649822E-2,0.17620818647383901,3.4802243636565387E-2,1.2705336833063224E-2,6.4925162753465219E-3,3.9289533650075413E-3,2.6304206854828541E-3,1.8834025298654431E-3,1.4146733471603211E-3,-1.293691239704958E-5,-1.6657048962125679E-4,-6.1379281494184864E-4,-1.3173679570554569E-3,-2.2258696470614887E-3,-3.2842027664430938E-3,-4.4416261475248246E-3,-5.655999633404173E-3]
[1.1273696799381821E-2,1.2737044162674585E-2,1.4307692902441925E-2,1.591215503371288E-2,1.7431536373327446E-2,1.870658155585762E-2,1.9564780281001257E-2,1.9868524305548363E-2,1.254401684110229E-3,4.0914760052526526E-3,7.3992143036710417E-3,1.1364036929000341E-2,1.630928760457849E-2,2.2868778897076374E-2,3.252251409003272E-2,4.8030881034831344E-2,-0.5,0,0,0,0,0,0,0,1.2253185531399659E-3,8.8075041722214032E-4,2.2530679016778232E-4,-6.8369306094660505E-4,-1.7797588462277441E-3,-2.9995891167477816E-3,-4.290164030904633E-3,-5.6109143345946817E-3]
[1.2737044162674585E-2,1.4307692902441925E-2,1.591215503371288E-2,1.7431536373327446E-2,1.870658155585762E-2,1.9564780281001257E-2,1.9868524305548363E-2,1.9564780281001243E-2,9.0691003468163357E-4,3.6315092515251152E-3,6.7626420754401916E-3,1.0427972828445426E-2,1.4808336260050974E-2,2.0126944242917492E-2,2.6404773007911823E-2,3.1992334691106482E-2,0,-0.5,0,0,0,0,0,0,4.0529261923279115E-3,3.5980212429596215E-3,2.7458622888795947E-3,1.589956659754266E-3,2.31232162985785E-4,-1.2423520582146613E-3,-2.7640173010994138E-3,-4.2877717988433744E-3]
[1.4307692902441925E-2,1.591215503371288E-2,1.7431536373327446E-2,1.870658155585762E-2,1.9564780281001257E-2,1.9868524305548363E-2,1.9564780281001243E-2,1.8706581555857596E-2,2.4652742790448313E-4,2.7712349845090958E-3,5.6009747387226975E-3,8.7872995741283249E-3,1.2359960484392777E-2,1.6244889769819065E-2,2.0035183360746341E-2,2.26333222888969E-2,0,0,-0.5,0,0,0,0,0,7.3457487460266207E-3,6.7186939764488545E-3,5.5711091752366354E-3,4.0638856741199393E-3,2.3533120034127217E-3,5.5940983800339744E-4,-1.2385671792212271E-3,-2.993828238932458E-3]
[1.591215503371288E-2,1.7431536373327446E-2,1.870658155585762E-2,1.9564780281001257E-2,1.9868524305548363E-2,1.9564780281001243E-2,1.8706581555857596E-2,1.7431536373327415E-2,-6.6814703755676066E-4,1.606701261186046E-3,4.0804067620868207E-3,6.7468659387614309E-3,9.551281583692877E-3,1.2330898352383428E-2,1.4729487902607528E-2,1.618195865592047E-2,0,0,0,-0.5,0,0,0,0,1.1285136635113964E-2,1.0369027010718542E-2,8.7542493213266549E-3,6.7343096284476498E-3,4.5516055603404227E-3,2.3598127287859992E-3,2.4056919953250276E-4,-1.7695605616107344E-3]
[1.743153637332745E-2,1.870658155585762E-2,1.9564780281001261E-2,1.9868524305548363E-2,1.956478028100124E-2,1.8706581555857592E-2,1.7431536373327412E-2,1.5912155033712842E-2,-1.7695605616106992E-3,2.4056919953256248E-4,2.3598127287860608E-3,4.5516055603404392E-3,6.7343096284476879E-3,8.7542493213266844E-3,1.0369027010718556E-2,1.1285136635113961E-2,0,0,0,0,-0.5,0,0,0,1.6181958655920477E-2,1.4729487902607499E-2,1.2330898352383383E-2,9.5512815836928215E-3,6.746865938761417E-3,4.0804067620867461E-3,1.6067012611859772E-3,-6.6814703755681032E-4]
[1.8706581555857631E-2,1.9564780281001264E-2,1.9868524305548363E-2,1.956478028100124E-2,1.8706581555857589E-2,1.7431536373327405E-2,1.5912155033712835E-2,1.4307692902441878E-2,-2.9938282389324459E-3,-1.2385671792211833E-3,5.5940983800343918E-4,2.3533120034127343E-3,4.0638856741199558E-3,5.5711091752366441E-3,6.7186939764488484E-3,7.3457487460266008E-3,0,0,0,0,0,-0.5,0,0,2.2633322288896928E-2,2.0035183360746313E-2,1.6244889769819002E-2,1.2359960484392711E-2,8.7872995741283162E-3,5.6009747387226151E-3,2.7712349845090212E-3,2.465274279044228E-4]
[1.9564780281001264E-2,1.9868524305548363E-2,1.956478028100124E-2,1.8706581555857589E-2,1.7431536373327405E-2,1.5912155033712835E-2,1.4307692902441878E-2,1.2737044162674536E-2,-4.2877717988433796E-3,-2.7640173010993786E-3,-1.2423520582146282E-3,2.3123216298580606E-4,1.5899566597542764E-3,2.7458622888795955E-3,3.5980212429596128E-3,4.0529261923278933E-3,0,0,0,0,0,0,-0.5,0,3.1992334691106503E-2,2.6404773007911733E-2,2.0126944242917385E-2,1.4808336260050877E-2,1.042797282844541E-2,6.7626420754400935E-3,3.6315092515250284E-3,9.069100346815606E-4]
[1.9868524305548363E-2,1.956478028100124E-2,1.8706581555857592E-2,1.7431536373327412E-2,1.5912155033712842E-2,1.4307692902441885E-2,1.2737044162674543E-2,1.1273696799381781E-2,-5.6109143345946955E-3,-4.2901640309045991E-3,-2.999589116747749E-3,-1.7797588462277049E-3,-6.836930609465889E-4,2.253067901677917E-4,8.8075041722214238E-4,1.2253185531399598E-3,0,0,0,0,0,0,0,-0.5,4.8030881034831233E-2,3.2522514090032442E-2,2.2868778897076197E-2,1.6309287604578365E-2,1.1364036929000312E-2,7.3992143036709307E-3,4.0914760052525581E-3,1.2544016841101475E-3]
[2.1096231579428658E-2,2.0379927248746894E-2,1.9083311967269048E-2,1.7419659581954218E-2,1.5604390528135998E-2,1.3804835355867186E-2,1.2125715930637748E-2,1.0618178546883397E-2,-5.6559996334041842E-3,-4.4416261475247873E-3,-3.2842027664430587E-3,-2.2258696470614453E-3,-1.317367957055438E-3,-6.1379281494183498E-4,-1.6657048962124971E-4,-1.293691239704958E-5,1.414673347160343E-3,1.8834025298654614E-3,2.6304206854828845E-3,3.9289533650075596E-3,6.4925162753466823E-3,1.2705336833063569E-2,3.4802243636567094E-2,0.17620818647384029,7.5053267924649822E-2,4.2268972370350121E-2,2.7790688676669843E-2,1.9605859397973591E-2,1.3841777933989028E-2,9.3836823363091845E-3,5.7463270023424343E-3,2.6734655851962602E-3]
[2.4294895173773642E-2,2.3212685295834215E-2,2.1312254443840131E-2,1.8978782437276579E-2,1.6558582729391248E-2,1.4279994245933132E-2,1.2254740109171269E-2,1.0514013103084675E-2,-4.4416261475247873E-3,-3.2842027664430587E-3,-2.2258696470614453E-3,-1.3173679570554378E-3,-6.1379281494183498E-4,-1.6657048962124971E-4,-1.293691239704958E-5,-1.6657048962125679E-4,4.0975050023820533E-3,5.3930177525420408E-3,7.3972243501894139E-3,1.0713336071087149E-2,1.6691683215269457E-2,2.8624573524361974E-2,5.400009674495608E-2,9.3583520905524034E-2,4.2268972370350724E-2,7.5053267924649822E-2,4.2268972370350121E-2,2.7790688676669843E-2,1.9605859397973723E-2,1.38417779339889E-2,9.3836823363091845E-3,5.7463270023423996E-3]
[2.8624573524360868E-2,2.6884055703159982E-2,2.3964869844634713E-2,2.0602538108725546E-2,1.7350876724979158E-2,1.4488510877520559E-2,1.2092279140648442E-2,1.0135287776950122E-2,-3.2842027664430587E-3,-2.2258696470614453E-3,-1.3173679570554378E-3,-6.1379281494183498E-4,-1.6657048962124971E-4,-1.293691239704958E-5,-1.6657048962125679E-4,-6.1379281494184864E-4,6.3883317272024351E-3,8.2390024721896403E-3,1.0958850636219731E-2,1.5112033419465664E-2,2.1667188567180116E-2,3.2040612926803561E-2,4.6828885465957787E-2,6.0559470795443576E-2,2.7790688676670085E-2,4.2268972370350724E-2,7.5053267924649822E-2,4.2268972370350121E-2,2.7790688676670026E-2,1.9605859397973539E-2,1.38417779339889E-2,9.3836823363091255E-3]
[3.4802243636545022E-2,3.1760225737308245E-2,2.7021051531681328E-2,2.2065199473870624E-2,1.7720133798932124E-2,1.4214763472151625E-2,1.1485198260383325E-2,9.3818686925489191E-3,-2.2258696470614453E-3,-1.3173679570554378E-3,-6.1379281494183498E-4,-1.6657048962124971E-4,-1.293691239704958E-5,-1.6657048962125679E-4,-6.1379281494184864E-4,-1.3173679570554569E-3,8.1546484622841836E-3,1.0253849962368621E-2,1.3154397319531204E-2,1.7205291575426079E-2,2.2813278303580955E-2,3.0156703744629015E-2,3.8331903877846185E-2,4.4292766391468577E-2,1.9605859397973751E-2,2.7790688676670085E-2,4.2268972370350724E-2,7.5053267924649822E-2,4.2268972370350391E-2,2.7790688676669756E-2,1.9605859397973539E-2,1.3841777933988808E-2]
[4.4292766391468896E-2,3.8331903877845991E-2,3.0156703744628782E-2,2.2813278303580591E-2,1.7205291575425961E-2,1.3154397319531115E-2,1.0253849962368557E-2,8.1546484622841368E-3,-1.3173679570554356E-3,-6.1379281494183433E-4,-1.6657048962124822E-4,-1.293691239704958E-5,-1.6657048962125849E-4,-6.1379281494185092E-4,-1.3173679570554606E-3,-2.2258696470614718E-3,9.3818686925489642E-3,1.1485198260383382E-2,1.42147634721517E-2,1.7720133798932218E-2,2.2065199473870922E-2,2.7021051531681474E-2,3.1760225737308356E-2,3.4802243636544751E-2,1.3841777933989037E-2,1.9605859397973727E-2,2.7790688676670047E-2,4.2268972370350641E-2,7.5053267924650266E-2,4.2268972370350044E-2,2.7790688676669797E-2,1.9605859397973435E-2]
[6.055947079544402E-2,4.6828885465957377E-2,3.2040612926803165E-2,2.1667188567179699E-2,1.5112033419465517E-2,1.0958850636219626E-2,8.2390024721895692E-3,6.3883317272023839E-3,-6.1379281494183032E-4,-1.6657048962124773E-4,-1.2936912397048887E-5,-1.6657048962125898E-4,-6.1379281494185287E-4,-1.3173679570554634E-3,-2.2258696470614753E-3,-3.2842027664430938E-3,1.0135287776950169E-2,1.2092279140648494E-2,1.448851087752062E-2,1.7350876724979224E-2,2.0602538108725796E-2,2.3964869844634789E-2,2.688405570316002E-2,2.8624573524360621E-2,9.3836823363092781E-3,1.3841777933989016E-2,1.9605859397973699E-2,2.7790688676670002E-2,4.2268972370350995E-2,7.5053267924649822E-2,4.2268972370350127E-2,2.7790688676669655E-2]
[9.358352090552445E-2,5.4000096744954998E-2,2.8624573524361357E-2,1.6691683215269031E-2,1.0713336071086996E-2,7.3972243501893211E-3,5.3930177525419766E-3,4.0975050023820082E-3,-1.6657048962124773E-4,-1.2936912397048887E-5,-1.6657048962125898E-4,-6.1379281494185287E-4,-1.3173679570554634E-3,-2.2258696470614753E-3,-3.2842027664430938E-3,-4.4416261475248246E-3,1.0514013103084715E-2,1.2254740109171314E-2,1.4279994245933179E-2,1.6558582729391296E-2,1.8978782437276784E-2,2.1312254443840179E-2,2.3212685295834236E-2,2.429489517377343E-2,5.7463270023425115E-3,9.3836823363092781E-3,1.3841777933989016E-2,1.9605859397973699E-2,2.7790688676670273E-2,4.2268972370350724E-2,7.5053267924649822E-2,4.2268972370349857E-2]
[0.17620818647383951,3.4802243636565179E-2,1.2705336833063132E-2,6.4925162753464716E-3,3.9289533650074858E-3,2.6304206854828411E-3,1.8834025298654329E-3,1.4146733471603226E-3,-1.293691239704958E-5,-1.6657048962125849E-4,-6.1379281494185092E-4,-1.3173679570554606E-3,-2.2258696470614718E-3,-3.2842027664430886E-3,-4.4416261475248194E-3,-5.6559996334042172E-3,1.061817854688343E-2,1.2125715930637781E-2,1.3804835355867228E-2,1.5604390528136032E-2,1.7419659581954398E-2,1.9083311967269083E-2,2.0379927248746914E-2,2.1096231579428484E-2,2.6734655851963491E-3,5.7463270023425262E-3,9.3836823363092955E-3,1.3841777933989037E-2,1.9605859397973911E-2,2.7790688676670127E-2,4.2268972370350821E-2,7.5053267924649378E-2]

{"sheet":"perm xory","index":9,"n_rows":35,"n_cols":4,"rows_kept":35,"cut":false,"hidden":false,"merged":[]}
[]
[null,"perm",null,"xory"]
[]
[null,1,null,false]
[null,2,null,false]
[null,3,null,false]
[null,4,null,false]
[null,5,null,false]
[null,6,null,false]
[null,7,null,false]
[null,8,null,false]
[null,9,null,true]
[null,10,null,true]
[null,11,null,true]
[null,12,null,true]
[null,13,null,true]
[null,14,null,true]
[null,15,null,true]
[null,16,null,true]
[null,17,null,false]
[null,18,null,false]
[null,19,null,false]
[null,20,null,false]
[null,21,null,false]
[null,22,null,false]
[null,23,null,false]
[null,24,null,false]
[null,25,null,true]
[null,26,null,true]
[null,27,null,true]
[null,28,null,true]
[null,29,null,true]
[null,30,null,true]
[null,31,null,true]
[null,32,null,true]

{"sheet":"Indirect Solution","index":10,"n_rows":125,"n_cols":7,"rows_kept":125,"cut":false,"hidden":false,"merged":[[7,1,7,3],[7,5,7,6],[8,1,8,2],[1,1,2,6]]}
[]
[null,"Indirect Solution"]
[]
[]
[]
[]
[]
[null,"Solution on S",null,null,null,"Solution in D"]
[null,"Number of panels",null,{"$f":"'Set Problem'!H9","v":32},null,"Number of points",{"$f":"'Set Problem'!R9","v":5}]
[null,"index","phi_S","vel_S",null,"index","phi_D"]
[null,{"$f":"'Set Problem'!B11","v":1},10.000000000000002,-4.755252050898239,null,{"$f":"'Set Problem'!X11","v":1},12.483791618466135]
[null,{"$f":"'Set Problem'!B12","v":2},10,-10.299311550695762,null,{"$f":"'Set Problem'!X12","v":2},17.47797616753364]
[null,{"$f":"'Set Problem'!B13","v":3},10,-9.9469135075100485,null,{"$f":"'Set Problem'!X13","v":3},12.48379161846613]
[null,{"$f":"'Set Problem'!B14","v":4},10,-9.9715202257216955,null,{"$f":"'Set Problem'!X14","v":4},17.477976167533644]
[null,{"$f":"'Set Problem'!B15","v":5},9.9999999999999947,-9.9715202257216902,null,{"$f":"'Set Problem'!X15","v":5},14.983609440819439]
[null,{"$f":"'Set Problem'!B16","v":6},9.9999999999999982,-9.9469135075099988]
[null,{"$f":"'Set Problem'!B17","v":7},9.9999999999999911,-10.299311550695641]
[null,{"$f":"'Set Problem'!B18","v":8},10.000000000000004,-4.755252050898247]
[null,{"$f":"'Set Problem'!B19","v":9},10.40390937229647,1.1324274851176597E-14]
[null,{"$f":"'Set Problem'!B20","v":10},11.834099289036539,-1.4432899320127035E-15]
[null,{"$f":"'Set Problem'!B21","v":11},13.102575549495544,9.9920072216264089E-16]
[null,{"$f":"'Set Problem'!B22","v":12},14.355663319297861,9.4368957093138306E-15]
[null,{"$f":"'Set Problem'!B23","v":13},15.603414806669686,1.5543122344752192E-15]
[null,{"$f":"'Set Problem'!B24","v":14},16.84398977112863,-3.1086244689504383E-15]
[null,{"$f":"'Set Problem'!B25","v":15},18.057324750657862,-2.2204460492503131E-16]
[null,{"$f":"'Set Problem'!B26","v":16},18.969018294342892,-1.9984014443252818E-15]
[null,{"$f":"'Set Problem'!B27","v":17},20,19.702529707459146]
[null,{"$f":"'Set Problem'!B28","v":18},20,9.4435956254854521]
[null,{"$f":"'Set Problem'!B29","v":19},19.999999999999996,10.077035882576322]
[null,{"$f":"'Set Problem'!B30","v":20},20,10.02967430307347]
[null,{"$f":"'Set Problem'!B31","v":21},20,10.029674303073541]
[null,{"$f":"'Set Problem'!B32","v":22},20,10.077035882576283]
[null,{"$f":"'Set Problem'!B33","v":23},20,9.443595625485834]
[null,{"$f":"'Set Problem'!B34","v":24},19.999999999999996,19.702529707458869]
[null,{"$f":"'Set Problem'!B35","v":25},18.969018294342852,-8.8817841970012523E-15]
[null,{"$f":"'Set Problem'!B36","v":26},18.05732475065787,-1.1990408665951691E-14]
[null,{"$f":"'Set Problem'!B37","v":27},16.843989771128637,-1.1102230246251565E-15]
[null,{"$f":"'Set Problem'!B38","v":28},15.603414806669697,-9.9920072216264089E-16]
[null,{"$f":"'Set Problem'!B39","v":29},14.355663319297864,-4.6074255521943996E-15]
[null,{"$f":"'Set Problem'!B40","v":30},13.102575549495535,-1.8873791418627661E-15]
[null,{"$f":"'Set Problem'!B41","v":31},11.834099289036534,-4.163336342344337E-16]
[null,{"$f":"'Set Problem'!B42","v":32},10.403909372296482,-4.5519144009631418E-15]
[null,{"$f":"'Set Problem'!B43","v":0}]
[null,{"$f":"'Set Problem'!B44","v":0}]
[null,{"$f":"'Set Problem'!B45","v":0}]
[null,{"$f":"'Set Problem'!B46","v":0}]
[null,{"$f":"'Set Problem'!B47","v":0}]
[null,{"$f":"'Set Problem'!B48","v":0}]
[null,{"$f":"'Set Problem'!B49","v":0}]
[null,{"$f":"'Set Problem'!B50","v":0}]
[null,{"$f":"'Set Problem'!B51","v":0}]
[null,{"$f":"'Set Problem'!B52","v":0}]
[null,{"$f":"'Set Problem'!B53","v":0}]
[null,{"$f":"'Set Problem'!B54","v":0}]
[null,{"$f":"'Set Problem'!B55","v":0}]
[null,{"$f":"'Set Problem'!B56","v":0}]
[null,{"$f":"'Set Problem'!B57","v":0}]
[null,{"$f":"'Set Problem'!B58","v":0}]
[null,{"$f":"'Set Problem'!B59","v":0}]
[null,{"$f":"'Set Problem'!B60","v":0}]
[null,{"$f":"'Set Problem'!B61","v":0}]
[null,{"$f":"'Set Problem'!B62","v":0}]
[null,{"$f":"'Set Problem'!B63","v":0}]
[null,{"$f":"'Set Problem'!B64","v":0}]
[null,{"$f":"'Set Problem'!B65","v":0}]
[null,{"$f":"'Set Problem'!B66","v":0}]
[null,{"$f":"'Set Problem'!B67","v":0}]
[null,{"$f":"'Set Problem'!B68","v":0}]
[null,{"$f":"'Set Problem'!B69","v":0}]
[null,{"$f":"'Set Problem'!B70","v":0}]
[null,{"$f":"'Set Problem'!B71","v":0}]
[null,{"$f":"'Set Problem'!B72","v":0}]
[null,{"$f":"'Set Problem'!B73","v":0}]
[null,{"$f":"'Set Problem'!B74","v":0}]
[null,{"$f":"'Set Problem'!B75","v":0}]
[null,{"$f":"'Set Problem'!B76","v":0}]
[null,{"$f":"'Set Problem'!B77","v":0}]
[null,{"$f":"'Set Problem'!B78","v":0}]
[null,{"$f":"'Set Problem'!B79","v":0}]
[null,{"$f":"'Set Problem'!B80","v":0}]
[null,{"$f":"'Set Problem'!B81","v":0}]
[null,{"$f":"'Set Problem'!B82","v":0}]
[null,{"$f":"'Set Problem'!B83","v":0}]
[null,{"$f":"'Set Problem'!B84","v":0}]
[null,{"$f":"'Set Problem'!B85","v":0}]
[null,{"$f":"'Set Problem'!B86","v":0}]
[null,{"$f":"'Set Problem'!B87","v":0}]
[null,{"$f":"'Set Problem'!B88","v":0}]
[null,{"$f":"'Set Problem'!B89","v":0}]
[null,{"$f":"'Set Problem'!B90","v":0}]
[null,{"$f":"'Set Problem'!B91","v":0}]
[null,{"$f":"'Set Problem'!B92","v":0}]
[null,{"$f":"'Set Problem'!B93","v":0}]
[null,{"$f":"'Set Problem'!B94","v":0}]
[null,{"$f":"'Set Problem'!B95","v":0}]
[null,{"$f":"'Set Problem'!B96","v":0}]
[null,{"$f":"'Set Problem'!B97","v":0}]
[null,{"$f":"'Set Problem'!B98","v":0}]
[null,{"$f":"'Set Problem'!B99","v":0}]
[null,{"$f":"'Set Problem'!B100","v":0}]
[null,{"$f":"'Set Problem'!B101","v":0}]
[null,{"$f":"'Set Problem'!B102","v":0}]
[null,{"$f":"'Set Problem'!B103","v":0}]
[null,{"$f":"'Set Problem'!B104","v":0}]
[null,{"$f":"'Set Problem'!B105","v":0}]
[null,{"$f":"'Set Problem'!B106","v":0}]
[null,{"$f":"'Set Problem'!B107","v":0}]
[null,{"$f":"'Set Problem'!B108","v":0}]
[null,{"$f":"'Set Problem'!B109","v":0}]
[null,{"$f":"'Set Problem'!B110","v":0}]
[null,{"$f":"'Set Problem'!B111","v":0}]
[null,{"$f":"'Set Problem'!B112","v":0}]
[null,{"$f":"'Set Problem'!B113","v":0}]
[null,{"$f":"'Set Problem'!B114","v":0}]
[null,{"$f":"'Set Problem'!B115","v":0}]
[null,{"$f":"'Set Problem'!B116","v":0}]
[null,{"$f":"'Set Problem'!B117","v":0}]
[null,{"$f":"'Set Problem'!B118","v":0}]
[null,{"$f":"'Set Problem'!B119","v":0}]
[null,{"$f":"'Set Problem'!B120","v":0}]
[null,{"$f":"'Set Problem'!B121","v":0}]
[null,{"$f":"'Set Problem'!B122","v":0}]
[null,{"$f":"'Set Problem'!B123","v":0}]
[null,{"$f":"'Set Problem'!B124","v":0}]
[null,{"$f":"'Set Problem'!B125","v":0}]

{"sheet":"Indirect_LU","index":11,"n_rows":32,"n_cols":32,"rows_kept":32,"cut":false,"hidden":false,"merged":[]}
[-0.12807501310130953,-9.7384954588549344E-2,-6.1887763177989857E-2,-4.4839466743704953E-2,-3.5072437418181807E-2,-2.877626616918727E-2,-2.4388106615870278E-2,-2.1157449856964189E-2,-1.9868524305548363E-2,-1.956478028100124E-2,-1.8706581555857592E-2,-1.7431536373327412E-2,-1.5912155033712842E-2,-1.4307692902441885E-2,-1.2737044162674543E-2,-1.1273696799381781E-2,-1.0602459573425892E-2,-1.049119062995478E-2,-1.010406788144156E-2,-9.3422753331182246E-3,-8.1094441599018768E-3,-6.3441924704154802E-3,-4.0644137837278355E-3,-1.4022824800097651E-3,0,0,0,0,0,0,0,0.5]
[-0.33003293419080304,4.2913025615752776E-2,2.184397229821259E-2,1.2992187899693964E-2,8.0307999676277365E-3,4.3446623751165273E-3,1.3348039505154119E-3,-1.2363282539462174E-3,-2.5043411822735021E-3,-2.8590005999775815E-3,-3.4279257106796437E-3,-4.1630244369886896E-3,-5.0203030520894164E-3,-5.9643619283084722E-3,-6.9676613590247214E-3,-8.0084630327208368E-3,-7.9407869901819035E-3,-6.7466411932020943E-3,-5.5605448172366539E-3,-4.4006264972628077E-3,-3.2901764656907261E-3,-2.2603629457036679E-3,-1.3543273192062903E-3,-6.293698910632352E-4,9.0691003468163357E-4,3.6315092515251148E-3,6.7626420754401916E-3,1.0427972828445426E-2,1.4808336260051113E-2,2.0126944242917538E-2,2.6404773007911872E-2,0.19700880178650776]
[-0.2169875919098066,0.49256945374124811,5.0864717721503874E-2,2.6139809562457816E-2,1.6224678185731551E-2,1.1221718724964708E-2,7.892377755414591E-3,5.4017557735852335E-3,4.268087470298389E-3,3.8816357808067834E-3,3.2005045853417454E-3,2.3320372460224059E-3,1.3734197325350581E-3,3.9268050625951637E-4,-5.7029057066001121E-4,-1.495356298017341E-3,-1.6734158275723081E-3,-1.1791384709983021E-3,-7.7087079201267647E-4,-4.7333645255754123E-4,-3.0557882518781167E-4,-2.7616221774261668E-4,-3.8139758126909612E-4,-6.0806233001427039E-4,-2.0018875247110551E-4,9.8246445622908116E-4,2.2699038257755419E-3,3.6507986943923832E-3,5.0658263819627963E-3,6.3309718386046453E-3,7.028998744077565E-3,3.4086600365602071E-2]
[-0.15308106494172427,0.30020945701447727,0.51582632891374247,5.0805214924200294E-2,2.6120008016246681E-2,1.6292820499898032E-2,1.1400685052122855E-2,8.187762561865498E-3,6.7938767908226512E-3,6.2300786926815675E-3,5.2688170806974273E-3,4.1127245711088103E-3,2.9144523168864499E-3,1.757578774376533E-3,6.7669763963177157E-4,-3.197895852922461E-4,-6.0181415589015018E-4,-2.8973443313683178E-4,-9.3570695478371033E-5,-3.1426850663190449E-5,-1.0897156664304759E-4,-3.167121536395352E-4,-6.3266082199732129E-4,-1.0294334997451144E-3,-8.3714737735252238E-4,9.7068068977571118E-6,8.7932149919860581E-4,1.7331117900405996E-3,2.4925923702529707E-3,3.0229173878927925E-3,3.1767827172149536E-3,1.599581978364386E-2]
[-0.10807555352768126,0.21161235767572389,0.32399039400593715,0.51578499390336174,5.0834430268512774E-2,2.6200255833818308E-2,1.6435112694940319E-2,1.1607636585665E-2,9.6776073955370003E-3,8.7490194951150152E-3,7.2800561102293639E-3,5.6714667734694881E-3,4.141303569997366E-3,2.7624701522640108E-3,1.5403195894217929E-3,4.5755542973390569E-4,6.9711376622484797E-5,2.1150881048240624E-4,2.1612387217636434E-4,7.8184419843446557E-5,-1.9155065412138766E-4,-5.6829491375488415E-4,-1.0201532185704306E-3,-1.5162669505212321E-3,-1.4648266445367916E-3,-8.512187067109345E-4,-2.6021377388673337E-4,2.6818088284224009E-4,6.737618532511409E-4,8.8478971036043234E-4,8.6558581363008723E-4,4.3392814776818858E-3]
[-7.3267080823069347E-2,0.15628510222632613,0.22918904753243818,0.32445465287260289,0.51640091286479606,5.0877896426275257E-2,2.6278557969616069E-2,1.6544988725938466E-2,1.3388975599117527E-2,1.1619540142621954E-2,9.2076064316264535E-3,6.9358007623555231E-3,5.0071076817589377E-3,3.398037969386604E-3,2.0426948210278762E-3,8.823345000255376E-4,3.9321359325195278E-4,3.741980723211036E-4,2.1122586991618645E-4,-8.4993756671709181E-5,-4.8943396598526492E-4,-9.6940726574663621E-4,-1.4925062476209919E-3,-2.0322154200122827E-3,-2.0616295187575783E-3,-1.5948673682586359E-3,-1.1686527873073032E-3,-8.1395290853430958E-4,-5.68133023846327E-4,-4.6312759479056036E-4,-4.966594377044586E-4,-2.0532541121074509E-3]
[0.16519576570512112,-0.19342668934090487,-0.28167781403940212,-0.3501433286424423,-0.46772234836412124,-0.69133155802003565,-6.1028708477342472E-2,-0.10356336178095729,0.52016150046372323,1.8078869745703649E-2,1.4944101868498223E-2,1.1618911894064173E-2,8.4634497252348319E-3,5.5771572821895349E-3,2.9652983456388993E-3,6.0413018557742293E-4,-1.5643999799103156E-3,-3.712257376543248E-3,-5.7533882945380701E-3,-7.583860992339435E-3,-9.1912215473826039E-3,-1.0617918154327213E-2,-1.1919648064138479E-2,-1.3138398911333976E-2,-1.3558188198697002E-2,-1.3255192291769392E-2,-1.2981981679824239E-2,-1.2697197386263771E-2,-1.2345148237153009E-2,-1.1878083500280474E-2,-1.1303652692597732E-2,-4.8547278636478841E-2]
[-4.4866885922526467E-2,0.11684850033910821,0.16735827308814177,0.23031535476792833,0.32551830663743503,0.51714021944653699,-0.83430969022074897,-6.0064122965086654E-2,0.45301605466284017,3.0003004197218831E-2,2.3275659617933472E-2,1.7435994318048958E-2,1.2523253820415711E-2,8.3436911437563994E-3,4.7300027846070144E-3,1.5595823036624089E-3,-8.2696671440173845E-4,-2.7907753577437562E-3,-4.7992981305503019E-3,-6.7410756374345782E-3,-8.5733882765071101E-3,-1.029955420458476E-2,-1.1939532024866643E-2,-1.3509123211772195E-2,-1.3936180102639932E-2,-1.3312090934513512E-2,-1.2756896478282256E-2,-1.2257179264378814E-2,-1.1787459658235034E-2,-1.1320219274599544E-2,-1.0851028248714669E-2,-4.6776731646457986E-2]
[-2.0874216761403743E-2,8.653531876807416E-2,0.1219224036752084,0.16916526509485483,0.23177307183244319,0.32660878467836257,-0.43195244838507363,-0.33042028760284731,0.41391795457123748,4.2734330193715864E-2,3.094470167459713E-2,2.2525845817478386E-2,1.6004378901934749E-2,1.0687378876843848E-2,6.2031965280777146E-3,2.3305476388758043E-3,-3.3484070190616626E-4,-2.305852615338807E-3,-4.4237640157369293E-3,-6.5621611814288758E-3,-8.6534827189378334E-3,-1.0675069549570319E-2,-1.2625620383862708E-2,-1.4506210343096246E-2,-1.4971805874643904E-2,-1.4131854736281708E-2,-1.3391032652009758E-2,-1.2751362399740077E-2,-1.2202370372865723E-2,-1.1724650917885169E-2,-1.1305035223431495E-2,-4.9008864633309994E-2]
[0.15950899252815229,-0.18055982992177436,-0.25888533064936686,-0.30776978094841712,-0.37800460581785089,-0.4633964844240045,0.3926796801084439,-0.50827684239529092,0.1009287522477357,0.51805599478762521,1.4672759356920365E-2,1.1282476665302039E-2,8.1964664308414471E-3,5.4389404880853306E-3,2.9767036402143978E-3,7.6878133590183159E-4,-1.786248607276459E-3,-4.7506464398335479E-3,-7.3437160318649388E-3,-9.4206193534046075E-3,-1.1020593229170933E-2,-1.2272679800186903E-2,-1.3311212270512027E-2,-1.4233224920212593E-2,-1.4640157254004202E-2,-1.4590348046947539E-2,-1.4507466171918578E-2,-1.4303064886072534E-2,-1.3874797793902528E-2,-1.3147630296400148E-2,-1.2142023962624678E-2,-4.9076648454031938E-2]
[0.14923964496751807,-0.1587880046746091,-0.22205375162474905,-0.24547467422036362,-0.26630457026932264,-0.25872305999421319,0.1307161539577619,-0.25420894086900464,0.14107005880514104,1.8199901682409182E-2,0.50790345923429336,6.3031782306172384E-3,4.6665599258916444E-3,3.1070113340479141E-3,1.658189867815134E-3,3.251422600212162E-4,-2.5917127332928417E-3,-6.7924823475505889E-3,-1.0010823239856723E-2,-1.2103108627137102E-2,-1.3290524784890515E-2,-1.3902992474132811E-2,-1.4218025543063756E-2,-1.441348668470792E-2,-1.4729023148514108E-2,-1.5146544932022242E-2,-1.5402325860296691E-2,-1.5350812483694597E-2,-1.4853061589972483E-2,-1.3840700312181313E-2,-1.2394444375377397E-2,-4.7662073324770293E-2]
[0.13610561887360109,-0.13352590171291243,-0.18185838813443492,-0.1853428738334636,-0.17745824729756304,-0.14035682392157914,4.2448073641078617E-2,-0.12899596291945678,0.10716906792342147,1.1288850958102567E-2,1.0075440422964106E-2,0.50413398375382668,3.1244956319378928E-3,2.1167910273168452E-3,1.1541562600666127E-3,2.5271950875975258E-4,-3.7594611022925429E-3,-9.9932392384582854E-3,-1.4091630043042789E-2,-1.6096246809996675E-2,-1.6691480912297288E-2,-1.6555727379416543E-2,-1.6137891414636799E-2,-1.5675664755575743E-2,-1.583593926991746E-2,-1.6463808168507756E-2,-1.6778487826746763E-2,-1.6613352540571859E-2,-1.5850665975858231E-2,-1.4485353381140145E-2,-1.2676309693416189E-2,-4.7219870828477555E-2]
[0.12182228472856355,-0.10910113404447735,-0.14536235594196309,-0.13714554299679202,-0.11772833855758437,-7.8384023173600603E-2,1.1254210029382608E-2,-7.231977972933748E-2,7.9233568625435222E-2,7.7430334180021015E-3,7.1296018458250048E-3,5.944535174882617E-3,0.50229714359284594,1.5989744036532018E-3,9.1830465281241274E-4,2.7301594023595066E-4,-6.0670771198699965E-3,-1.5689035738782643E-2,-2.0526238352289346E-2,-2.1698504750246716E-2,-2.1050782713000701E-2,-1.9777372511877122E-2,-1.8445134336160584E-2,-1.7270517435814408E-2,-1.7167049397468104E-2,-1.7766461279830795E-2,-1.7892223144500584E-2,-1.7408922482853049E-2,-1.627529726335768E-2,-1.4577402936111362E-2,-1.2534392158478239E-2,-4.5783696201997306E-2]
[0.10770430724216273,-8.7835137729960003E-2,-0.11529417577717135,-0.10166435755554232,-7.9680969658379633E-2,-4.5693968794503936E-2,-4.6911633070318483E-4,-4.4445289405213854E-2,6.0070116429859266E-2,5.6750384888589042E-3,5.3524643852819525E-3,4.5565545570428303E-3,3.5829883924872229E-3,0.50128505389947164,7.8361997813242959E-4,3.0403030810966083E-4,-1.1551531482420878E-2,-2.6972085224879861E-2,-3.0805205263299419E-2,-2.9136777429080746E-2,-2.611055725157594E-2,-2.3199361660923488E-2,-2.0773309892201393E-2,-1.8850520487277728E-2,-1.837684759348765E-2,-1.871867705967277E-2,-1.846090140371244E-2,-1.7550893937383502E-2,-1.6048606913818826E-2,-1.4114569902353571E-2,-1.1983810476045482E-2,-4.3292410925592544E-2]
[9.4562081717865926E-2,-7.0413791827399666E-2,-9.1713526513041002E-2,-7.638608633878663E-2,-5.5532300748514153E-2,-2.777633628996035E-2,-4.9266982475417408E-3,-2.9416386338623288E-2,4.6895666607366424E-2,4.3563992502393444E-3,4.1874174895757026E-3,3.6282027547695282E-3,2.9102164814247609E-3,2.1419755535892092E-3,0.50068988091574851,3.2299099452795331E-4,-2.894546756223175E-2,-5.1432358815392362E-2,-4.5981940908785011E-2,-3.7621854661799493E-2,-3.1037353915882211E-2,-2.6226847819369611E-2,-2.2718185055913467E-2,-2.0127847531102791E-2,-1.9224240260621139E-2,-1.9129194604324305E-2,-1.8391212976927668E-2,-1.7062820615246121E-2,-1.5285623270530688E-2,-1.3248364546961919E-2,-1.1158639158371732E-2,-4.0120152792876625E-2]
[8.278320116226863E-2,-5.6611071095875598E-2,-7.3610750864775198E-2,-5.847132149449738E-2,-3.9930047199657814E-2,-1.751577349884393E-2,-6.459214227776418E-3,-2.0643595996406295E-2,3.7560804198956091E-2,3.4584649300459947E-3,3.3749270013489394E-3,2.9675868430844108E-3,2.42150835005652E-3,1.8266598371528165E-3,1.2296399670209182E-3,0.50032729781648144,-0.12771267698852284,-9.6762600431141571E-2,-6.1122549217274183E-2,-4.4018697855896932E-2,-3.4274444158554913E-2,-2.8076778497803823E-2,-2.3857036217744293E-2,-2.085156944660305E-2,-1.9542271322150986E-2,-1.8926684617028532E-2,-1.7728711164067244E-2,-1.6084993003585093E-2,-1.4170313762682459E-2,-1.2155770555705955E-2,-1.0198203608478517E-2,-3.6659088194394819E-2]
[4.416161666858618E-2,-3.284529852536387E-3,-9.4248417147177084E-3,8.5326853843418755E-4,7.6423129506810504E-3,1.106401896953392E-2,-9.2274565570552945E-3,4.4305288307330054E-3,1.1424010538924872E-2,8.3536134890005373E-3,1.504403301350537E-2,2.3013939902732344E-2,3.2944863190475175E-2,4.6128177750378502E-2,6.5538690103680144E-2,9.670886647763241E-2,9.0589478002153292E-2,5.7559462551782237E-2,3.9784338473681957E-2,2.944751693012361E-2,2.2168099241152789E-2,1.6587316787165435E-2,1.2088274059008116E-2,8.3375769023437823E-3,6.6402330846471441E-3,6.2856877924191042E-3,5.4727152604488131E-3,4.262978813129821E-3,2.746160504992998E-3,1.0230586974649823E-3,-8.0516105677272626E-4,-1.4534587472960053E-2]
[3.4679880485441641E-2,2.1694070374245491E-3,-2.4967775199664652E-3,5.4076995065899854E-3,9.5280561586066227E-3,1.0067939626179445E-2,-6.0108169904329357E-3,6.0038021503585554E-3,4.240132269191889E-3,7.4107983339049398E-3,1.3676595826713479E-2,2.102827647355128E-2,2.9835754853762986E-2,4.0555987567840214E-2,5.3238981408377538E-2,6.459109435291073E-2,0.58740478120281769,5.2506519771029561E-2,2.8014731814406724E-2,1.8097469494621481E-2,1.3079741305140814E-2,9.7526846577137734E-3,7.2833540631096188E-3,5.3318200189177009E-3,4.4410107164194633E-3,4.1762666443822078E-3,3.6647475123140223E-3,2.9638101161347076E-3,2.1375679989949475E-3,1.2441809074168748E-3,3.3275015997555552E-4,-3.7085825882680612E-3]
[2.5642806406314386E-2,6.3233455680839438E-3,2.5849153107705409E-3,7.6034254155175488E-3,8.6843258735579149E-3,6.2320680121820751E-3,-6.0275827067124204E-4,6.7593508924950578E-3,-5.3317057656683993E-3,6.0247460280790435E-3,1.1540911301687941E-2,1.7851149801396935E-2,2.4992433604489363E-2,3.281071001686757E-2,4.0489397158947747E-2,4.582870578161418E-2,0.39502164091203495,0.53190141643492872,5.1333692031360192E-2,2.6807882053646044E-2,1.704603194638955E-2,1.2197455658146516E-2,9.0236924479010459E-3,6.6879980920105065E-3,5.6403102089587764E-3,5.2694697408452581E-3,4.5959116056727986E-3,3.723730590812489E-3,2.7503238893640623E-3,1.7473875242729003E-3,7.6316571848546871E-4,-1.9980665533718351E-3]
[1.7379421583980197E-2,8.7415468681850388E-3,5.3245278204172098E-3,7.0850904651097411E-3,5.0152775923099358E-3,-2.1665036333210261E-4,6.5729941352487041E-3,6.6518711143848984E-3,-1.6548860781377791E-2,4.3515451279705266E-3,8.942230912748898E-3,1.406902426512738E-2,1.956736090711772E-2,2.508795640910709E-2,2.990428383435528E-2,3.2874091649966367E-2,0.28081720650576053,0.33910399337294495,0.52012684888894234,5.0996107818384928E-2,2.6412983620429278E-2,1.6666261840765383E-2,1.1848437084302903E-2,8.7071316835993923E-3,7.353312961449073E-3,6.7976682023608518E-3,5.8393894287450971E-3,4.6781532893770371E-3,3.4653287824569392E-3,2.2854042721229084E-3,1.1779601525779542E-3,-6.0986417041414601E-4]
[1.028590921176307E-2,9.0392131755273157E-3,5.3583134587527172E-3,3.7549948856156904E-3,-1.247739043100389E-3,-8.760050559143669E-3,1.4959693996182041E-2,5.7948980772176599E-3,-2.8672865118705541E-2,2.5425092555912102E-3,6.1577648418507909E-3,1.014007563914558E-2,1.4239656972819101E-2,1.8108061149423323E-2,2.1236093683171937E-2,2.3018886775306724E-2,0.19830832730993597,0.23927350883193316,0.32731987410403929,0.51645149435117532,5.085646906498343E-2,2.622748270260334E-2,1.6463062086062158E-2,1.1635782165511374E-2,9.7129543434140396E-3,8.7964777428347091E-3,7.3352454253860794E-3,5.7277458390917625E-3,4.1901411321235002E-3,2.794383445162041E-3,1.5478233046647581E-3,5.1238749423484597E-4]
[4.7924478013233515E-3,6.9941892367626976E-3,2.5730229538361887E-3,-2.1613497110455505E-3,-9.5834834596354359E-3,-1.8719644478301035E-2,2.399792385608953E-2,4.3969397798262148E-3,-4.1091935326345384E-2,7.147674753009254E-4,3.3834006454873861E-3,6.3352023336570775E-3,9.2962532677736461E-3,1.1969696598826119E-2,1.4009421085723161E-2,1.507074909790735E-2,0.13342888929496541,0.17168152488121058,0.23013465087277254,0.32342751657054392,0.51463012472452829,5.0767730238770237E-2,2.6092838942570879E-2,1.6296606143990467E-2,1.3125180386378627E-2,1.137975890983901E-2,8.9869388133793759E-3,6.7288035960521783E-3,4.8067556074935271E-3,3.1950669842152534E-3,1.8268029170993489E-3,1.3024919103528897E-3]
[1.0948915374309769E-2,-6.9865830110713734E-2,-8.140104804698281E-2,-9.0206935513104686E-2,-9.2855963280486856E-2,-9.1776995435308595E-2,7.4099161580776007E-2,-1.6505059366347719E-2,-9.4728664309782704E-2,-1.3052775413745154E-2,-1.9070215534843352E-2,-2.471566047041034E-2,-2.9903496066900032E-2,-3.4392647128395973E-2,-3.7882985314544086E-2,-4.0126994250082655E-2,-0.31614250806914995,-0.27180804865415259,-0.30133404724051516,-0.36821990439359664,-0.48805598970988939,-0.7169871437245352,-6.256605225498621E-2,-0.10613901618483862,0.51734615938200568,1.5653070288535107E-2,1.2897066098849372E-2,9.9747114758809118E-3,7.2494549130353338E-3,4.796268487734308E-3,2.5636586413882176E-3,-2.9066885897668679E-3]
[1.3005697644511472E-3,2.6499882826141658E-3,-2.830398223513577E-3,-1.015484406791229E-2,-1.9315027575603643E-2,-2.9417209959492964E-2,3.3220828929416038E-2,2.6809452904259286E-3,-5.3363574718798414E-2,-1.0549369157920455E-3,7.3447605171000701E-4,2.7839300887422848E-3,4.8189757068481855E-3,6.5932158554722932E-3,7.8633539632872052E-3,8.4149887075782061E-3,7.989601057700102E-2,0.12061221739833268,0.16566287472319297,0.22701640748074969,0.3212631764863762,0.51317772877158518,-0.81008241945535997,-6.0026127379983203E-2,0.43770689804531643,2.7209275021016298E-2,2.0893287816414613E-2,1.5485841297741191E-2,1.1019579111365307E-2,7.2749651224880358E-3,4.0340843194187452E-3,-7.251669794497384E-4]
[1.0101043196315163E-4,-3.6523547580859109E-3,-1.0375749492619647E-2,-1.956819805871712E-2,-2.9773736814389683E-2,-4.0294382365629509E-2,4.2293117466248011E-2,8.2945940576115574E-4,-6.5201801825431199E-2,-2.7234374247853601E-3,-1.7323559925744444E-3,-4.6750144012165808E-4,8.0225040800458391E-4,1.8682944469376756E-3,2.5495346094568023E-3,2.7000066621174928E-3,3.4367026783935509E-2,7.9666889904570548E-2,0.11769308563874416,0.163582424121482,0.22497187582556319,0.31923636097991187,-0.41438605203682627,-0.33116911664635673,0.39808708822839822,3.9786804880667687E-2,2.8403700406442377E-2,2.0409497819175657E-2,1.4323276700530775E-2,9.4249626189872558E-3,5.2922508666968541E-3,7.6788084352380666E-4]
[1.4534811776768096E-2,-9.1378546715735559E-2,-0.103674232903028,-0.11099681649580802,-0.11032277229940775,-0.10569874070044936,8.3234438217987136E-2,-2.0007844646197259E-2,-0.10443888501240373,-1.4358690685109013E-2,-2.0862495224493224E-2,-2.672637846017057E-2,-3.178575860922913E-2,-3.5773830761980416E-2,-3.846128834799234E-2,-3.9771233044185672E-2,-0.31010030071855377,-0.26174365218654827,-0.28136456159104578,-0.32838226285948313,-0.40079725609004124,-0.49114965422107082,0.40949468198336175,-0.50896976148082052,5.95521684695643E-2,0.51678638537851995,1.3487922273569434E-2,1.0364310775218382E-2,7.6611095218882853E-3,5.3431241739170876E-3,3.2914390373957659E-3,7.0663693475842091E-4]
[2.0207793072692323E-2,-0.12412800075180944,-0.13529124232093234,-0.1378632518602709,-0.13077341088237776,-0.12062557064448869,9.2430062275717387E-2,-2.3733645280434819E-2,-0.11390953786384779,-1.5505998751916088E-2,-2.231405893896185E-2,-2.814505677763356E-2,-3.2801432187767092E-2,-3.6082357183105464E-2,-3.7926640861326279E-2,-3.8470530599364547E-2,-0.2966063474736057,-0.24150620121157959,-0.24706779720902491,-0.26839741965242547,-0.2913460785177503,-0.28844676755636289,0.15581727442052082,-0.25482878568521466,9.7948833325352744E-2,1.6029186270172264E-2,0.50704786883400133,5.8844518724924973E-3,4.8279614972859307E-3,3.9296552529052391E-3,3.1201401379132125E-3,4.9747398789999151E-3]
[2.9949646640553822E-2,-0.17692375878628352,-0.18086394967198918,-0.17133723172446874,-0.15277688956518096,-0.13486894733175916,0.10065866694806795,-2.699975851919071E-2,-0.122409179886224,-1.6324093409624388E-2,-2.3164921449384566E-2,-2.8687075688539711E-2,-3.2744752131201121E-2,-3.529539046565798E-2,-3.6485341739155089E-2,-3.6619550391349877E-2,-0.27931863803035867,-0.21631470864106433,-0.20875469283193457,-0.20986212678690316,-0.2040019419948379,-0.17150974848212808,7.1208258764449001E-2,-0.12933838999926009,6.1579672843532475E-2,9.5074439846272486E-3,9.2721335617819076E-3,0.50444910323939274,4.3384417241469041E-3,4.3457187909798313E-3,4.3862880048874918E-3,1.2637687092725593E-2]
[4.8757150936404321E-2,-0.26782496263941807,-0.24535548891332018,-0.20823045531916312,-0.17167792115322905,-0.14504430293669737,0.10641782459220492,-2.8511852024602789E-2,-0.12926798639789389,-1.6649991580945583E-2,-2.3203790548818062E-2,-2.8204174396534654E-2,-3.1643231702067225E-2,-3.3669590309136965E-2,-3.4587706850087746E-2,-3.476792270451582E-2,-0.26269888793730412,-0.19098710306443706,-0.17342837402107561,-0.1622672892833987,-0.14463555434352959,-0.10991701491198701,4.1494706901385417E-2,-7.2086847250239144E-2,3.199756556840104E-2,6.7713194683762844E-3,7.9147563723559414E-3,9.0559367725687959E-3,0.50527132636742667,6.170529127426906E-3,7.1073324138229178E-3,2.4330897524842115E-2]
[9.2218524504935756E-2,-0.43285436733471594,-0.32348189876799893,-0.23318226461425248,-0.17667274737066438,-0.14558322500243395,0.10782017784098107,-2.6377583477929123E-2,-0.13400952122213008,-1.6375494073678293E-2,-2.2340514795521453E-2,-2.6744319757895901E-2,-2.9749693562198448E-2,-3.1639811973561763E-2,-3.2766015124835471E-2,-3.3458686033936515E-2,-0.25079068074228406,-0.16864072310317071,-0.14378407857537587,-0.1260415865145017,-0.10528547069240587,-7.5917105294021361E-2,2.9521390029707474E-2,-4.3110207263335053E-2,1.2714001223534594E-2,6.1638998812480576E-3,8.8634676728500932E-3,1.1850915086430323E-2,1.5291060431740411E-2,0.50971273005026074,1.1904847130853826E-2,3.8412140549416891E-2]
[0.22848022825528452,-0.69413139187412332,-0.34349663640093092,-0.2018923533736838,-0.14689546702064801,-0.12580386889091305,9.9142044740604424E-2,-1.8468866048317812E-2,-0.1305163291757063,-1.4873873157929599E-2,-1.9834389526924238E-2,-2.3552356448781966E-2,-2.6305446013101669E-2,-2.838641982826905E-2,-3.0071093248339145E-2,-3.1574746693520124E-2,-0.2351041201870194,-0.14426712133777805,-0.1149176027880939,-9.4399719816240207E-2,-7.4570985174280319E-2,-5.2161958394663463E-2,2.1827958256318485E-2,-2.5343873447139547E-2,1.8899530438548785E-3,6.833401497248111E-3,1.1357016647295482E-2,1.6528655414945095E-2,2.2510240397819826E-2,2.9172788428797145E-2,0.51850806178123865,2.1767003570559346E-2]
[-0.58601023031152377,-0.34487447772804514,-1.8534362935794316E-2,-3.3566792388153251E-2,-5.437126521500929E-2,-7.4722324213949379E-2,7.6994186060784606E-2,-1.077833667249301E-3,-0.1184023647490173,-1.2055047206026029E-2,-1.5522328334511606E-2,-1.8450266137578761E-2,-2.115782218933256E-2,-2.3816670213522448E-2,-2.651615660433667E-2,-2.9291434412030071E-2,-0.21623788654403106,-0.11373100985433893,-7.970092069805676E-2,-5.6991394970300618E-2,-3.8992321763263088E-2,-2.3737720941001999E-2,9.0756090981902911E-3,-9.1060159136751584E-3,1.9289267756489625E-3,1.0092187373753397E-2,1.8211399533365962E-2,2.7896066249130744E-2,3.977190367283838E-2,5.4723745784045534E-2,7.4502306283378464E-2,0.39294390250423911]

{"sheet":"perm","index":12,"n_rows":35,"n_cols":2,"rows_kept":35,"cut":false,"hidden":false,"merged":[]}
[]
[null,"perm"]
[]
[null,32]
[null,2]
[null,3]
[null,4]
[null,5]
[null,6]
[null,9]
[null,7]
[null,8]
[null,10]
[null,11]
[null,12]
[null,13]
[null,14]
[null,15]
[null,16]
[null,17]
[null,18]
[null,19]
[null,20]
[null,21]
[null,22]
[null,25]
[null,23]
[null,24]
[null,26]
[null,27]
[null,28]
[null,29]
[null,30]
[null,31]
[null,1]

{"sheet":"New condition","index":13,"n_rows":125,"n_cols":6,"rows_kept":125,"cut":false,"hidden":false,"merged":[[7,2,7,5],[8,2,8,3]]}
[]
[]
[]
[]
[]
[]
[]
[null,null,"Boundary Condition"]
[null,null,"Number of panels",null,{"$f":"'Set Problem'!H9","v":32}]
[null,null,"index","alpha","beta","f"]
[null,null,{"$f":"'Set Problem'!F11","v":1},1,0,20]
[null,null,{"$f":"'Set Problem'!F12","v":2},1,0,20]
[null,null,{"$f":"'Set Problem'!F13","v":3},1,0,20]
[null,null,{"$f":"'Set Problem'!F14","v":4},1,0,20]
[null,null,{"$f":"'Set Problem'!F15","v":5},1,0,20]
[null,null,{"$f":"'Set Problem'!F16","v":6},1,0,20]
[null,null,{"$f":"'Set Problem'!F17","v":7},1,0,20]
[null,null,{"$f":"'Set Problem'!F18","v":8},1,0,20]
[null,null,{"$f":"'Set Problem'!F19","v":9},1,0,0]
[null,null,{"$f":"'Set Problem'!F20","v":10},1,0,0]
[null,null,{"$f":"'Set Problem'!F21","v":11},1,0,0]
[null,null,{"$f":"'Set Problem'!F22","v":12},1,0,0]
[null,null,{"$f":"'Set Problem'!F23","v":13},1,0,0]
[null,null,{"$f":"'Set Problem'!F24","v":14},1,0,0]
[null,null,{"$f":"'Set Problem'!F25","v":15},1,0,0]
[null,null,{"$f":"'Set Problem'!F26","v":16},1,0,0]
[null,null,{"$f":"'Set Problem'!F27","v":17},1,0,10]
[null,null,{"$f":"'Set Problem'!F28","v":18},1,0,10]
[null,null,{"$f":"'Set Problem'!F29","v":19},1,0,10]
[null,null,{"$f":"'Set Problem'!F30","v":20},1,0,10]
[null,null,{"$f":"'Set Problem'!F31","v":21},1,0,10]
[null,null,{"$f":"'Set Problem'!F32","v":22},1,0,10]
[null,null,{"$f":"'Set Problem'!F33","v":23},1,0,10]
[null,null,{"$f":"'Set Problem'!F34","v":24},1,0,10]
[null,null,{"$f":"'Set Problem'!F35","v":25},1,0,0]
[null,null,{"$f":"'Set Problem'!F36","v":26},1,0,0]
[null,null,{"$f":"'Set Problem'!F37","v":27},1,0,0]
[null,null,{"$f":"'Set Problem'!F38","v":28},1,0,0]
[null,null,{"$f":"'Set Problem'!F39","v":29},1,0,0]
[null,null,{"$f":"'Set Problem'!F40","v":30},1,0,0]
[null,null,{"$f":"'Set Problem'!F41","v":31},1,0,0]
[null,null,{"$f":"'Set Problem'!F42","v":32},1,0,0]
[null,null,{"$f":"'Set Problem'!F43","v":0},1,0]
[null,null,{"$f":"'Set Problem'!F44","v":0},1,0]
[null,null,{"$f":"'Set Problem'!F45","v":0},1,0]
[null,null,{"$f":"'Set Problem'!F46","v":0},1,0]
[null,null,{"$f":"'Set Problem'!F47","v":0},1,0]
[null,null,{"$f":"'Set Problem'!F48","v":0},1,0]
[null,null,{"$f":"'Set Problem'!F49","v":0},1,0]
[null,null,{"$f":"'Set Problem'!F50","v":0},1,0]
[null,null,{"$f":"'Set Problem'!F51","v":0},1,0]
[null,null,{"$f":"'Set Problem'!F52","v":0},1,0]
[null,null,{"$f":"'Set Problem'!F53","v":0},1,0]
[null,null,{"$f":"'Set Problem'!F54","v":0},1,0]
[null,null,{"$f":"'Set Problem'!F55","v":0},1,0]
[null,null,{"$f":"'Set Problem'!F56","v":0},1,0]
[null,null,{"$f":"'Set Problem'!F57","v":0},1,0]
[null,null,{"$f":"'Set Problem'!F58","v":0},1,0]
[null,null,{"$f":"'Set Problem'!F59","v":0},1,0]
[null,null,{"$f":"'Set Problem'!F60","v":0},1,0]
[null,null,{"$f":"'Set Problem'!F61","v":0},1,0]
[null,null,{"$f":"'Set Problem'!F62","v":0},1,0]
[null,null,{"$f":"'Set Problem'!F63","v":0},1,0]
[null,null,{"$f":"'Set Problem'!F64","v":0},1,0]
[null,null,{"$f":"'Set Problem'!F65","v":0},1,0]
[null,null,{"$f":"'Set Problem'!F66","v":0},1,0]
[null,null,{"$f":"'Set Problem'!F67","v":0},1,0]
[null,null,{"$f":"'Set Problem'!F68","v":0},1,0]
[null,null,{"$f":"'Set Problem'!F69","v":0},1,0]
[null,null,{"$f":"'Set Problem'!F70","v":0},1,0]
[null,null,{"$f":"'Set Problem'!F71","v":0},1,0]
[null,null,{"$f":"'Set Problem'!F72","v":0},1,0]
[null,null,{"$f":"'Set Problem'!F73","v":0},1,0]
[null,null,{"$f":"'Set Problem'!F74","v":0},1,0]
[null,null,{"$f":"'Set Problem'!F75","v":0},1,0]
[null,null,{"$f":"'Set Problem'!F76","v":0},1,0]
[null,null,{"$f":"'Set Problem'!F77","v":0},1,0]
[null,null,{"$f":"'Set Problem'!F78","v":0},1,0]
[null,null,{"$f":"'Set Problem'!F79","v":0},1,0]
[null,null,{"$f":"'Set Problem'!F80","v":0},1,0]
[null,null,{"$f":"'Set Problem'!F81","v":0},1,0]
[null,null,{"$f":"'Set Problem'!F82","v":0},1,0]
[null,null,{"$f":"'Set Problem'!F83","v":0},1,0]
[null,null,{"$f":"'Set Problem'!F84","v":0},1,0]
[null,null,{"$f":"'Set Problem'!F85","v":0},1,0]
[null,null,{"$f":"'Set Problem'!F86","v":0},1,0]
[null,null,{"$f":"'Set Problem'!F87","v":0},1,0]
[null,null,{"$f":"'Set Problem'!F88","v":0},1,0]
[null,null,{"$f":"'Set Problem'!F89","v":0},1,0]
[null,null,{"$f":"'Set Problem'!F90","v":0},1,0]
[null,null,{"$f":"'Set Problem'!F91","v":0},1,0]
[null,null,{"$f":"'Set Problem'!F92","v":0},1,0]
[null,null,{"$f":"'Set Problem'!F93","v":0},1,0]
[null,null,{"$f":"'Set Problem'!F94","v":0},1,0]
[null,null,{"$f":"'Set Problem'!F95","v":0},1,0]
[null,null,{"$f":"'Set Problem'!F96","v":0},1,0]
[null,null,{"$f":"'Set Problem'!F97","v":0},1,0]
[null,null,{"$f":"'Set Problem'!F98","v":0},1,0]
[null,null,{"$f":"'Set Problem'!F99","v":0},1,0]
[null,null,{"$f":"'Set Problem'!F100","v":0},1,0]
[null,null,{"$f":"'Set Problem'!F101","v":0},1,0]
[null,null,{"$f":"'Set Problem'!F102","v":0},1,0]
[null,null,{"$f":"'Set Problem'!F103","v":0},1,0]
[null,null,{"$f":"'Set Problem'!F104","v":0},1,0]
[null,null,{"$f":"'Set Problem'!F105","v":0},1,0]
[null,null,{"$f":"'Set Problem'!F106","v":0},1,0]
[null,null,{"$f":"'Set Problem'!F107","v":0},1,0]
[null,null,{"$f":"'Set Problem'!F108","v":0},1,0]
[null,null,{"$f":"'Set Problem'!F109","v":0},1,0]
[null,null,{"$f":"'Set Problem'!F110","v":0},1,0]
[null,null,{"$f":"'Set Problem'!F111","v":0},1,0]
[null,null,{"$f":"'Set Problem'!F112","v":0},1,0]
[null,null,{"$f":"'Set Problem'!F113","v":0},1,0]
[null,null,{"$f":"'Set Problem'!F114","v":0},1,0]
[null,null,{"$f":"'Set Problem'!F115","v":0},1,0]
[null,null,{"$f":"'Set Problem'!F116","v":0},1,0]
[null,null,{"$f":"'Set Problem'!F117","v":0},1,0]
[null,null,{"$f":"'Set Problem'!F118","v":0},1,0]
[null,null,{"$f":"'Set Problem'!F119","v":0},1,0]
[null,null,{"$f":"'Set Problem'!F120","v":0},1,0]
[null,null,{"$f":"'Set Problem'!F121","v":0},1,0]
[null,null,{"$f":"'Set Problem'!F122","v":0},1,0]
[null,null,{"$f":"'Set Problem'!F123","v":0},1,0]
[null,null,{"$f":"'Set Problem'!F124","v":0},1,0]
[null,null,{"$f":"'Set Problem'!F125","v":0},1,0]

{"sheet":"New Direct Solution","index":14,"n_rows":125,"n_cols":7,"rows_kept":125,"cut":false,"hidden":false,"merged":[[7,1,7,3],[7,5,7,6],[8,1,8,2],[1,1,2,6]]}
[]
[null,"New Direct Solution"]
[]
[]
[]
[]
[]
[null,"Solution on S",null,null,null,"Solution in D"]
[null,"Number of panels",null,{"$f":"'Set Problem'!H9","v":32},null,"Number of points",{"$f":"'Set Problem'!R9","v":5}]
[null,"index","phi_S","vel_S",null,"index","phi_D"]
[null,{"$f":"'Set Problem'!B11","v":1},20,10.504019917673677,null,{"$f":"'Set Problem'!X11","v":1},17.504324160921676]
[null,{"$f":"'Set Problem'!B12","v":2},20,9.8287729476523538,null,{"$f":"'Set Problem'!X12","v":2},12.495675883227706]
[null,{"$f":"'Set Problem'!B13","v":3},20,9.9562515397377513,null,{"$f":"'Set Problem'!X13","v":3},17.504324160921701]
[null,{"$f":"'Set Problem'!B14","v":4},20,9.9686644711953463,null,{"$f":"'Set Problem'!X14","v":4},12.495675883227708]
[null,{"$f":"'Set Problem'!B15","v":5},20,9.9686644711953214,null,{"$f":"'Set Problem'!X15","v":5},15.000000020765048]
[null,{"$f":"'Set Problem'!B16","v":6},20]
[null,{"$f":"'Set Problem'!B17","v":7},20,9.8287729476524657]
[null,{"$f":"'Set Problem'!B18","v":8},20,10.504019917674009]
[null,{"$f":"'Set Problem'!B19","v":9},19.409642777355476,0]
[null,{"$f":"'Set Problem'!B20","v":10},18.143966768794385,0]
[null,{"$f":"'Set Problem'!B21","v":11},16.884979685008513,0]
[null,{"$f":"'Set Problem'!B22","v":12},15.628149628814647,0]
[null,{"$f":"'Set Problem'!B23","v":13},14.37185043751993,0]
[null,{"$f":"'Set Problem'!B24","v":14},13.115020390708715,0]
[null,{"$f":"'Set Problem'!B25","v":15},11.85603333295613,0]
[null,{"$f":"'Set Problem'!B26","v":16},10.590357113176038,0]
[null,{"$f":"'Set Problem'!B27","v":17},10,-10.504016744643152]
[null,{"$f":"'Set Problem'!B28","v":18},10,-9.8287744500709362]
[null,{"$f":"'Set Problem'!B29","v":19},10,-9.9562517708042666]
[null,{"$f":"'Set Problem'!B30","v":20},10,-9.9686646507906325]
[null,{"$f":"'Set Problem'!B31","v":21},10,-9.9686646507905934]
[null,{"$f":"'Set Problem'!B32","v":22},10,-9.9562517708042311]
[null,{"$f":"'Set Problem'!B33","v":23},10,-9.8287744500708829]
[null,{"$f":"'Set Problem'!B34","v":24},10,-10.504016744642637]
[null,{"$f":"'Set Problem'!B35","v":25},10.590357113176134,0]
[null,{"$f":"'Set Problem'!B36","v":26},11.856033332956182,0]
[null,{"$f":"'Set Problem'!B37","v":27},13.115020390708731,0]
[null,{"$f":"'Set Problem'!B38","v":28},14.371850437519939,0]
[null,{"$f":"'Set Problem'!B39","v":29},15.628149628814631,0]
[null,{"$f":"'Set Problem'!B40","v":30},16.884979685008478,0]
[null,{"$f":"'Set Problem'!B41","v":31},18.143966768794286,0]
[null,{"$f":"'Set Problem'!B42","v":32},19.409642777355284,0]
[null,{"$f":"'Set Problem'!B43","v":0}]
[null,{"$f":"'Set Problem'!B44","v":0}]
[null,{"$f":"'Set Problem'!B45","v":0}]
[null,{"$f":"'Set Problem'!B46","v":0}]
[null,{"$f":"'Set Problem'!B47","v":0}]
[null,{"$f":"'Set Problem'!B48","v":0}]
[null,{"$f":"'Set Problem'!B49","v":0}]
[null,{"$f":"'Set Problem'!B50","v":0}]
[null,{"$f":"'Set Problem'!B51","v":0}]
[null,{"$f":"'Set Problem'!B52","v":0}]
[null,{"$f":"'Set Problem'!B53","v":0}]
[null,{"$f":"'Set Problem'!B54","v":0}]
[null,{"$f":"'Set Problem'!B55","v":0}]
[null,{"$f":"'Set Problem'!B56","v":0}]
[null,{"$f":"'Set Problem'!B57","v":0}]
[null,{"$f":"'Set Problem'!B58","v":0}]
[null,{"$f":"'Set Problem'!B59","v":0}]
[null,{"$f":"'Set Problem'!B60","v":0}]
[null,{"$f":"'Set Problem'!B61","v":0}]
[null,{"$f":"'Set Problem'!B62","v":0}]
[null,{"$f":"'Set Problem'!B63","v":0}]
[null,{"$f":"'Set Problem'!B64","v":0}]
[null,{"$f":"'Set Problem'!B65","v":0}]
[null,{"$f":"'Set Problem'!B66","v":0}]
[null,{"$f":"'Set Problem'!B67","v":0}]
[null,{"$f":"'Set Problem'!B68","v":0}]
[null,{"$f":"'Set Problem'!B69","v":0}]
[null,{"$f":"'Set Problem'!B70","v":0}]
[null,{"$f":"'Set Problem'!B71","v":0}]
[null,{"$f":"'Set Problem'!B72","v":0}]
[null,{"$f":"'Set Problem'!B73","v":0}]
[null,{"$f":"'Set Problem'!B74","v":0}]
[null,{"$f":"'Set Problem'!B75","v":0}]
[null,{"$f":"'Set Problem'!B76","v":0}]
[null,{"$f":"'Set Problem'!B77","v":0}]
[null,{"$f":"'Set Problem'!B78","v":0}]
[null,{"$f":"'Set Problem'!B79","v":0}]
[null,{"$f":"'Set Problem'!B80","v":0}]
[null,{"$f":"'Set Problem'!B81","v":0}]
[null,{"$f":"'Set Problem'!B82","v":0}]
[null,{"$f":"'Set Problem'!B83","v":0}]
[null,{"$f":"'Set Problem'!B84","v":0}]
[null,{"$f":"'Set Problem'!B85","v":0}]
[null,{"$f":"'Set Problem'!B86","v":0}]
[null,{"$f":"'Set Problem'!B87","v":0}]
[null,{"$f":"'Set Problem'!B88","v":0}]
[null,{"$f":"'Set Problem'!B89","v":0}]
[null,{"$f":"'Set Problem'!B90","v":0}]
[null,{"$f":"'Set Problem'!B91","v":0}]
[null,{"$f":"'Set Problem'!B92","v":0}]
[null,{"$f":"'Set Problem'!B93","v":0}]
[null,{"$f":"'Set Problem'!B94","v":0}]
[null,{"$f":"'Set Problem'!B95","v":0}]
[null,{"$f":"'Set Problem'!B96","v":0}]
[null,{"$f":"'Set Problem'!B97","v":0}]
[null,{"$f":"'Set Problem'!B98","v":0}]
[null,{"$f":"'Set Problem'!B99","v":0}]
[null,{"$f":"'Set Problem'!B100","v":0}]
[null,{"$f":"'Set Problem'!B101","v":0}]
[null,{"$f":"'Set Problem'!B102","v":0}]
[null,{"$f":"'Set Problem'!B103","v":0}]
[null,{"$f":"'Set Problem'!B104","v":0}]
[null,{"$f":"'Set Problem'!B105","v":0}]
[null,{"$f":"'Set Problem'!B106","v":0}]
[null,{"$f":"'Set Problem'!B107","v":0}]
[null,{"$f":"'Set Problem'!B108","v":0}]
[null,{"$f":"'Set Problem'!B109","v":0}]
[null,{"$f":"'Set Problem'!B110","v":0}]
[null,{"$f":"'Set Problem'!B111","v":0}]
[null,{"$f":"'Set Problem'!B112","v":0}]
[null,{"$f":"'Set Problem'!B113","v":0}]
[null,{"$f":"'Set Problem'!B114","v":0}]
[null,{"$f":"'Set Problem'!B115","v":0}]
[null,{"$f":"'Set Problem'!B116","v":0}]
[null,{"$f":"'Set Problem'!B117","v":0}]
[null,{"$f":"'Set Problem'!B118","v":0}]
[null,{"$f":"'Set Problem'!B119","v":0}]
[null,{"$f":"'Set Problem'!B120","v":0}]
[null,{"$f":"'Set Problem'!B121","v":0}]
[null,{"$f":"'Set Problem'!B122","v":0}]
[null,{"$f":"'Set Problem'!B123","v":0}]
[null,{"$f":"'Set Problem'!B124","v":0}]
[null,{"$f":"'Set Problem'!B125","v":0}]

{"sheet":"New Indirect Solution","index":15,"n_rows":125,"n_cols":7,"rows_kept":125,"cut":false,"hidden":false,"merged":[[1,1,2,6],[7,1,7,3],[7,5,7,6],[8,1,8,2]]}
[]
[null,"New Indirect Solution"]
[]
[]
[]
[]
[]
[null,"Solution on S",null,null,null,"Solution in D"]
[null,"Number of panels",null,{"$f":"'Set Problem'!H9","v":32},null,"Number of points",{"$f":"'Set Problem'!R9","v":5}]
[null,"index","phi_S","vel_S",null,"index","phi_D"]
[null,{"$f":"'Set Problem'!B11","v":1},20,null,null,{"$f":"'Set Problem'!X11","v":1},17.504324160921676]
[null,{"$f":"'Set Problem'!B12","v":2},20,9.8287729476523538,null,{"$f":"'Set Problem'!X12","v":2},12.495675883227706]
[null,{"$f":"'Set Problem'!B13","v":3},20,9.9562515397377513,null,{"$f":"'Set Problem'!X13","v":3},17.504324160921701]
[null,{"$f":"'Set Problem'!B14","v":4},20,9.9686644711953463,null,{"$f":"'Set Problem'!X14","v":4},12.495675883227708]
[null,{"$f":"'Set Problem'!B15","v":5},20,9.9686644711953214,null,{"$f":"'Set Problem'!X15","v":5},15.000000020765048]
[null,{"$f":"'Set Problem'!B16","v":6},20,9.9562515397376732]
[null,{"$f":"'Set Problem'!B17","v":7},20,9.8287729476524657]
[null,{"$f":"'Set Problem'!B18","v":8},20,10.504019917674009]
[null,{"$f":"'Set Problem'!B19","v":9},19.409642777355476,0]
[null,{"$f":"'Set Problem'!B20","v":10},18.143966768794385,0]
[null,{"$f":"'Set Problem'!B21","v":11},16.884979685008513,0]
[null,{"$f":"'Set Problem'!B22","v":12},15.628149628814647,0]
[null,{"$f":"'Set Problem'!B23","v":13},14.37185043751993,0]
[null,{"$f":"'Set Problem'!B24","v":14},13.115020390708715,0]
[null,{"$f":"'Set Problem'!B25","v":15},11.85603333295613,0]
[null,{"$f":"'Set Problem'!B26","v":16},10.590357113176038,0]
[null,{"$f":"'Set Problem'!B27","v":17},10,-10.504016744643152]
[null,{"$f":"'Set Problem'!B28","v":18},10,-9.8287744500709362]
[null,{"$f":"'Set Problem'!B29","v":19},10,-9.9562517708042666]
[null,{"$f":"'Set Problem'!B30","v":20},10,-9.9686646507906325]
[null,{"$f":"'Set Problem'!B31","v":21},10,-9.9686646507905934]
[null,{"$f":"'Set Problem'!B32","v":22},10,-9.9562517708042311]
[null,{"$f":"'Set Problem'!B33","v":23},10,-9.8287744500708829]
[null,{"$f":"'Set Problem'!B34","v":24},10,-10.504016744642637]
[null,{"$f":"'Set Problem'!B35","v":25},10.590357113176134,0]
[null,{"$f":"'Set Problem'!B36","v":26},11.856033332956182,0]
[null,{"$f":"'Set Problem'!B37","v":27},13.115020390708731,0]
[null,{"$f":"'Set Problem'!B38","v":28},14.371850437519939,0]
[null,{"$f":"'Set Problem'!B39","v":29},15.628149628814631,0]
[null,{"$f":"'Set Problem'!B40","v":30},16.884979685008478,0]
[null,{"$f":"'Set Problem'!B41","v":31},18.143966768794286,0]
[null,{"$f":"'Set Problem'!B42","v":32},19.409642777355284,0]
[null,{"$f":"'Set Problem'!B43","v":0}]
[null,{"$f":"'Set Problem'!B44","v":0}]
[null,{"$f":"'Set Problem'!B45","v":0}]
[null,{"$f":"'Set Problem'!B46","v":0}]
[null,{"$f":"'Set Problem'!B47","v":0}]
[null,{"$f":"'Set Problem'!B48","v":0}]
[null,{"$f":"'Set Problem'!B49","v":0}]
[null,{"$f":"'Set Problem'!B50","v":0}]
[null,{"$f":"'Set Problem'!B51","v":0}]
[null,{"$f":"'Set Problem'!B52","v":0}]
[null,{"$f":"'Set Problem'!B53","v":0}]
[null,{"$f":"'Set Problem'!B54","v":0}]
[null,{"$f":"'Set Problem'!B55","v":0}]
[null,{"$f":"'Set Problem'!B56","v":0}]
[null,{"$f":"'Set Problem'!B57","v":0}]
[null,{"$f":"'Set Problem'!B58","v":0}]
[null,{"$f":"'Set Problem'!B59","v":0}]
[null,{"$f":"'Set Problem'!B60","v":0}]
[null,{"$f":"'Set Problem'!B61","v":0}]
[null,{"$f":"'Set Problem'!B62","v":0}]
[null,{"$f":"'Set Problem'!B63","v":0}]
[null,{"$f":"'Set Problem'!B64","v":0}]
[null,{"$f":"'Set Problem'!B65","v":0}]
[null,{"$f":"'Set Problem'!B66","v":0}]
[null,{"$f":"'Set Problem'!B67","v":0}]
[null,{"$f":"'Set Problem'!B68","v":0}]
[null,{"$f":"'Set Problem'!B69","v":0}]
[null,{"$f":"'Set Problem'!B70","v":0}]
[null,{"$f":"'Set Problem'!B71","v":0}]
[null,{"$f":"'Set Problem'!B72","v":0}]
[null,{"$f":"'Set Problem'!B73","v":0}]
[null,{"$f":"'Set Problem'!B74","v":0}]
[null,{"$f":"'Set Problem'!B75","v":0}]
[null,{"$f":"'Set Problem'!B76","v":0}]
[null,{"$f":"'Set Problem'!B77","v":0}]
[null,{"$f":"'Set Problem'!B78","v":0}]
[null,{"$f":"'Set Problem'!B79","v":0}]
[null,{"$f":"'Set Problem'!B80","v":0}]
[null,{"$f":"'Set Problem'!B81","v":0}]
[null,{"$f":"'Set Problem'!B82","v":0}]
[null,{"$f":"'Set Problem'!B83","v":0}]
[null,{"$f":"'Set Problem'!B84","v":0}]
[null,{"$f":"'Set Problem'!B85","v":0}]
[null,{"$f":"'Set Problem'!B86","v":0}]
[null,{"$f":"'Set Problem'!B87","v":0}]
[null,{"$f":"'Set Problem'!B88","v":0}]
[null,{"$f":"'Set Problem'!B89","v":0}]
[null,{"$f":"'Set Problem'!B90","v":0}]
[null,{"$f":"'Set Problem'!B91","v":0}]
[null,{"$f":"'Set Problem'!B92","v":0}]
[null,{"$f":"'Set Problem'!B93","v":0}]
[null,{"$f":"'Set Problem'!B94","v":0}]
[null,{"$f":"'Set Problem'!B95","v":0}]
[null,{"$f":"'Set Problem'!B96","v":0}]
[null,{"$f":"'Set Problem'!B97","v":0}]
[null,{"$f":"'Set Problem'!B98","v":0}]
[null,{"$f":"'Set Problem'!B99","v":0}]
[null,{"$f":"'Set Problem'!B100","v":0}]
[null,{"$f":"'Set Problem'!B101","v":0}]
[null,{"$f":"'Set Problem'!B102","v":0}]
[null,{"$f":"'Set Problem'!B103","v":0}]
[null,{"$f":"'Set Problem'!B104","v":0}]
[null,{"$f":"'Set Problem'!B105","v":0}]
[null,{"$f":"'Set Problem'!B106","v":0}]
[null,{"$f":"'Set Problem'!B107","v":0}]
[null,{"$f":"'Set Problem'!B108","v":0}]
[null,{"$f":"'Set Problem'!B109","v":0}]
[null,{"$f":"'Set Problem'!B110","v":0}]
[null,{"$f":"'Set Problem'!B111","v":0}]
[null,{"$f":"'Set Problem'!B112","v":0}]
[null,{"$f":"'Set Problem'!B113","v":0}]
[null,{"$f":"'Set Problem'!B114","v":0}]
[null,{"$f":"'Set Problem'!B115","v":0}]
[null,{"$f":"'Set Problem'!B116","v":0}]
[null,{"$f":"'Set Problem'!B117","v":0}]
[null,{"$f":"'Set Problem'!B118","v":0}]
[null,{"$f":"'Set Problem'!B119","v":0}]
[null,{"$f":"'Set Problem'!B120","v":0}]
[null,{"$f":"'Set Problem'!B121","v":0}]
[null,{"$f":"'Set Problem'!B122","v":0}]
[null,{"$f":"'Set Problem'!B123","v":0}]
[null,{"$f":"'Set Problem'!B124","v":0}]
[null,{"$f":"'Set Problem'!B125","v":0}]